BEGIN:VCALENDAR
VERSION:2.0
PRODID:-//Centre Social du Plateau de Montbazens - ECPv6.15.20//NONSGML v1.0//EN
CALSCALE:GREGORIAN
METHOD:PUBLISH
X-WR-CALNAME:Centre Social du Plateau de Montbazens
X-ORIGINAL-URL:https://www.centresocial-montbazens.fr
X-WR-CALDESC:Évènements pour Centre Social du Plateau de Montbazens
REFRESH-INTERVAL;VALUE=DURATION:PT1H
X-Robots-Tag:noindex
X-PUBLISHED-TTL:PT1H
BEGIN:VTIMEZONE
TZID:Europe/Paris
BEGIN:DAYLIGHT
TZOFFSETFROM:+0100
TZOFFSETTO:+0200
TZNAME:CEST
DTSTART:20250330T010000
END:DAYLIGHT
BEGIN:STANDARD
TZOFFSETFROM:+0200
TZOFFSETTO:+0100
TZNAME:CET
DTSTART:20251026T010000
END:STANDARD
BEGIN:DAYLIGHT
TZOFFSETFROM:+0100
TZOFFSETTO:+0200
TZNAME:CEST
DTSTART:20260329T010000
END:DAYLIGHT
BEGIN:STANDARD
TZOFFSETFROM:+0200
TZOFFSETTO:+0100
TZNAME:CET
DTSTART:20261025T010000
END:STANDARD
BEGIN:DAYLIGHT
TZOFFSETFROM:+0100
TZOFFSETTO:+0200
TZNAME:CEST
DTSTART:20270328T010000
END:DAYLIGHT
BEGIN:STANDARD
TZOFFSETFROM:+0200
TZOFFSETTO:+0100
TZNAME:CET
DTSTART:20271031T010000
END:STANDARD
END:VTIMEZONE
BEGIN:VEVENT
DTSTART;VALUE=DATE:20260501
DTEND;VALUE=DATE:20260502
DTSTAMP:20260421T105937
CREATED:20260311T081934Z
LAST-MODIFIED:20260311T081934Z
UID:13878-1777593600-1777679999@www.centresocial-montbazens.fr
SUMMARY:Soirée Jeux
DESCRIPTION:Réservez votre soirée pour une 𝐒𝐨𝐢𝐫𝐞́𝐞 𝐉𝐞𝐮𝐱 𝐚𝐮 𝐂𝐒𝐏𝐌 !!!\n\n\nRendez-vous à partir de 19h avec l’association « 𝐉𝐞𝐮𝐱 𝐕𝐚𝐝𝐫𝐨𝐮𝐢𝐥𝐥𝐞𝐧𝐭 » !\n\n\nVenez partager un bon moment autour de jeux de société variés ! 𝐒𝐞𝐮𝐥\, 𝐞𝐧𝐭𝐫𝐞 𝐚𝐦𝐢𝐬 𝐨𝐮 𝐞𝐧 𝐟𝐚𝐦𝐢𝐥𝐥𝐞… 𝐕𝐨𝐮𝐬 𝐞̂𝐭𝐞𝐬 𝐥𝐞𝐬 𝐁𝐢𝐞𝐧𝐯𝐞𝐧𝐮𝐬  !\nLes règles pourront vous être expliquées !\n\n\nTous les 1ers vendredis du mois au Centre Social à Montbazens…\n\n\n Gratuit.\n Auberge espagnole
URL:https://www.centresocial-montbazens.fr/actualite/soiree-jeux-12/
LOCATION:Centre Social du Plateau de Montbazens\, 16 Chemin du Tournevic\, Montbazens\, 12220\, France
CATEGORIES:Animations pour Tous
ATTACH;FMTTYPE=image/jpeg:https://www.centresocial-montbazens.fr/wp-content/uploads/2026/03/Soiree-JV-Mai-26.jpg
ORGANIZER;CN="CSPM":MAILTO:contact@centresocial-montbazens.fr
END:VEVENT
BEGIN:VEVENT
DTSTART;VALUE=DATE:20260504
DTEND;VALUE=DATE:20260505
DTSTAMP:20260421T105937
CREATED:20260118T104630Z
LAST-MODIFIED:20260118T104630Z
UID:13562-1777852800-1777939199@www.centresocial-montbazens.fr
SUMMARY:Café Fils & Bobines
DESCRIPTION:Nouveau rendez-vous à destination des adeptes (débutant.e.s ou confirmé.e.s) de travaux de fils et d’aiguilles : couture\, tricot\, crochet\, broderie… !\n\n\n \n\n\nRejoignez le 🧵Café 🪡 Fils & Bobines 🧶et prenez part à ces temps d’échange de savoirs pour avancer sur vos projets\, glaner trucs et astuces auprès des autres participant.e.s\, partager un temps convivial et créer du lien 😊 !\n\n\n \n\n\nZéro contrainte : vous venez en fonction de vos disponibilités\, arrivez quand vous le pouvez et repartez quand vous le souhaitez 😉 !\n\n\n \n\n\n📍 au Centre Social\n\n\n🕖 à partir de 17h et jusqu’à 19h\n\n\n👛 Accès libre et gratuit pour les adhérente.s au Centre Social (16€ habitants de la Communauté de Communes du Plateau de Montbazens – 19€ hors CCPM valable du 01/09/2025 au 31/08/2026)\n\n\n☎️ Infos et inscriptions au Centre Social – 05 65 80 45 47
URL:https://www.centresocial-montbazens.fr/actualite/cafe-fils-bobines-10/
LOCATION:Centre Social du Plateau de Montbazens\, 16 Chemin du Tournevic\, Montbazens\, 12220\, France
CATEGORIES:Pôle Activités
ATTACH;FMTTYPE=image/png:https://www.centresocial-montbazens.fr/wp-content/uploads/2026/01/Cafe-Fils-Bobines.png
ORGANIZER;CN="CSPM":MAILTO:contact@centresocial-montbazens.fr
END:VEVENT
BEGIN:VEVENT
DTSTART;VALUE=DATE:20260507
DTEND;VALUE=DATE:20260508
DTSTAMP:20260421T105937
CREATED:20251031T064952Z
LAST-MODIFIED:20260319T090612Z
UID:12940-1778112000-1778198399@www.centresocial-montbazens.fr
SUMMARY:Café Numérique
DESCRIPTION:On se retrouve Jeudi au Centre Social 😀 ! \nTous les 15 jours\, selon calendrier pré-établi\, le Centre Social vous propose un rendez-vous d’échanges de savoirs : « 𝐋𝐞 𝐂𝐚𝐟𝐞́ 𝐍𝐮𝐦𝐞́𝐫𝐢𝐪𝐮𝐞 » ! \n𝐕𝐞𝐧𝐞𝐳 𝐚𝐯𝐞𝐜 𝐨𝐮 𝐬𝐚𝐧𝐬 𝐯𝐨𝐭𝐫𝐞 𝐏𝐂 𝐞𝐭 𝐨𝐮 𝐬𝐦𝐚𝐫𝐭𝐩𝐡𝐨𝐧𝐞 / 𝐭𝐚𝐛𝐥𝐞𝐭𝐭𝐞 𝐩𝐚𝐫𝐭𝐚𝐠𝐞𝐫\, 𝐪𝐮𝐞𝐬𝐭𝐢𝐨𝐧𝐧𝐞𝐫 𝐞𝐭 𝐚𝐩𝐩𝐫𝐞𝐧𝐝𝐫𝐞 𝐝𝐚𝐧𝐬 𝐮𝐧𝐞 𝐚𝐦𝐛𝐢𝐚𝐧𝐜𝐞 𝐜𝐨𝐧𝐯𝐢𝐯𝐢𝐚𝐥𝐞 ! \n* vous vous interrogez sur le fonctionnement d’une application particulière ou d’un logiciel\,\n* vous aimeriez être plus à l’aise avec l’outil informatique\, Internet …\n* vous cherchez des trucs et astuces pour être plus efficace face à votre écran …? \net / ou \nVous avez des connaissances – même basiques – dans les domaines de l’𝐢𝐧𝐟𝐨𝐫𝐦𝐚𝐭𝐢𝐪𝐮𝐞 𝐞𝐭 𝐝𝐞𝐬 𝐧𝐨𝐮𝐯𝐞𝐥𝐥𝐞𝐬 𝐭𝐞𝐜𝐡𝐧𝐨𝐥𝐨𝐠𝐢𝐞𝐬 ? \nVous savez :\n* envoyer un mail ou naviguer sur Internet ?\n* utiliser un outil de traitement de texte ou un tableur ?\n* partager des photos à partir de votre téléphone ?\n* remplir un formulaire en ligne ?\n* utiliser les applications permettant le lien avec l’établissement scolaire de votre enfant ?\n* …etc… \n𝐔𝐧 𝐦𝐚𝐢̂𝐭𝐫𝐞-𝐦𝐨𝐭 : 𝐏𝐀𝐑𝐓𝐀𝐆𝐄 ! \nNous avons toutes et tous des choses à apprendre les uns des autres et il n’y a pas de « petit savoir »\, toute connaissance et toute expérience sont bonnes à échanger ! \n\nN’hésitez pas à en parler autour de vous et à venir avec un ou plusieurs amis. Plus nous serons nombreux\, plus nos échanges seront fructueux !\n\n\n\nCes rendez-vous sont gratuits pour les adhérents au Centre Social (adhésion familiale 24-25 : 16€ pour les habitants du Plateau de Montbazens ou 19€ si vous résidez hors Communauté de Communes).\n\n\nA très vite donc au Centre Social ! \nInformation complémentaire au 05.65.80.45.47
URL:https://www.centresocial-montbazens.fr/actualite/cafe-numerique-53/
LOCATION:Centre Social du Plateau de Montbazens\, 16 Chemin du Tournevic\, Montbazens\, 12220\, France
CATEGORIES:Animations pour Tous
ATTACH;FMTTYPE=image/jpeg:https://www.centresocial-montbazens.fr/wp-content/uploads/2025/10/cn25.jpg
ORGANIZER;CN="CSPM":MAILTO:contact@centresocial-montbazens.fr
END:VEVENT
BEGIN:VEVENT
DTSTART;VALUE=DATE:20260518
DTEND;VALUE=DATE:20260519
DTSTAMP:20260421T105937
CREATED:20260118T104639Z
LAST-MODIFIED:20260118T104639Z
UID:13560-1779062400-1779148799@www.centresocial-montbazens.fr
SUMMARY:Café Fils & Bobines
DESCRIPTION:Nouveau rendez-vous à destination des adeptes (débutant.e.s ou confirmé.e.s) de travaux de fils et d’aiguilles : couture\, tricot\, crochet\, broderie… !\n\n\n \n\n\nRejoignez le 🧵Café 🪡 Fils & Bobines 🧶et prenez part à ces temps d’échange de savoirs pour avancer sur vos projets\, glaner trucs et astuces auprès des autres participant.e.s\, partager un temps convivial et créer du lien 😊 !\n\n\n \n\n\nZéro contrainte : vous venez en fonction de vos disponibilités\, arrivez quand vous le pouvez et repartez quand vous le souhaitez 😉 !\n\n\n \n\n\n📍 au Centre Social\n\n\n🕖 à partir de 17h et jusqu’à 19h\n\n\n👛 Accès libre et gratuit pour les adhérente.s au Centre Social (16€ habitants de la Communauté de Communes du Plateau de Montbazens – 19€ hors CCPM valable du 01/09/2025 au 31/08/2026)\n\n\n☎️ Infos et inscriptions au Centre Social – 05 65 80 45 47
URL:https://www.centresocial-montbazens.fr/actualite/cafe-fils-bobines-11/
LOCATION:Centre Social du Plateau de Montbazens\, 16 Chemin du Tournevic\, Montbazens\, 12220\, France
CATEGORIES:Pôle Activités
ATTACH;FMTTYPE=image/png:https://www.centresocial-montbazens.fr/wp-content/uploads/2026/01/Cafe-Fils-Bobines.png
ORGANIZER;CN="CSPM":MAILTO:contact@centresocial-montbazens.fr
END:VEVENT
BEGIN:VEVENT
DTSTART;VALUE=DATE:20260522
DTEND;VALUE=DATE:20260523
DTSTAMP:20260421T105937
CREATED:20260311T092509Z
LAST-MODIFIED:20260311T092509Z
UID:13893-1779408000-1779494399@www.centresocial-montbazens.fr
SUMMARY:Atelier Parent "la Psychomotricité du tout-petit"
DESCRIPTION:A l’attention des Futurs parents\, Parents\, Grands-Parents avec ou sans enfants de 0 à 2 ans ! \nRetrouvez-nous le Vendredi 22 Mai de 9h30 à 11h30 pour un Atelier Parents : Temps d’échanges et de partage autour de la Psychomotricité du tout-petit avec Juliette Le Gall (Psychomotricienne & monitrice de portage). \n📍 Salle Ségala au Centre Social à Montbazens\n⏰ de 9h30 à 11h30\n👛 Gratuit/famille adhérente\, 5€/famille non adhérente\n☎️ Infos et Inscriptions au CSPM – 05 65 80 45 47
URL:https://www.centresocial-montbazens.fr/actualite/atelier-parent-la-psychomotricite-du-tout-petit/
LOCATION:Centre Social du Plateau de Montbazens\, 16 Chemin du Tournevic\, Montbazens\, 12220\, France
CATEGORIES:Pôle Famille
ATTACH;FMTTYPE=image/png:https://www.centresocial-montbazens.fr/wp-content/uploads/2026/03/Atelier-Psychomotricite-Mai-2026.png
ORGANIZER;CN="CSPM":MAILTO:contact@centresocial-montbazens.fr
END:VEVENT
BEGIN:VEVENT
DTSTART;VALUE=DATE:20260525
DTEND;VALUE=DATE:20260526
DTSTAMP:20260421T105937
CREATED:20260118T104706Z
LAST-MODIFIED:20260118T104706Z
UID:13561-1779667200-1779753599@www.centresocial-montbazens.fr
SUMMARY:Café Fils & Bobines
DESCRIPTION:Nouveau rendez-vous à destination des adeptes (débutant.e.s ou confirmé.e.s) de travaux de fils et d’aiguilles : couture\, tricot\, crochet\, broderie… !\n\n\n \n\n\nRejoignez le 🧵Café 🪡 Fils & Bobines 🧶et prenez part à ces temps d’échange de savoirs pour avancer sur vos projets\, glaner trucs et astuces auprès des autres participant.e.s\, partager un temps convivial et créer du lien 😊 !\n\n\n \n\n\nZéro contrainte : vous venez en fonction de vos disponibilités\, arrivez quand vous le pouvez et repartez quand vous le souhaitez 😉 !\n\n\n \n\n\n📍 au Centre Social\n\n\n🕖 à partir de 17h et jusqu’à 19h\n\n\n👛 Accès libre et gratuit pour les adhérente.s au Centre Social (16€ habitants de la Communauté de Communes du Plateau de Montbazens – 19€ hors CCPM valable du 01/09/2025 au 31/08/2026)\n\n\n☎️ Infos et inscriptions au Centre Social – 05 65 80 45 47
URL:https://www.centresocial-montbazens.fr/actualite/cafe-fils-bobines-12/
LOCATION:Centre Social du Plateau de Montbazens\, 16 Chemin du Tournevic\, Montbazens\, 12220\, France
CATEGORIES:Pôle Activités
ATTACH;FMTTYPE=image/png:https://www.centresocial-montbazens.fr/wp-content/uploads/2026/01/Cafe-Fils-Bobines.png
ORGANIZER;CN="CSPM":MAILTO:contact@centresocial-montbazens.fr
END:VEVENT
BEGIN:VEVENT
DTSTART;VALUE=DATE:20260527
DTEND;VALUE=DATE:20260528
DTSTAMP:20260421T105937
CREATED:20260311T102043Z
LAST-MODIFIED:20260311T102043Z
UID:13896-1779840000-1779926399@www.centresocial-montbazens.fr
SUMMARY:Souffler pour Mieux Respirer la Parentalité
DESCRIPTION:Si vous vous accordiez une petite d’une Pause Parentale avec Maëlle Chevallier 😉? \nCe Mercredi 27 Mai\, Maëlle vous donne rendez-vous pour une séance « 𝐒𝐨𝐮𝐟𝐟𝐥𝐞𝐫 𝐩𝐨𝐮𝐫 𝐦𝐢𝐞𝐮𝐱 𝐫𝐞𝐬𝐩𝐢𝐫𝐞𝐫 𝐥𝐚 𝐏𝐚𝐫𝐞𝐧𝐭𝐚𝐥𝐢𝐭𝐞́ » et il reste des places 😀! \nLibérez-vous de la charge mentale en quelques respirations – Retrouvez calme et énergie pour vous et vos enfants – Repartez avec des clés pratiques pour alléger le mental\, cultiver la sérénité et les utiliser en famille. \nPlaces limitées : 15 personnes maximum ! \n🕖 De 14h à 16h\n👛 Tarifs : Participation Libre\n☎️ Inscriptions obligatoires au Centre Social – 05 65 80 45 47
URL:https://www.centresocial-montbazens.fr/actualite/souffler-pour-mieux-respirer-la-parentalite-2/
LOCATION:Centre Social du Plateau de Montbazens\, 16 Chemin du Tournevic\, Montbazens\, 12220\, France
CATEGORIES:Pôle Famille
ATTACH;FMTTYPE=image/png:https://www.centresocial-montbazens.fr/wp-content/uploads/2026/03/PP-Hypnose-Mai-2026.png
ORGANIZER;CN="CSPM":MAILTO:contact@centresocial-montbazens.fr
END:VEVENT
BEGIN:VEVENT
DTSTART;VALUE=DATE:20260527
DTEND;VALUE=DATE:20260528
DTSTAMP:20260421T105937
CREATED:20260403T135300Z
LAST-MODIFIED:20260403T135733Z
UID:14014-1779840000-1779926399@www.centresocial-montbazens.fr
SUMMARY:Cycle Nature Parents-Enfants Découverte de la Rivière et de la Pêche
DESCRIPTION:Le pôle Famille vous donne rendez-vous pour un Cycle Nature Parents-Enfants « Découverte de la Rivière et de la Pêche » avec Romain Gabriel – Animateur Pêche et Nature \n\nA destination des Enfants de 6 ans et + accompagnés de leurs Parents ou Grands-Parents.\n\n\n RDV à Prévinquières\n Mercredi 27 Mai de 15h à 17h30\n Tarifs Cycle de 2 séances : Gratuit pour les adhérents au CSPM – 15€/enfant non adhérent\n Infos et Inscriptions auprès du Centre Social – 05 65 80 45 47
URL:https://www.centresocial-montbazens.fr/actualite/cycle-nature-parents-enfants-decouverte-de-la-riviere-et-de-la-peche/
LOCATION:Prévinquières\, Prévinquières\, 12350\, France
CATEGORIES:Pôle Famille
ATTACH;FMTTYPE=image/png:https://www.centresocial-montbazens.fr/wp-content/uploads/2026/04/wsXcSx1vIemIdbxF.png
ORGANIZER;CN="CSPM":MAILTO:contact@centresocial-montbazens.fr
END:VEVENT
BEGIN:VEVENT
DTSTART;VALUE=DATE:20260528
DTEND;VALUE=DATE:20260529
DTSTAMP:20260421T105937
CREATED:20251031T065015Z
LAST-MODIFIED:20260319T090622Z
UID:12937-1779926400-1780012799@www.centresocial-montbazens.fr
SUMMARY:Café Numérique
DESCRIPTION:On se retrouve Jeudi au Centre Social 😀 ! \nTous les 15 jours\, selon calendrier pré-établi\, le Centre Social vous propose un rendez-vous d’échanges de savoirs : « 𝐋𝐞 𝐂𝐚𝐟𝐞́ 𝐍𝐮𝐦𝐞́𝐫𝐢𝐪𝐮𝐞 » ! \n𝐕𝐞𝐧𝐞𝐳 𝐚𝐯𝐞𝐜 𝐨𝐮 𝐬𝐚𝐧𝐬 𝐯𝐨𝐭𝐫𝐞 𝐏𝐂 𝐞𝐭 𝐨𝐮 𝐬𝐦𝐚𝐫𝐭𝐩𝐡𝐨𝐧𝐞 / 𝐭𝐚𝐛𝐥𝐞𝐭𝐭𝐞 𝐩𝐚𝐫𝐭𝐚𝐠𝐞𝐫\, 𝐪𝐮𝐞𝐬𝐭𝐢𝐨𝐧𝐧𝐞𝐫 𝐞𝐭 𝐚𝐩𝐩𝐫𝐞𝐧𝐝𝐫𝐞 𝐝𝐚𝐧𝐬 𝐮𝐧𝐞 𝐚𝐦𝐛𝐢𝐚𝐧𝐜𝐞 𝐜𝐨𝐧𝐯𝐢𝐯𝐢𝐚𝐥𝐞 ! \n* vous vous interrogez sur le fonctionnement d’une application particulière ou d’un logiciel\,\n* vous aimeriez être plus à l’aise avec l’outil informatique\, Internet …\n* vous cherchez des trucs et astuces pour être plus efficace face à votre écran …? \net / ou \nVous avez des connaissances – même basiques – dans les domaines de l’𝐢𝐧𝐟𝐨𝐫𝐦𝐚𝐭𝐢𝐪𝐮𝐞 𝐞𝐭 𝐝𝐞𝐬 𝐧𝐨𝐮𝐯𝐞𝐥𝐥𝐞𝐬 𝐭𝐞𝐜𝐡𝐧𝐨𝐥𝐨𝐠𝐢𝐞𝐬 ? \nVous savez :\n* envoyer un mail ou naviguer sur Internet ?\n* utiliser un outil de traitement de texte ou un tableur ?\n* partager des photos à partir de votre téléphone ?\n* remplir un formulaire en ligne ?\n* utiliser les applications permettant le lien avec l’établissement scolaire de votre enfant ?\n* …etc… \n𝐔𝐧 𝐦𝐚𝐢̂𝐭𝐫𝐞-𝐦𝐨𝐭 : 𝐏𝐀𝐑𝐓𝐀𝐆𝐄 ! \nNous avons toutes et tous des choses à apprendre les uns des autres et il n’y a pas de « petit savoir »\, toute connaissance et toute expérience sont bonnes à échanger ! \n\nN’hésitez pas à en parler autour de vous et à venir avec un ou plusieurs amis. Plus nous serons nombreux\, plus nos échanges seront fructueux !\n\n\n\nCes rendez-vous sont gratuits pour les adhérents au Centre Social (adhésion familiale 24-25 : 16€ pour les habitants du Plateau de Montbazens ou 19€ si vous résidez hors Communauté de Communes).\n\n\nA très vite donc au Centre Social ! \nInformation complémentaire au 05.65.80.45.47
URL:https://www.centresocial-montbazens.fr/actualite/cafe-numerique-54/
LOCATION:Centre Social du Plateau de Montbazens\, 16 Chemin du Tournevic\, Montbazens\, 12220\, France
CATEGORIES:Animations pour Tous
ATTACH;FMTTYPE=image/jpeg:https://www.centresocial-montbazens.fr/wp-content/uploads/2025/10/cn25.jpg
ORGANIZER;CN="CSPM":MAILTO:contact@centresocial-montbazens.fr
END:VEVENT
END:VCALENDAR