BEGIN:VCALENDAR
VERSION:2.0
PRODID:-//Centre Social du Plateau de Montbazens - ECPv6.15.20//NONSGML v1.0//EN
CALSCALE:GREGORIAN
METHOD:PUBLISH
X-WR-CALNAME:Centre Social du Plateau de Montbazens
X-ORIGINAL-URL:https://www.centresocial-montbazens.fr
X-WR-CALDESC:Évènements pour Centre Social du Plateau de Montbazens
REFRESH-INTERVAL;VALUE=DURATION:PT1H
X-Robots-Tag:noindex
X-PUBLISHED-TTL:PT1H
BEGIN:VTIMEZONE
TZID:Europe/Paris
BEGIN:DAYLIGHT
TZOFFSETFROM:+0100
TZOFFSETTO:+0200
TZNAME:CEST
DTSTART:20250330T010000
END:DAYLIGHT
BEGIN:STANDARD
TZOFFSETFROM:+0200
TZOFFSETTO:+0100
TZNAME:CET
DTSTART:20251026T010000
END:STANDARD
BEGIN:DAYLIGHT
TZOFFSETFROM:+0100
TZOFFSETTO:+0200
TZNAME:CEST
DTSTART:20260329T010000
END:DAYLIGHT
BEGIN:STANDARD
TZOFFSETFROM:+0200
TZOFFSETTO:+0100
TZNAME:CET
DTSTART:20261025T010000
END:STANDARD
BEGIN:DAYLIGHT
TZOFFSETFROM:+0100
TZOFFSETTO:+0200
TZNAME:CEST
DTSTART:20270328T010000
END:DAYLIGHT
BEGIN:STANDARD
TZOFFSETFROM:+0200
TZOFFSETTO:+0100
TZNAME:CET
DTSTART:20271031T010000
END:STANDARD
END:VTIMEZONE
BEGIN:VEVENT
DTSTART;VALUE=DATE:20260108
DTEND;VALUE=DATE:20260109
DTSTAMP:20260421T134947
CREATED:20251031T064239Z
LAST-MODIFIED:20251031T064239Z
UID:12945-1767830400-1767916799@www.centresocial-montbazens.fr
SUMMARY:Café Numérique
DESCRIPTION:On se retrouve Jeudi au Centre Social 😀 ! \nTous les 15 jours\, selon calendrier pré-établi\, le Centre Social vous propose un rendez-vous d’échanges de savoirs : « 𝐋𝐞 𝐂𝐚𝐟𝐞́ 𝐍𝐮𝐦𝐞́𝐫𝐢𝐪𝐮𝐞 » ! \n𝐕𝐞𝐧𝐞𝐳 𝐚𝐯𝐞𝐜 𝐨𝐮 𝐬𝐚𝐧𝐬 𝐯𝐨𝐭𝐫𝐞 𝐏𝐂 𝐞𝐭 𝐨𝐮 𝐬𝐦𝐚𝐫𝐭𝐩𝐡𝐨𝐧𝐞 / 𝐭𝐚𝐛𝐥𝐞𝐭𝐭𝐞 𝐩𝐚𝐫𝐭𝐚𝐠𝐞𝐫\, 𝐪𝐮𝐞𝐬𝐭𝐢𝐨𝐧𝐧𝐞𝐫 𝐞𝐭 𝐚𝐩𝐩𝐫𝐞𝐧𝐝𝐫𝐞 𝐝𝐚𝐧𝐬 𝐮𝐧𝐞 𝐚𝐦𝐛𝐢𝐚𝐧𝐜𝐞 𝐜𝐨𝐧𝐯𝐢𝐯𝐢𝐚𝐥𝐞 ! \n* vous vous interrogez sur le fonctionnement d’une application particulière ou d’un logiciel\,\n* vous aimeriez être plus à l’aise avec l’outil informatique\, Internet …\n* vous cherchez des trucs et astuces pour être plus efficace face à votre écran …? \net / ou \nVous avez des connaissances – même basiques – dans les domaines de l’𝐢𝐧𝐟𝐨𝐫𝐦𝐚𝐭𝐢𝐪𝐮𝐞 𝐞𝐭 𝐝𝐞𝐬 𝐧𝐨𝐮𝐯𝐞𝐥𝐥𝐞𝐬 𝐭𝐞𝐜𝐡𝐧𝐨𝐥𝐨𝐠𝐢𝐞𝐬 ? \nVous savez :\n* envoyer un mail ou naviguer sur Internet ?\n* utiliser un outil de traitement de texte ou un tableur ?\n* partager des photos à partir de votre téléphone ?\n* remplir un formulaire en ligne ?\n* utiliser les applications permettant le lien avec l’établissement scolaire de votre enfant ?\n* …etc… \n𝐔𝐧 𝐦𝐚𝐢̂𝐭𝐫𝐞-𝐦𝐨𝐭 : 𝐏𝐀𝐑𝐓𝐀𝐆𝐄 ! \nNous avons toutes et tous des choses à apprendre les uns des autres et il n’y a pas de « petit savoir »\, toute connaissance et toute expérience sont bonnes à échanger ! \n\nN’hésitez pas à en parler autour de vous et à venir avec un ou plusieurs amis. Plus nous serons nombreux\, plus nos échanges seront fructueux !\n\n\n\nCes rendez-vous sont gratuits pour les adhérents au Centre Social (adhésion familiale 24-25 : 16€ pour les habitants du Plateau de Montbazens ou 19€ si vous résidez hors Communauté de Communes).\n\n\nA très vite donc au Centre Social ! \nInformation complémentaire au 05.65.80.45.47
URL:https://www.centresocial-montbazens.fr/actualite/cafe-numerique-45/
LOCATION:Centre Social du Plateau de Montbazens\, 16 Chemin du Tournevic\, Montbazens\, 12220\, France
CATEGORIES:Animations pour Tous
ATTACH;FMTTYPE=image/jpeg:https://www.centresocial-montbazens.fr/wp-content/uploads/2025/10/cn25.jpg
ORGANIZER;CN="CSPM":MAILTO:contact@centresocial-montbazens.fr
END:VEVENT
BEGIN:VEVENT
DTSTART;VALUE=DATE:20260112
DTEND;VALUE=DATE:20260113
DTSTAMP:20260421T134947
CREATED:20251031T063945Z
LAST-MODIFIED:20251031T063945Z
UID:12965-1768176000-1768262399@www.centresocial-montbazens.fr
SUMMARY:Café Tricot-Crochet
DESCRIPTION:Nouvelle activité au Centre Social 😃\nVenez avec votre ouvrage en cours pour partager un moment au ☕ Café Tricot-Crochet 🧶 !\n\nA vos agendas\, les prochains rendez-vous sont prévus de 14h à 16h les lundis \n\n20 octobre\, \n17 novembre\, \n15 décembre\, \n12 janvier\, \n09 février\, \n09 mars\,\net 13 avril\n\n\n\n👛 Gratuit pour les adhérents au CSPM\nAdhésion annuelle et familiale : 16€ pour les habitants du Plateau de Montbazens ou 19€ si vous résidez hors Communauté de Communes du Plateau de Montbazens .
URL:https://www.centresocial-montbazens.fr/actualite/cafe-tricot-crochet-6/
LOCATION:Centre Social du Plateau de Montbazens\, 16 Chemin du Tournevic\, Montbazens\, 12220\, France
CATEGORIES:Animations pour Tous
ATTACH;FMTTYPE=image/png:https://www.centresocial-montbazens.fr/wp-content/uploads/2025/10/Tricot-Crochet.png
END:VEVENT
BEGIN:VEVENT
DTSTART;VALUE=DATE:20260119
DTEND;VALUE=DATE:20260120
DTSTAMP:20260421T134947
CREATED:20260118T103659Z
LAST-MODIFIED:20260118T103659Z
UID:13536-1768780800-1768867199@www.centresocial-montbazens.fr
SUMMARY:Café Fils & Bobines
DESCRIPTION:Nouveau rendez-vous à destination des adeptes (débutant.e.s ou confirmé.e.s) de travaux de fils et d’aiguilles : couture\, tricot\, crochet\, broderie… !\n\n\n \n\n\nRejoignez le 🧵Café 🪡 Fils & Bobines 🧶et prenez part à ces temps d’échange de savoirs pour avancer sur vos projets\, glaner trucs et astuces auprès des autres participant.e.s\, partager un temps convivial et créer du lien 😊 !\n\n\n \n\n\nZéro contrainte : vous venez en fonction de vos disponibilités\, arrivez quand vous le pouvez et repartez quand vous le souhaitez 😉 !\n\n\n \n\n\n📍 au Centre Social\n\n\n🕖 à partir de 17h et jusqu’à 19h\n\n\n👛 Accès libre et gratuit pour les adhérente.s au Centre Social (16€ habitants de la Communauté de Communes du Plateau de Montbazens – 19€ hors CCPM valable du 01/09/2025 au 31/08/2026)\n\n\n☎️ Infos et inscriptions au Centre Social – 05 65 80 45 47
URL:https://www.centresocial-montbazens.fr/actualite/cafe-fils-bobines/
LOCATION:Centre Social du Plateau de Montbazens\, 16 Chemin du Tournevic\, Montbazens\, 12220\, France
CATEGORIES:Pôle Activités
ATTACH;FMTTYPE=image/png:https://www.centresocial-montbazens.fr/wp-content/uploads/2026/01/Cafe-Fils-Bobines.png
ORGANIZER;CN="CSPM":MAILTO:contact@centresocial-montbazens.fr
END:VEVENT
BEGIN:VEVENT
DTSTART;VALUE=DATE:20260122
DTEND;VALUE=DATE:20260123
DTSTAMP:20260421T134947
CREATED:20251031T064315Z
LAST-MODIFIED:20251031T064315Z
UID:12946-1769040000-1769126399@www.centresocial-montbazens.fr
SUMMARY:Café Numérique
DESCRIPTION:On se retrouve Jeudi au Centre Social 😀 ! \nTous les 15 jours\, selon calendrier pré-établi\, le Centre Social vous propose un rendez-vous d’échanges de savoirs : « 𝐋𝐞 𝐂𝐚𝐟𝐞́ 𝐍𝐮𝐦𝐞́𝐫𝐢𝐪𝐮𝐞 » ! \n𝐕𝐞𝐧𝐞𝐳 𝐚𝐯𝐞𝐜 𝐨𝐮 𝐬𝐚𝐧𝐬 𝐯𝐨𝐭𝐫𝐞 𝐏𝐂 𝐞𝐭 𝐨𝐮 𝐬𝐦𝐚𝐫𝐭𝐩𝐡𝐨𝐧𝐞 / 𝐭𝐚𝐛𝐥𝐞𝐭𝐭𝐞 𝐩𝐚𝐫𝐭𝐚𝐠𝐞𝐫\, 𝐪𝐮𝐞𝐬𝐭𝐢𝐨𝐧𝐧𝐞𝐫 𝐞𝐭 𝐚𝐩𝐩𝐫𝐞𝐧𝐝𝐫𝐞 𝐝𝐚𝐧𝐬 𝐮𝐧𝐞 𝐚𝐦𝐛𝐢𝐚𝐧𝐜𝐞 𝐜𝐨𝐧𝐯𝐢𝐯𝐢𝐚𝐥𝐞 ! \n* vous vous interrogez sur le fonctionnement d’une application particulière ou d’un logiciel\,\n* vous aimeriez être plus à l’aise avec l’outil informatique\, Internet …\n* vous cherchez des trucs et astuces pour être plus efficace face à votre écran …? \net / ou \nVous avez des connaissances – même basiques – dans les domaines de l’𝐢𝐧𝐟𝐨𝐫𝐦𝐚𝐭𝐢𝐪𝐮𝐞 𝐞𝐭 𝐝𝐞𝐬 𝐧𝐨𝐮𝐯𝐞𝐥𝐥𝐞𝐬 𝐭𝐞𝐜𝐡𝐧𝐨𝐥𝐨𝐠𝐢𝐞𝐬 ? \nVous savez :\n* envoyer un mail ou naviguer sur Internet ?\n* utiliser un outil de traitement de texte ou un tableur ?\n* partager des photos à partir de votre téléphone ?\n* remplir un formulaire en ligne ?\n* utiliser les applications permettant le lien avec l’établissement scolaire de votre enfant ?\n* …etc… \n𝐔𝐧 𝐦𝐚𝐢̂𝐭𝐫𝐞-𝐦𝐨𝐭 : 𝐏𝐀𝐑𝐓𝐀𝐆𝐄 ! \nNous avons toutes et tous des choses à apprendre les uns des autres et il n’y a pas de « petit savoir »\, toute connaissance et toute expérience sont bonnes à échanger ! \n\nN’hésitez pas à en parler autour de vous et à venir avec un ou plusieurs amis. Plus nous serons nombreux\, plus nos échanges seront fructueux !\n\n\n\nCes rendez-vous sont gratuits pour les adhérents au Centre Social (adhésion familiale 24-25 : 16€ pour les habitants du Plateau de Montbazens ou 19€ si vous résidez hors Communauté de Communes).\n\n\nA très vite donc au Centre Social ! \nInformation complémentaire au 05.65.80.45.47
URL:https://www.centresocial-montbazens.fr/actualite/cafe-numerique-46/
LOCATION:Centre Social du Plateau de Montbazens\, 16 Chemin du Tournevic\, Montbazens\, 12220\, France
CATEGORIES:Animations pour Tous
ATTACH;FMTTYPE=image/jpeg:https://www.centresocial-montbazens.fr/wp-content/uploads/2025/10/cn25.jpg
ORGANIZER;CN="CSPM":MAILTO:contact@centresocial-montbazens.fr
END:VEVENT
BEGIN:VEVENT
DTSTART;VALUE=DATE:20260126
DTEND;VALUE=DATE:20260127
DTSTAMP:20260421T134947
CREATED:20260118T103853Z
LAST-MODIFIED:20260118T103853Z
UID:13540-1769385600-1769471999@www.centresocial-montbazens.fr
SUMMARY:Café Fils & Bobines
DESCRIPTION:Nouveau rendez-vous à destination des adeptes (débutant.e.s ou confirmé.e.s) de travaux de fils et d’aiguilles : couture\, tricot\, crochet\, broderie… !\n\n\n \n\n\nRejoignez le 🧵Café 🪡 Fils & Bobines 🧶et prenez part à ces temps d’échange de savoirs pour avancer sur vos projets\, glaner trucs et astuces auprès des autres participant.e.s\, partager un temps convivial et créer du lien 😊 !\n\n\n \n\n\nZéro contrainte : vous venez en fonction de vos disponibilités\, arrivez quand vous le pouvez et repartez quand vous le souhaitez 😉 !\n\n\n \n\n\n📍 au Centre Social\n\n\n🕖 à partir de 17h et jusqu’à 19h\n\n\n👛 Accès libre et gratuit pour les adhérente.s au Centre Social (16€ habitants de la Communauté de Communes du Plateau de Montbazens – 19€ hors CCPM valable du 01/09/2025 au 31/08/2026)\n\n\n☎️ Infos et inscriptions au Centre Social – 05 65 80 45 47
URL:https://www.centresocial-montbazens.fr/actualite/cafe-fils-bobines-2/
LOCATION:Centre Social du Plateau de Montbazens\, 16 Chemin du Tournevic\, Montbazens\, 12220\, France
CATEGORIES:Pôle Activités
ATTACH;FMTTYPE=image/png:https://www.centresocial-montbazens.fr/wp-content/uploads/2026/01/Cafe-Fils-Bobines.png
ORGANIZER;CN="CSPM":MAILTO:contact@centresocial-montbazens.fr
END:VEVENT
END:VCALENDAR