BEGIN:VCALENDAR
VERSION:2.0
PRODID:-//Centre Social du Plateau de Montbazens - ECPv6.15.20//NONSGML v1.0//EN
CALSCALE:GREGORIAN
METHOD:PUBLISH
X-WR-CALNAME:Centre Social du Plateau de Montbazens
X-ORIGINAL-URL:https://www.centresocial-montbazens.fr
X-WR-CALDESC:Évènements pour Centre Social du Plateau de Montbazens
REFRESH-INTERVAL;VALUE=DURATION:PT1H
X-Robots-Tag:noindex
X-PUBLISHED-TTL:PT1H
BEGIN:VTIMEZONE
TZID:Europe/Paris
BEGIN:DAYLIGHT
TZOFFSETFROM:+0100
TZOFFSETTO:+0200
TZNAME:CEST
DTSTART:20240331T010000
END:DAYLIGHT
BEGIN:STANDARD
TZOFFSETFROM:+0200
TZOFFSETTO:+0100
TZNAME:CET
DTSTART:20241027T010000
END:STANDARD
BEGIN:DAYLIGHT
TZOFFSETFROM:+0100
TZOFFSETTO:+0200
TZNAME:CEST
DTSTART:20250330T010000
END:DAYLIGHT
BEGIN:STANDARD
TZOFFSETFROM:+0200
TZOFFSETTO:+0100
TZNAME:CET
DTSTART:20251026T010000
END:STANDARD
BEGIN:DAYLIGHT
TZOFFSETFROM:+0100
TZOFFSETTO:+0200
TZNAME:CEST
DTSTART:20260329T010000
END:DAYLIGHT
BEGIN:STANDARD
TZOFFSETFROM:+0200
TZOFFSETTO:+0100
TZNAME:CET
DTSTART:20261025T010000
END:STANDARD
END:VTIMEZONE
BEGIN:VEVENT
DTSTART;VALUE=DATE:20250906
DTEND;VALUE=DATE:20250907
DTSTAMP:20260421T205411
CREATED:20250828T135553Z
LAST-MODIFIED:20250828T135553Z
UID:12412-1757116800-1757203199@www.centresocial-montbazens.fr
SUMMARY:Atelier Portage
DESCRIPTION:Petit message à l’attention des futurs parents\, parents\, grands-parents 😊 \n𝐋𝐞 𝐒𝐚𝐦𝐞𝐝𝐢 𝟎𝟔 𝐒𝐞𝐩𝐭𝐞𝐦𝐛𝐫𝐞 – retrouvez 𝐉𝐮𝐥𝐢𝐞𝐭𝐭𝐞 𝐋𝐞 𝐆𝐚𝐥𝐥 (Psychomotricienne & monitrice de portage) pour un nouvel 𝐚𝐭𝐞𝐥𝐢𝐞𝐫 𝐏𝐨𝐫𝐭𝐚𝐠𝐞 ! \nRDV de 𝟗𝐡𝟑𝟎 𝐚̀ 𝟏𝟏𝐡𝟑𝟎 𝐚𝐮 𝐂𝐞𝐧𝐭𝐫𝐞 𝐒𝐨𝐜𝐢𝐚𝐥 pour découvrir les bases du portage\, les différentes écharpes et autres moyens de portage (porte-bébé\, meï-tai\, sling\, préformés…) \nUn atelier pour échanger sur les besoins de chacun… \nVenez avec votre matériel de portage et\, si vous n’en avez pas\, Juliette aura aussi différents moyens de portage à vous proposer et un poupon pour vous entraîner. \nCet atelier est à destination des futurs parents\, parents\, grands-parents accompagnés ou non de leur bébé ou bambin de 0 à 2 ans. \n📍 au Centre Social\n👛 Gratuit pour les adhérents au CSPM ou 3€ / famille non adhérente\n☎️ Sur inscription au CSPM – 05 65 80 45 47
URL:https://www.centresocial-montbazens.fr/actualite/atelier-portage-2/
LOCATION:Centre Social du Plateau de Montbazens\, 16 Chemin du Tournevic\, Montbazens\, 12220\, France
CATEGORIES:Pôle Famille
ATTACH;FMTTYPE=image/png:https://www.centresocial-montbazens.fr/wp-content/uploads/2025/08/Portage-Insta.png
ORGANIZER;CN="CSPM":MAILTO:contact@centresocial-montbazens.fr
END:VEVENT
BEGIN:VEVENT
DTSTART;VALUE=DATE:20250912
DTEND;VALUE=DATE:20250913
DTSTAMP:20260421T205411
CREATED:20251031T054136Z
LAST-MODIFIED:20251031T054136Z
UID:12887-1757635200-1757721599@www.centresocial-montbazens.fr
SUMMARY:Blablabébé spécial "Bébés Lecteurs"
DESCRIPTION:Retrouvons-nous 𝐁𝐥𝐚𝐛𝐥𝐚𝐁𝐞́𝐛𝐞́𝐬 spécial « Bébés Lecteurs »\n\n\nEspace de rencontre convivial\, les BlablaBébés vous sont proposés tous les 2èmes vendredis du mois avec une infirmière Puéricultrice de la PMI et Lola (Référente Familles au CSPM)\n\n\nVenez prendre le temps de faire une pause avec ou sans enfants. Une occasion de s’informer\, échanger\, se soutenir\, partager\, jouer avec ses enfants et de permettre aux enfants de se rencontrer entre eux.\n\n\n au Moulin de la Culture à Montbazens\n Vous êtes les Bienvenus entre 9h30 et 11h30 ! Vous pouvez arriver et partir quand vous le voulez !\n Tarifs : Gratuit\n Infos au Centre Social – 05 65 80 45 47
URL:https://www.centresocial-montbazens.fr/actualite/blablabebe-special-bebes-lecteurs/
LOCATION:Moulin de la Culture – Montbazens\, 11 Quartier du Vieux Bourg\, Montbazens\, Aveyron\, 12220\, France
CATEGORIES:Pôle Famille
ATTACH;FMTTYPE=image/jpeg:https://www.centresocial-montbazens.fr/wp-content/uploads/2025/10/bb-lecteurs.jpg
ORGANIZER;CN="CSPM":MAILTO:contact@centresocial-montbazens.fr
END:VEVENT
BEGIN:VEVENT
DTSTART;VALUE=DATE:20250913
DTEND;VALUE=DATE:20250914
DTSTAMP:20260421T205411
CREATED:20250828T132138Z
LAST-MODIFIED:20250828T132240Z
UID:12408-1757721600-1757807999@www.centresocial-montbazens.fr
SUMMARY:Fête du Sport et de la Famille
DESCRIPTION:📣 Prenez date et rejoignez-nous à Peyrusse pour la 𝐅𝐞̂𝐭𝐞 𝐝𝐮 𝐒𝐩𝐨𝐫𝐭 𝐞𝐭 𝐝𝐞 𝐥𝐚 𝐅𝐚𝐦𝐢𝐥𝐥𝐞 du Centre Social ! \nLe Samedi 13 Septembre à partir de 13h15\, ne manquez pas la Fête du Sport et de la Famille\, organisée à Peyrusse-le-Roc\, en partenariat avec les associations locales. \nVenez en famille\, entre amis\, partager et découvrir de nombreuses activités dans une ambiance chaleureuse et conviviale 😊. \n  \nAu programme : \n🥾Randonnées Vtt 🚵‍♀️et pédestres *** trail avec joëlettes *** 🤸ateliers découverte des activités : aïkido\, baby-gym\, cirque\, course d’orientation\, danses traditionnelles\, pilates\, qi-gong\, sophrologie\, stretching\, tir à l’arc\, tyrolienne… *** accueil au Jardin Médiéval et à l’Exposition sur les Mines médiévales dans la Maison Bastidou 🌿 *** ateliers accessibilité au handicap ♿*** initiation aux gestes qui sauvent *** 🛠️stand Repair Café *** forum des associations du Plateau de Montbazens *** 🚒démonstration – manœuvre des pompiers de Montbazens *** 🪩pétanque : Initiation & parties libres *** 💃démonstration de danses traditionnelles *** et pour terminer cette journée en beauté : 🍹Apéro – Soupe au Fromage et Saucisses-Frites ! \n☎️ Informations complémentaires auprès de l’équipe du CSPM au 05.65.80.45.47.
URL:https://www.centresocial-montbazens.fr/actualite/fete-du-sport-et-de-la-famille-2/
LOCATION:Peyrusse le Roc\, Peyrusse le Roc\, 12220\, France
CATEGORIES:Animations pour Tous
ATTACH;FMTTYPE=image/png:https://www.centresocial-montbazens.fr/wp-content/uploads/2025/08/FS-2025-recto.png
ORGANIZER;CN="CSPM":MAILTO:contact@centresocial-montbazens.fr
END:VEVENT
BEGIN:VEVENT
DTSTART;VALUE=DATE:20250918
DTEND;VALUE=DATE:20250919
DTSTAMP:20260421T205411
CREATED:20251031T062554Z
LAST-MODIFIED:20251031T062554Z
UID:12952-1758153600-1758239999@www.centresocial-montbazens.fr
SUMMARY:Café Numérique
DESCRIPTION:On se retrouve Jeudi au Centre Social 😀 ! \nTous les 15 jours\, selon calendrier pré-établi\, le Centre Social vous propose un rendez-vous d’échanges de savoirs : « 𝐋𝐞 𝐂𝐚𝐟𝐞́ 𝐍𝐮𝐦𝐞́𝐫𝐢𝐪𝐮𝐞 » ! \n𝐕𝐞𝐧𝐞𝐳 𝐚𝐯𝐞𝐜 𝐨𝐮 𝐬𝐚𝐧𝐬 𝐯𝐨𝐭𝐫𝐞 𝐏𝐂 𝐞𝐭 𝐨𝐮 𝐬𝐦𝐚𝐫𝐭𝐩𝐡𝐨𝐧𝐞 / 𝐭𝐚𝐛𝐥𝐞𝐭𝐭𝐞 𝐩𝐚𝐫𝐭𝐚𝐠𝐞𝐫\, 𝐪𝐮𝐞𝐬𝐭𝐢𝐨𝐧𝐧𝐞𝐫 𝐞𝐭 𝐚𝐩𝐩𝐫𝐞𝐧𝐝𝐫𝐞 𝐝𝐚𝐧𝐬 𝐮𝐧𝐞 𝐚𝐦𝐛𝐢𝐚𝐧𝐜𝐞 𝐜𝐨𝐧𝐯𝐢𝐯𝐢𝐚𝐥𝐞 ! \n* vous vous interrogez sur le fonctionnement d’une application particulière ou d’un logiciel\,\n* vous aimeriez être plus à l’aise avec l’outil informatique\, Internet …\n* vous cherchez des trucs et astuces pour être plus efficace face à votre écran …? \net / ou \nVous avez des connaissances – même basiques – dans les domaines de l’𝐢𝐧𝐟𝐨𝐫𝐦𝐚𝐭𝐢𝐪𝐮𝐞 𝐞𝐭 𝐝𝐞𝐬 𝐧𝐨𝐮𝐯𝐞𝐥𝐥𝐞𝐬 𝐭𝐞𝐜𝐡𝐧𝐨𝐥𝐨𝐠𝐢𝐞𝐬 ? \nVous savez :\n* envoyer un mail ou naviguer sur Internet ?\n* utiliser un outil de traitement de texte ou un tableur ?\n* partager des photos à partir de votre téléphone ?\n* remplir un formulaire en ligne ?\n* utiliser les applications permettant le lien avec l’établissement scolaire de votre enfant ?\n* …etc… \n𝐔𝐧 𝐦𝐚𝐢̂𝐭𝐫𝐞-𝐦𝐨𝐭 : 𝐏𝐀𝐑𝐓𝐀𝐆𝐄 ! \nNous avons toutes et tous des choses à apprendre les uns des autres et il n’y a pas de « petit savoir »\, toute connaissance et toute expérience sont bonnes à échanger ! \n\nN’hésitez pas à en parler autour de vous et à venir avec un ou plusieurs amis. Plus nous serons nombreux\, plus nos échanges seront fructueux !\n\n\n\nCes rendez-vous sont gratuits pour les adhérents au Centre Social (adhésion familiale 24-25 : 16€ pour les habitants du Plateau de Montbazens ou 19€ si vous résidez hors Communauté de Communes).\n\n\nA très vite donc au Centre Social ! \nInformation complémentaire au 05.65.80.45.47
URL:https://www.centresocial-montbazens.fr/actualite/cafe-numerique-39/
LOCATION:Centre Social du Plateau de Montbazens\, 16 Chemin du Tournevic\, Montbazens\, 12220\, France
CATEGORIES:Animations pour Tous
ATTACH;FMTTYPE=image/jpeg:https://www.centresocial-montbazens.fr/wp-content/uploads/2025/10/cn25.jpg
ORGANIZER;CN="CSPM":MAILTO:contact@centresocial-montbazens.fr
END:VEVENT
END:VCALENDAR