BEGIN:VCALENDAR
VERSION:2.0
PRODID:-//Centre Social du Plateau de Montbazens - ECPv6.15.20//NONSGML v1.0//EN
CALSCALE:GREGORIAN
METHOD:PUBLISH
X-WR-CALNAME:Centre Social du Plateau de Montbazens
X-ORIGINAL-URL:https://www.centresocial-montbazens.fr
X-WR-CALDESC:Évènements pour Centre Social du Plateau de Montbazens
REFRESH-INTERVAL;VALUE=DURATION:PT1H
X-Robots-Tag:noindex
X-PUBLISHED-TTL:PT1H
BEGIN:VTIMEZONE
TZID:Europe/Paris
BEGIN:DAYLIGHT
TZOFFSETFROM:+0100
TZOFFSETTO:+0200
TZNAME:CEST
DTSTART:20240331T010000
END:DAYLIGHT
BEGIN:STANDARD
TZOFFSETFROM:+0200
TZOFFSETTO:+0100
TZNAME:CET
DTSTART:20241027T010000
END:STANDARD
BEGIN:DAYLIGHT
TZOFFSETFROM:+0100
TZOFFSETTO:+0200
TZNAME:CEST
DTSTART:20250330T010000
END:DAYLIGHT
BEGIN:STANDARD
TZOFFSETFROM:+0200
TZOFFSETTO:+0100
TZNAME:CET
DTSTART:20251026T010000
END:STANDARD
BEGIN:DAYLIGHT
TZOFFSETFROM:+0100
TZOFFSETTO:+0200
TZNAME:CEST
DTSTART:20260329T010000
END:DAYLIGHT
BEGIN:STANDARD
TZOFFSETFROM:+0200
TZOFFSETTO:+0100
TZNAME:CET
DTSTART:20261025T010000
END:STANDARD
END:VTIMEZONE
BEGIN:VEVENT
DTSTART;VALUE=DATE:20250304
DTEND;VALUE=DATE:20250305
DTSTAMP:20260422T065616
CREATED:20250204T101237Z
LAST-MODIFIED:20250204T101237Z
UID:10394-1741046400-1741132799@www.centresocial-montbazens.fr
SUMMARY:Café Numérique
DESCRIPTION:𝐎𝐧 𝐬𝐞 𝐫𝐞𝐭𝐫𝐨𝐮𝐯𝐞 𝐌𝐚𝐫𝐝𝐢 au Centre Social 😀 ! \nTous les 15 jours\, selon calendrier pré-établi\, le Centre Social vous propose un nouveau rendez-vous d’échanges de savoirs : « 𝐋𝐞 𝐂𝐚𝐟𝐞́ 𝐍𝐮𝐦𝐞́𝐫𝐢𝐪𝐮𝐞 » ! \n𝐕𝐞𝐧𝐞𝐳 𝐚𝐯𝐞𝐜 𝐨𝐮 𝐬𝐚𝐧𝐬 𝐯𝐨𝐭𝐫𝐞 𝐏𝐂 𝐞𝐭 𝐨𝐮 𝐬𝐦𝐚𝐫𝐭𝐩𝐡𝐨𝐧𝐞 / 𝐭𝐚𝐛𝐥𝐞𝐭𝐭𝐞 𝐩𝐚𝐫𝐭𝐚𝐠𝐞𝐫\, 𝐪𝐮𝐞𝐬𝐭𝐢𝐨𝐧𝐧𝐞𝐫 𝐞𝐭 𝐚𝐩𝐩𝐫𝐞𝐧𝐝𝐫𝐞 𝐝𝐚𝐧𝐬 𝐮𝐧𝐞 𝐚𝐦𝐛𝐢𝐚𝐧𝐜𝐞 𝐜𝐨𝐧𝐯𝐢𝐯𝐢𝐚𝐥𝐞 ! \n* vous vous interrogez sur le fonctionnement d’une application particulière ou d’un logiciel\,\n* vous aimeriez être plus à l’aise avec l’outil informatique\, Internet …\n* vous cherchez des trucs et astuces pour être plus efficace face à votre écran …? \net / ou \nVous avez des connaissances – même basiques – dans les domaines de l’𝐢𝐧𝐟𝐨𝐫𝐦𝐚𝐭𝐢𝐪𝐮𝐞 𝐞𝐭 𝐝𝐞𝐬 𝐧𝐨𝐮𝐯𝐞𝐥𝐥𝐞𝐬 𝐭𝐞𝐜𝐡𝐧𝐨𝐥𝐨𝐠𝐢𝐞𝐬 ? \nVous savez :\n* envoyer un mail ou naviguer sur Internet ?\n* utiliser un outil de traitement de texte ou un tableur ?\n* partager des photos à partir de votre téléphone ?\n* remplir un formulaire en ligne ?\n* utiliser les applications permettant le lien avec l’établissement scolaire de votre enfant ?\n* …etc… \n𝐔𝐧 𝐦𝐚𝐢̂𝐭𝐫𝐞-𝐦𝐨𝐭 : 𝐏𝐀𝐑𝐓𝐀𝐆𝐄 ! \nNous avons toutes et tous des choses à apprendre les uns des autres et il n’y a pas de « petit savoir »\, toute connaissance et toute expérience sont bonnes à échanger ! \n\nN’hésitez pas à en parler autour de vous et à venir avec un ou plusieurs amis. Plus nous serons nombreux\, plus nos échanges seront fructueux !\n\n\n\nGrâce au soutien financier de la CARSAT Midi-Pyrénées\, de la MSA et de la région Occitanie\, ces rendez-vous sont gratuits pour les adhérents au Centre Social (adhésion familiale 24-25 : 16€ pour les habitants du Plateau de Montbazens ou 19€ si vous résidez hors Communauté de Communes).\n\n\nA très vite donc au Centre Social ! \nInformation complémentaire au 05.65.80.45.47
URL:https://www.centresocial-montbazens.fr/actualite/cafe-numerique-29/
LOCATION:Centre Social du Plateau de Montbazens\, 16 Chemin du Tournevic\, Montbazens\, 12220\, France
CATEGORIES:Animations pour Tous
ATTACH;FMTTYPE=image/png:https://www.centresocial-montbazens.fr/wp-content/uploads/2024/09/Cafes-Numeriques.png
ORGANIZER;CN="CSPM":MAILTO:contact@centresocial-montbazens.fr
END:VEVENT
BEGIN:VEVENT
DTSTART;VALUE=DATE:20250314
DTEND;VALUE=DATE:20250315
DTSTAMP:20260422T065616
CREATED:20250305T083446Z
LAST-MODIFIED:20250305T083446Z
UID:10691-1741910400-1741996799@www.centresocial-montbazens.fr
SUMMARY:Blablabébés
DESCRIPTION:Vendredi 14 Mars – de 9h30 à 11h30\nRendez-vous pour un nouveau Blablabébés – Parcours Motricité …\nVenez avec votre jeune enfant crapahuter\, escalader\, sauter\, jouer…\nOuvert aux Futurs Parents\, Parents\, Grands-Parents avec ou sans enfants de 0 à 3 ans\, le Blablabébés est un espace de rencontre convivial proposé tous les 2èmes vendredis du mois avec une infirmière Puéricultrice de la PMI et Lola (Référente Familles au CSPM). Venez prendre le temps de faire une pause avec ou sans enfants. Une occasion de s’informer\, échanger\, se soutenir\, partager\, jouer avec ses enfants et permettre aux enfants de se rencontrer entre eux.\n📍 au Relais Petite Enfance – Zone Artisanale du Colombier à Montbazens\n👛 Gratuit sans inscription\n☎️ Infos au CSPM : 05 65 80 45 47 \nVous êtes les bienvenus entre 9h et 11h ! Vous pouvez arriver et partir quand vous le voulez !
URL:https://www.centresocial-montbazens.fr/actualite/blablabebe-parcours-motricite/
LOCATION:Relais Petite Enfance – Montbazens\, ZA du Colombiers\, Montbazens\, Aveyron\, 12220\, France
CATEGORIES:Pôle Famille
ATTACH;FMTTYPE=image/jpeg:https://www.centresocial-montbazens.fr/wp-content/uploads/2025/03/BlablaBebes-dates-2025.jpg
ORGANIZER;CN="CSPM":MAILTO:contact@centresocial-montbazens.fr
END:VEVENT
BEGIN:VEVENT
DTSTART;VALUE=DATE:20250315
DTEND;VALUE=DATE:20250316
DTSTAMP:20260422T065616
CREATED:20250305T110346Z
LAST-MODIFIED:20250307T104158Z
UID:10730-1741996800-1742083199@www.centresocial-montbazens.fr
SUMMARY:Café Numérique Spécial "Photos"
DESCRIPTION:Rendez-vous le Samedi 15 Mars – de 9h30 à 11h pour un Café Numérique Spécial « Photos »  ! \nComme pour les Cafés Numériques bimensuels l’idée est de se retrouver entre utilisateurs novices et plus initiés pour glaner et échanger des trucs et astuces en lien avec l’utilisation de l’ordinateur\, la tablette ou le smartphone. \nCe rendez-vous sera donc dédié au traitement des « Photos » prises par smartphone\, tablette ou appareil photo numérique : \n\nComment les transférer vers un ordinateur ?\nComment les trier\, organiser\, classer ?\nComment les retoucher ?\nComment les partager avec mes proches ?\netc…\n\nPour cet atelier\, si vous le pouvez\, venez avec vos outils : téléphone et/ou tablette et/ou appareil photo numérique + les câbles usb permettant le transfert de vos fichiers et\, si vous pouvez\, votre ordinateur ! Des ordinateurs pourront être mis à disposition des personnes qui ne pourraient pas venir avec le leur. \n📍 Au Centre Social\n☎️ Places limitées\, inscription au CSPM : 05 65 80 45 47. \nGrâce au soutien financier de la CARSAT Midi-Pyrénées\, de la MSA et de la région Occitanie\, les Cafés Numériques sont gratuits pour les adhérents au Centre Social (adhésion familiale 24-25 : 16€ pour les habitants du Plateau de Montbazens ou 19€ si vous résidez hors Communauté de Communes).
URL:https://www.centresocial-montbazens.fr/actualite/cafe-numerique-special-photos/
LOCATION:Centre Social du Plateau de Montbazens\, 16 Chemin du Tournevic\, Montbazens\, 12220\, France
CATEGORIES:Animations pour Tous
ATTACH;FMTTYPE=image/png:https://www.centresocial-montbazens.fr/wp-content/uploads/2025/03/Atelier-Numerique-Photos.png
ORGANIZER;CN="CSPM":MAILTO:contact@centresocial-montbazens.fr
END:VEVENT
BEGIN:VEVENT
DTSTART;VALUE=DATE:20250315
DTEND;VALUE=DATE:20250316
DTSTAMP:20260422T065616
CREATED:20250305T085618Z
LAST-MODIFIED:20250305T085618Z
UID:10694-1741996800-1742083199@www.centresocial-montbazens.fr
SUMMARY:Atelier Portage
DESCRIPTION:Petit message à l’attention des futurs parents\, parents\, grands-parents 😊 \nSamedi 15 Mars – retrouvez Juliette Le Gall (Psychomotricienne & monitrice de portage) pour un nouvel atelier Portage ! \nRDV de 𝟗𝐡𝟑𝟎 𝐚̀ 𝟏𝟏𝐡𝟑𝟎 𝐚𝐮 𝐂𝐞𝐧𝐭𝐫𝐞 𝐒𝐨𝐜𝐢𝐚𝐥 pour découvrir les bases du portage\, les différentes écharpes et autres moyens de portage (porte-bébé\, meï-tai\, sling\, préformés…) \nUn atelier pour échanger sur les besoins de chacun… \nVenez avec votre matériel de portage et\, si vous n’en avez pas\, Juliette aura aussi différents moyens de portage à vous proposer et un poupon pour vous entraîner. \nCet atelier est à destination des futurs parents\, parents\, grands-parents accompagnés ou non de leur bébé ou bambin de 0 à 2 ans. \n📍 au Centre Social\n👛 Gratuit pour les adhérents au CSPM ou 3€ / famille non adhérente\n☎️ Sur inscription au CSPM – 05 65 80 45 47
URL:https://www.centresocial-montbazens.fr/actualite/atelier-portage-6/
LOCATION:Centre Social du Plateau de Montbazens\, 16 Chemin du Tournevic\, Montbazens\, 12220\, France
CATEGORIES:Pôle Famille
ATTACH;FMTTYPE=image/jpeg:https://www.centresocial-montbazens.fr/wp-content/uploads/2025/01/Ateliers-Portage-2025-Semestre-1.jpg
ORGANIZER;CN="CSPM":MAILTO:contact@centresocial-montbazens.fr
END:VEVENT
BEGIN:VEVENT
DTSTART;VALUE=DATE:20250317
DTEND;VALUE=DATE:20250321
DTSTAMP:20260422T065616
CREATED:20250311T090612Z
LAST-MODIFIED:20250311T090613Z
UID:10780-1742169600-1742515199@www.centresocial-montbazens.fr
SUMMARY:Semaine de la Petite Enfance
DESCRIPTION:A vos Agendas !\n\n\nDans le cadre de la 𝐒𝐞𝐦𝐚𝐢𝐧𝐞 𝐍𝐚𝐭𝐢𝐨𝐧𝐚𝐥𝐞 𝐝𝐞 𝐥𝐚 𝐏𝐞𝐭𝐢𝐭𝐞 𝐄𝐧𝐟𝐚𝐧𝐜𝐞\, le Pôle Petite Enfance propose aux tout-petits\, à leur famille et aux assistantes maternelles du Plateau un programme d’activités d’éveil et de découvertes à vivre ensemble  !\n\n\nAu menu :\n* Lundi 17 Mars : 𝐀𝐭𝐞𝐥𝐢𝐞𝐫 𝐏𝐚𝐭𝐨𝐮𝐢𝐥𝐥𝐞 – de 9h30 à 11h30 – Salle Ségala au Centre Social de Montbazens\, moment partagé avec la micro crèche de Montbazens (enfants et personnel) ;\n\n\n* Mardi 18 Mars : 𝐂𝐚𝐟𝐞́-𝐏𝐚𝐫𝐞𝐧𝐭𝐬 à 20h à la Médiathèque de Rignac avec Sandrine Lucas – ouvert à tous ;\n\n\n* Jeudi 20 Mars : 𝐀𝐭𝐞𝐥𝐢𝐞𝐫 « 𝐋𝐞𝐬 𝐏𝐞𝐭𝐢𝐭𝐬 𝐂𝐚𝐫𝐫𝐞́𝐬 » – de 9h30 à 11h30 – Foyer Charles Maurel à Lanuejouls.\n\n\nLes familles sont les bienvenues et peuvent y participer librement : heure de départ et d’arrivée libre !
URL:https://www.centresocial-montbazens.fr/actualite/semaine-de-la-petite-enfance/
LOCATION:Aveyron
CATEGORIES:Pôle Petite Enfance
ATTACH;FMTTYPE=image/png:https://www.centresocial-montbazens.fr/wp-content/uploads/2025/03/Semaine-de-la-PE-1.png
ORGANIZER;CN="CSPM":MAILTO:contact@centresocial-montbazens.fr
END:VEVENT
BEGIN:VEVENT
DTSTART;VALUE=DATE:20250318
DTEND;VALUE=DATE:20250319
DTSTAMP:20260422T065616
CREATED:20250204T101410Z
LAST-MODIFIED:20250204T101410Z
UID:10399-1742256000-1742342399@www.centresocial-montbazens.fr
SUMMARY:Café Numérique
DESCRIPTION:𝐎𝐧 𝐬𝐞 𝐫𝐞𝐭𝐫𝐨𝐮𝐯𝐞 𝐌𝐚𝐫𝐝𝐢 au Centre Social 😀 ! \nTous les 15 jours\, selon calendrier pré-établi\, le Centre Social vous propose un nouveau rendez-vous d’échanges de savoirs : « 𝐋𝐞 𝐂𝐚𝐟𝐞́ 𝐍𝐮𝐦𝐞́𝐫𝐢𝐪𝐮𝐞 » ! \n𝐕𝐞𝐧𝐞𝐳 𝐚𝐯𝐞𝐜 𝐨𝐮 𝐬𝐚𝐧𝐬 𝐯𝐨𝐭𝐫𝐞 𝐏𝐂 𝐞𝐭 𝐨𝐮 𝐬𝐦𝐚𝐫𝐭𝐩𝐡𝐨𝐧𝐞 / 𝐭𝐚𝐛𝐥𝐞𝐭𝐭𝐞 𝐩𝐚𝐫𝐭𝐚𝐠𝐞𝐫\, 𝐪𝐮𝐞𝐬𝐭𝐢𝐨𝐧𝐧𝐞𝐫 𝐞𝐭 𝐚𝐩𝐩𝐫𝐞𝐧𝐝𝐫𝐞 𝐝𝐚𝐧𝐬 𝐮𝐧𝐞 𝐚𝐦𝐛𝐢𝐚𝐧𝐜𝐞 𝐜𝐨𝐧𝐯𝐢𝐯𝐢𝐚𝐥𝐞 ! \n* vous vous interrogez sur le fonctionnement d’une application particulière ou d’un logiciel\,\n* vous aimeriez être plus à l’aise avec l’outil informatique\, Internet …\n* vous cherchez des trucs et astuces pour être plus efficace face à votre écran …? \net / ou \nVous avez des connaissances – même basiques – dans les domaines de l’𝐢𝐧𝐟𝐨𝐫𝐦𝐚𝐭𝐢𝐪𝐮𝐞 𝐞𝐭 𝐝𝐞𝐬 𝐧𝐨𝐮𝐯𝐞𝐥𝐥𝐞𝐬 𝐭𝐞𝐜𝐡𝐧𝐨𝐥𝐨𝐠𝐢𝐞𝐬 ? \nVous savez :\n* envoyer un mail ou naviguer sur Internet ?\n* utiliser un outil de traitement de texte ou un tableur ?\n* partager des photos à partir de votre téléphone ?\n* remplir un formulaire en ligne ?\n* utiliser les applications permettant le lien avec l’établissement scolaire de votre enfant ?\n* …etc… \n𝐔𝐧 𝐦𝐚𝐢̂𝐭𝐫𝐞-𝐦𝐨𝐭 : 𝐏𝐀𝐑𝐓𝐀𝐆𝐄 ! \nNous avons toutes et tous des choses à apprendre les uns des autres et il n’y a pas de « petit savoir »\, toute connaissance et toute expérience sont bonnes à échanger ! \n\nN’hésitez pas à en parler autour de vous et à venir avec un ou plusieurs amis. Plus nous serons nombreux\, plus nos échanges seront fructueux !\n\n\n\nGrâce au soutien financier de la CARSAT Midi-Pyrénées\, de la MSA et de la région Occitanie\, ces rendez-vous sont gratuits pour les adhérents au Centre Social (adhésion familiale 24-25 : 16€ pour les habitants du Plateau de Montbazens ou 19€ si vous résidez hors Communauté de Communes).\n\n\nA très vite donc au Centre Social ! \nInformation complémentaire au 05.65.80.45.47
URL:https://www.centresocial-montbazens.fr/actualite/cafe-numerique-30/
LOCATION:Centre Social du Plateau de Montbazens\, 16 Chemin du Tournevic\, Montbazens\, 12220\, France
CATEGORIES:Animations pour Tous
ATTACH;FMTTYPE=image/png:https://www.centresocial-montbazens.fr/wp-content/uploads/2024/09/Cafes-Numeriques.png
ORGANIZER;CN="CSPM":MAILTO:contact@centresocial-montbazens.fr
END:VEVENT
BEGIN:VEVENT
DTSTART;VALUE=DATE:20250321
DTEND;VALUE=DATE:20250322
DTSTAMP:20260422T065616
CREATED:20250305T092335Z
LAST-MODIFIED:20250305T092336Z
UID:10702-1742515200-1742601599@www.centresocial-montbazens.fr
SUMMARY:Fête du Court Métrage
DESCRIPTION:📔 Prenez date et réservez votre soirée du Vendredi 21 Mars pour « La Fête du Court Métrage » ! \nRendez-vous donc à partir de 19h… Vous arrivez quand vous le pouvez et repartez quand vous le souhaitez 😉 ! \nUne soirée gratuite et ouverte à toutes et tous à partir de 6 ans pour découvrir des petites pépites dans une sélection de Court-Métrage inédite ! \n📍 au Centre Social\n👛 Gratuit et sans inscription\n☎️ Infos Complémentaires au CSPM – 05 65 80 45 47 \n 
URL:https://www.centresocial-montbazens.fr/actualite/fete-du-court-metrage/
LOCATION:Centre Social du Plateau de Montbazens\, 16 Chemin du Tournevic\, Montbazens\, 12220\, France
CATEGORIES:Animations pour Tous
ATTACH;FMTTYPE=image/jpeg:https://www.centresocial-montbazens.fr/wp-content/uploads/2025/03/Fete-du-Court-Metrage-CSPM.jpg
ORGANIZER;CN="CSPM":MAILTO:contact@centresocial-montbazens.fr
END:VEVENT
BEGIN:VEVENT
DTSTART;VALUE=DATE:20250327
DTEND;VALUE=DATE:20250328
DTSTAMP:20260422T065616
CREATED:20250305T094253Z
LAST-MODIFIED:20250305T094253Z
UID:10706-1743033600-1743119999@www.centresocial-montbazens.fr
SUMMARY:Pause Parentale : Animer une réunion familiale pour prévenir ou gérer les conflits
DESCRIPTION:Le pôle Actions Famille vous propose une nouvelle Pause Parentale avec Brigitte Cassette le Jeudi 27 Mars de 20h à 22h30 pour discuter et échanger sur le thème *** Animer une réunion familiale pour prévenir ou gérer les conflits *** \n12 personnes maximum ! \n📍 Au Centre Social\n☎️ Places limitées\, inscription obligatoire au CSPM : 05 65 80 45 47.\n👛 Participation libre et consciente
URL:https://www.centresocial-montbazens.fr/actualite/pause-parentale/
LOCATION:Centre Social du Plateau de Montbazens\, 16 Chemin du Tournevic\, Montbazens\, 12220\, France
CATEGORIES:Pôle Famille
ATTACH;FMTTYPE=image/jpeg:https://www.centresocial-montbazens.fr/wp-content/uploads/2025/03/Pauses-Parentales-Affiche-Themes-2025.jpg
ORGANIZER;CN="CSPM":MAILTO:contact@centresocial-montbazens.fr
END:VEVENT
END:VCALENDAR