BEGIN:VCALENDAR
VERSION:2.0
PRODID:-//Centre Social du Plateau de Montbazens - ECPv6.15.20//NONSGML v1.0//EN
CALSCALE:GREGORIAN
METHOD:PUBLISH
X-ORIGINAL-URL:https://www.centresocial-montbazens.fr
X-WR-CALDESC:Évènements pour Centre Social du Plateau de Montbazens
REFRESH-INTERVAL;VALUE=DURATION:PT1H
X-Robots-Tag:noindex
X-PUBLISHED-TTL:PT1H
BEGIN:VTIMEZONE
TZID:Europe/Paris
BEGIN:DAYLIGHT
TZOFFSETFROM:+0100
TZOFFSETTO:+0200
TZNAME:CEST
DTSTART:20240331T010000
END:DAYLIGHT
BEGIN:STANDARD
TZOFFSETFROM:+0200
TZOFFSETTO:+0100
TZNAME:CET
DTSTART:20241027T010000
END:STANDARD
BEGIN:DAYLIGHT
TZOFFSETFROM:+0100
TZOFFSETTO:+0200
TZNAME:CEST
DTSTART:20250330T010000
END:DAYLIGHT
BEGIN:STANDARD
TZOFFSETFROM:+0200
TZOFFSETTO:+0100
TZNAME:CET
DTSTART:20251026T010000
END:STANDARD
BEGIN:DAYLIGHT
TZOFFSETFROM:+0100
TZOFFSETTO:+0200
TZNAME:CEST
DTSTART:20260329T010000
END:DAYLIGHT
BEGIN:STANDARD
TZOFFSETFROM:+0200
TZOFFSETTO:+0100
TZNAME:CET
DTSTART:20261025T010000
END:STANDARD
END:VTIMEZONE
BEGIN:VEVENT
DTSTART;VALUE=DATE:20250204
DTEND;VALUE=DATE:20250205
DTSTAMP:20260422T100521
CREATED:20250204T101104Z
LAST-MODIFIED:20250204T101104Z
UID:10392-1738627200-1738713599@www.centresocial-montbazens.fr
SUMMARY:Café Numérique
DESCRIPTION:𝐎𝐧 𝐬𝐞 𝐫𝐞𝐭𝐫𝐨𝐮𝐯𝐞 𝐌𝐚𝐫𝐝𝐢 au Centre Social 😀 ! \nTous les 15 jours\, selon calendrier pré-établi\, le Centre Social vous propose un nouveau rendez-vous d’échanges de savoirs : « 𝐋𝐞 𝐂𝐚𝐟𝐞́ 𝐍𝐮𝐦𝐞́𝐫𝐢𝐪𝐮𝐞 » ! \n𝐕𝐞𝐧𝐞𝐳 𝐚𝐯𝐞𝐜 𝐨𝐮 𝐬𝐚𝐧𝐬 𝐯𝐨𝐭𝐫𝐞 𝐏𝐂 𝐞𝐭 𝐨𝐮 𝐬𝐦𝐚𝐫𝐭𝐩𝐡𝐨𝐧𝐞 / 𝐭𝐚𝐛𝐥𝐞𝐭𝐭𝐞 𝐩𝐚𝐫𝐭𝐚𝐠𝐞𝐫\, 𝐪𝐮𝐞𝐬𝐭𝐢𝐨𝐧𝐧𝐞𝐫 𝐞𝐭 𝐚𝐩𝐩𝐫𝐞𝐧𝐝𝐫𝐞 𝐝𝐚𝐧𝐬 𝐮𝐧𝐞 𝐚𝐦𝐛𝐢𝐚𝐧𝐜𝐞 𝐜𝐨𝐧𝐯𝐢𝐯𝐢𝐚𝐥𝐞 ! \n* vous vous interrogez sur le fonctionnement d’une application particulière ou d’un logiciel\,\n* vous aimeriez être plus à l’aise avec l’outil informatique\, Internet …\n* vous cherchez des trucs et astuces pour être plus efficace face à votre écran …? \net / ou \nVous avez des connaissances – même basiques – dans les domaines de l’𝐢𝐧𝐟𝐨𝐫𝐦𝐚𝐭𝐢𝐪𝐮𝐞 𝐞𝐭 𝐝𝐞𝐬 𝐧𝐨𝐮𝐯𝐞𝐥𝐥𝐞𝐬 𝐭𝐞𝐜𝐡𝐧𝐨𝐥𝐨𝐠𝐢𝐞𝐬 ? \nVous savez :\n* envoyer un mail ou naviguer sur Internet ?\n* utiliser un outil de traitement de texte ou un tableur ?\n* partager des photos à partir de votre téléphone ?\n* remplir un formulaire en ligne ?\n* utiliser les applications permettant le lien avec l’établissement scolaire de votre enfant ?\n* …etc… \n𝐔𝐧 𝐦𝐚𝐢̂𝐭𝐫𝐞-𝐦𝐨𝐭 : 𝐏𝐀𝐑𝐓𝐀𝐆𝐄 ! \nNous avons toutes et tous des choses à apprendre les uns des autres et il n’y a pas de « petit savoir »\, toute connaissance et toute expérience sont bonnes à échanger ! \n\nN’hésitez pas à en parler autour de vous et à venir avec un ou plusieurs amis. Plus nous serons nombreux\, plus nos échanges seront fructueux !\n\n\n\nGrâce au soutien financier de la CARSAT Midi-Pyrénées\, de la MSA et de la région Occitanie\, ces rendez-vous sont gratuits pour les adhérents au Centre Social (adhésion familiale 24-25 : 16€ pour les habitants du Plateau de Montbazens ou 19€ si vous résidez hors Communauté de Communes).\n\n\nA très vite donc au Centre Social ! \nInformation complémentaire au 05.65.80.45.47
URL:https://www.centresocial-montbazens.fr/actualite/cafe-numerique-27/
LOCATION:Centre Social du Plateau de Montbazens\, 16 Chemin du Tournevic\, Montbazens\, 12220\, France
CATEGORIES:Animations pour Tous
ATTACH;FMTTYPE=image/png:https://www.centresocial-montbazens.fr/wp-content/uploads/2024/09/Cafes-Numeriques.png
ORGANIZER;CN="CSPM":MAILTO:contact@centresocial-montbazens.fr
END:VEVENT
BEGIN:VEVENT
DTSTART;VALUE=DATE:20250207
DTEND;VALUE=DATE:20250208
DTSTAMP:20260422T100521
CREATED:20250117T134505Z
LAST-MODIFIED:20250117T134505Z
UID:10221-1738886400-1738972799@www.centresocial-montbazens.fr
SUMMARY:Soirée Jeux
DESCRIPTION:Vendredi 7 Février – à partir de 19h (…. et tous les 1ers vendredis du mois)\n𝐒𝐨𝐢𝐫𝐞́𝐞 𝐉𝐞𝐮𝐱 – Tout public – proposée par l’association « Jeux Vadrouillent »\nVenez partager un bon moment autour de jeux de société variés ! Seul\, entre amis ou en famille… Bienvenus ! Les règles pourront vous être expliquées !\n au Centre Social à Montbazens\n Gratuit\n Auberge Espagnole
URL:https://www.centresocial-montbazens.fr/actualite/soiree-jeux-5/
LOCATION:Centre Social du Plateau de Montbazens\, 16 Chemin du Tournevic\, Montbazens\, 12220\, France
CATEGORIES:Animations pour Tous
ATTACH;FMTTYPE=image/jpeg:https://www.centresocial-montbazens.fr/wp-content/uploads/2025/01/Soiree-Jeux-JV-Fevrier.jpg
ORGANIZER;CN="CSPM":MAILTO:contact@centresocial-montbazens.fr
END:VEVENT
BEGIN:VEVENT
DTSTART;VALUE=DATE:20250211
DTEND;VALUE=DATE:20250212
DTSTAMP:20260422T100521
CREATED:20250117T151814Z
LAST-MODIFIED:20250122T101853Z
UID:10230-1739232000-1739318399@www.centresocial-montbazens.fr
SUMMARY:Conférence Gesticulée "Ces choses-là\, on en parle pas ... on oublie !"
DESCRIPTION:Et si nous acceptions de regarder\, une bonne fois pour toutes\, l’inceste pour ce qu’il est : un pilier de notre organisation sociétale patriarcale\, un outil de domination permettant d’habituer les masses à toutes les autres formes de domination. C’est en tout cas ce que Floriane Durin propose à travers cette conférence théâtralisée. \nPartant de son histoire de vie\, de l’inceste qu’elle a subi enfant\, elle nous invite à prendre de la hauteur afin de comprendre au mieux ce que le patriarcat nous a imposé à la base des rapports humains : la prédation.  \nPour éclairer son récit et lui permettre de dérouler au mieux sa pensée\, elle décide de s’accompagner de plusieurs copines\, celles qui l’inspirent depuis longtemps\, qu’elle aime infiniment : Catwoman\, Ellen Ripley\, Leia\, Katniss Everdeen et bien d’autres. Une armée de résistantes et d’héroïnes\, parfaites pour l’aider à démonter ce système d’oppression terrifiant de banalité. \nÉcriture\, mise en scène et jeu : Floriane Durin – Production La Douce \n*********** \nNous vous donnons rendez-vous le Mardi 11 Février à 20h à Montbazens pour une Conférence Gesticulée sur le thème de l’inceste et du patriarcat présentée par la Cie La Douce « Ces choses-là\, on n’en parle pas … On oublie ! ». \nRetrouvez-nous donc à Salle de Spectacles de Montbazens pour cette soirée proposée par le Centre Social et Le Négral avec la complicité des associations « L’Échappée Belle » et « Haut-le-Corps« . \n📍 Salle de Spectacles de Montbazens\n👛 Entrée Gratuite – Ouvert à toutes et tous – Spectacle conseillé à partir de 14 ans
URL:https://www.centresocial-montbazens.fr/actualite/conference-gesticulee-ces-choses-la-on-en-parle-pas-on-oublie/
LOCATION:Salle de Spectacles – Montbazens\, Montbazens\, 12220\, France
CATEGORIES:Animations pour Tous,Pôle Famille
ATTACH;FMTTYPE=image/jpeg:https://www.centresocial-montbazens.fr/wp-content/uploads/2025/01/Affiche-Cie-La-Douce-a-Montbazens.jpg
ORGANIZER;CN="CSPM":MAILTO:contact@centresocial-montbazens.fr
END:VEVENT
BEGIN:VEVENT
DTSTART;VALUE=DATE:20250214
DTEND;VALUE=DATE:20250215
DTSTAMP:20260422T100521
CREATED:20250117T135447Z
LAST-MODIFIED:20250117T135447Z
UID:10224-1739491200-1739577599@www.centresocial-montbazens.fr
SUMMARY:Blablabébé "Les Pâtes à Patouille"
DESCRIPTION:Le Vendredi 14 Février de 9h30 à 11h30 au RPE de Montbazens\, RDV pour un Blablabébé « Les Pâtes à Patouille ».\nLe BlablaBébé est un espace de rencontre convivial proposé tous les 2èmes vendredis du mois avec une infirmière Puéricultrice de la PMI et Lola (Référente Familles au CSPM).\nVenez prendre le temps d’une pause avec ou sans enfants.\nUne occasion de s’informer\, échanger\, se soutenir\, partager\, jouer avec ses enfants et de permettre aux enfants de se rencontrer entre eux.\n\n\nOuvert aux Futurs Parents\, Parents\, Grands-Parents avec ou sans enfants de 0 à 3 ans.\nVous êtes les Bienvenus de 9h30 et 11h30 ! Vous pouvez arriver et partir quand vous le voulez !\n\n\n dans les Locaux du Relais Petite Enfance – Zone Artisanale du Colombier – Montbazens\n Gratuit sans inscription\n Infos au CSPM – 05 65 80 45 47
URL:https://www.centresocial-montbazens.fr/actualite/blablabebe-les-pates-a-patouille/
LOCATION:Relais Petite Enfance – Montbazens\, ZA du Colombiers\, Montbazens\, Aveyron\, 12220\, France
CATEGORIES:Pôle Famille
ATTACH;FMTTYPE=image/jpeg:https://www.centresocial-montbazens.fr/wp-content/uploads/2025/01/Affiche-BlablaBebe-Fevrier-Patouille.jpg
ORGANIZER;CN="CSPM":MAILTO:contact@centresocial-montbazens.fr
END:VEVENT
BEGIN:VEVENT
DTSTART;VALUE=DATE:20250218
DTEND;VALUE=DATE:20250219
DTSTAMP:20260422T100521
CREATED:20250204T101147Z
LAST-MODIFIED:20250204T101147Z
UID:10393-1739836800-1739923199@www.centresocial-montbazens.fr
SUMMARY:Café Numérique
DESCRIPTION:𝐎𝐧 𝐬𝐞 𝐫𝐞𝐭𝐫𝐨𝐮𝐯𝐞 𝐌𝐚𝐫𝐝𝐢 au Centre Social 😀 ! \nTous les 15 jours\, selon calendrier pré-établi\, le Centre Social vous propose un nouveau rendez-vous d’échanges de savoirs : « 𝐋𝐞 𝐂𝐚𝐟𝐞́ 𝐍𝐮𝐦𝐞́𝐫𝐢𝐪𝐮𝐞 » ! \n𝐕𝐞𝐧𝐞𝐳 𝐚𝐯𝐞𝐜 𝐨𝐮 𝐬𝐚𝐧𝐬 𝐯𝐨𝐭𝐫𝐞 𝐏𝐂 𝐞𝐭 𝐨𝐮 𝐬𝐦𝐚𝐫𝐭𝐩𝐡𝐨𝐧𝐞 / 𝐭𝐚𝐛𝐥𝐞𝐭𝐭𝐞 𝐩𝐚𝐫𝐭𝐚𝐠𝐞𝐫\, 𝐪𝐮𝐞𝐬𝐭𝐢𝐨𝐧𝐧𝐞𝐫 𝐞𝐭 𝐚𝐩𝐩𝐫𝐞𝐧𝐝𝐫𝐞 𝐝𝐚𝐧𝐬 𝐮𝐧𝐞 𝐚𝐦𝐛𝐢𝐚𝐧𝐜𝐞 𝐜𝐨𝐧𝐯𝐢𝐯𝐢𝐚𝐥𝐞 ! \n* vous vous interrogez sur le fonctionnement d’une application particulière ou d’un logiciel\,\n* vous aimeriez être plus à l’aise avec l’outil informatique\, Internet …\n* vous cherchez des trucs et astuces pour être plus efficace face à votre écran …? \net / ou \nVous avez des connaissances – même basiques – dans les domaines de l’𝐢𝐧𝐟𝐨𝐫𝐦𝐚𝐭𝐢𝐪𝐮𝐞 𝐞𝐭 𝐝𝐞𝐬 𝐧𝐨𝐮𝐯𝐞𝐥𝐥𝐞𝐬 𝐭𝐞𝐜𝐡𝐧𝐨𝐥𝐨𝐠𝐢𝐞𝐬 ? \nVous savez :\n* envoyer un mail ou naviguer sur Internet ?\n* utiliser un outil de traitement de texte ou un tableur ?\n* partager des photos à partir de votre téléphone ?\n* remplir un formulaire en ligne ?\n* utiliser les applications permettant le lien avec l’établissement scolaire de votre enfant ?\n* …etc… \n𝐔𝐧 𝐦𝐚𝐢̂𝐭𝐫𝐞-𝐦𝐨𝐭 : 𝐏𝐀𝐑𝐓𝐀𝐆𝐄 ! \nNous avons toutes et tous des choses à apprendre les uns des autres et il n’y a pas de « petit savoir »\, toute connaissance et toute expérience sont bonnes à échanger ! \n\nN’hésitez pas à en parler autour de vous et à venir avec un ou plusieurs amis. Plus nous serons nombreux\, plus nos échanges seront fructueux !\n\n\n\nGrâce au soutien financier de la CARSAT Midi-Pyrénées\, de la MSA et de la région Occitanie\, ces rendez-vous sont gratuits pour les adhérents au Centre Social (adhésion familiale 24-25 : 16€ pour les habitants du Plateau de Montbazens ou 19€ si vous résidez hors Communauté de Communes).\n\n\nA très vite donc au Centre Social ! \nInformation complémentaire au 05.65.80.45.47
URL:https://www.centresocial-montbazens.fr/actualite/cafe-numerique-28/
LOCATION:Centre Social du Plateau de Montbazens\, 16 Chemin du Tournevic\, Montbazens\, 12220\, France
CATEGORIES:Animations pour Tous
ATTACH;FMTTYPE=image/png:https://www.centresocial-montbazens.fr/wp-content/uploads/2024/09/Cafes-Numeriques.png
ORGANIZER;CN="CSPM":MAILTO:contact@centresocial-montbazens.fr
END:VEVENT
BEGIN:VEVENT
DTSTART;VALUE=DATE:20250219
DTEND;VALUE=DATE:20250220
DTSTAMP:20260422T100521
CREATED:20250129T093213Z
LAST-MODIFIED:20250129T093423Z
UID:10312-1739923200-1740009599@www.centresocial-montbazens.fr
SUMMARY:Atelier DIY Parents-Enfants Fabrication de Pâte à Modeler Comestible
DESCRIPTION:Lola vous donne rendez-vous le Mercredi 19 Février – de 10h à 11h30 – pour un Atelier DIY Parents-Enfants à destination des 3-6 ans. \nAu menu : « Fabrication de Pâte à Modeler Comestible » \nL’idée : Vivre un temps de partage en famille en apprenant une recette simple et facile à refaire chez soi ! \n📍 au Centre Social à Montbazens\n👛 Gratuit/enfant adhérents\, 5€/enfant non adhérent\n☎️ Infos au CSPM – 05 65 80 45 47
URL:https://www.centresocial-montbazens.fr/actualite/atelier-diy-parents-enfants-fabrication-de-pate-a-modeler-comestible/
LOCATION:Centre Social du Plateau de Montbazens\, 16 Chemin du Tournevic\, Montbazens\, 12220\, France
CATEGORIES:Pôle Famille
ATTACH;FMTTYPE=image/jpeg:https://www.centresocial-montbazens.fr/wp-content/uploads/2025/01/Affiche-P-E-DIY-Pate-a-modeler-Fevrier.jpg
ORGANIZER;CN="CSPM":MAILTO:contact@centresocial-montbazens.fr
END:VEVENT
BEGIN:VEVENT
DTSTART;VALUE=DATE:20250219
DTEND;VALUE=DATE:20250220
DTSTAMP:20260422T100521
CREATED:20250129T104051Z
LAST-MODIFIED:20250129T104051Z
UID:10317-1739923200-1740009599@www.centresocial-montbazens.fr
SUMMARY:Atelier DIY Parents-Enfants "Fabrication de Boules de Bain ou de Douche"
DESCRIPTION:Et hop ! Un atelier pour les plus grands ! \nRendez-vous le Mercredi 19 Février – de 14h à 15h30 – avec Lola – pour un Atelier DIY Parents-Enfants pour les 5 ans et + « Fabrication de Boules de Bain ou de Douche » \nL’idée : Vivre un temps de partage en famille en apprenant une recette simple et facile à refaire chez soi ! \n📍 au Centre Social à Montbazens\n👛 Gratuit/enfant adhérents\, 5€/enfant non adhérent\n☎️ Infos au CSPM – 05 65 80 45 47
URL:https://www.centresocial-montbazens.fr/actualite/atelier-diy-parents-enfants-fabrication-de-boules-de-bain-ou-de-douche/
LOCATION:Centre Social du Plateau de Montbazens\, 16 Chemin du Tournevic\, Montbazens\, 12220\, France
CATEGORIES:Pôle Famille
ATTACH;FMTTYPE=image/jpeg:https://www.centresocial-montbazens.fr/wp-content/uploads/2025/01/Affiche-P-E-DIY-Bombes-de-bain-Fevrier.jpg
ORGANIZER;CN="CSPM":MAILTO:contact@centresocial-montbazens.fr
END:VEVENT
BEGIN:VEVENT
DTSTART;VALUE=DATE:20250221
DTEND;VALUE=DATE:20250222
DTSTAMP:20260422T100521
CREATED:20250114T140158Z
LAST-MODIFIED:20250114T140158Z
UID:10182-1740096000-1740182399@www.centresocial-montbazens.fr
SUMMARY:Baby Yoga
DESCRIPTION:Avis aux petits 𝐲𝐨𝐠𝐢𝐬 et à leur parents : Vendredi 21 Février nous vous donnons rendez-vous pour 2 nouvelles séances de 𝐁𝐚𝐛𝐲 𝐘𝐨𝐠𝐚 𝐚𝐯𝐞𝐜 𝐍𝐚𝐭𝐡𝐚𝐥𝐢𝐞 𝐑𝐨𝐪𝐮𝐞𝐬 :* 9h30-10h30 pour les 0-12 mois (5 places disponibles)* 10h45-11h45 pour les 1-3 ans (1 place disponible).Rejoignez-nous et venez partager cette jolie parenthèse en famille !Tarifs :* Gratuit par enfant adhérent\,* 5€ par enfant non adhérent Renseignements et Inscription au CSPM : 05 65 80 45 47
URL:https://www.centresocial-montbazens.fr/actualite/baby-yoga-3/
LOCATION:Relais Petite Enfance – Montbazens\, ZA du Colombiers\, Montbazens\, Aveyron\, 12220\, France
CATEGORIES:Pôle Famille
ATTACH;FMTTYPE=image/jpeg:https://www.centresocial-montbazens.fr/wp-content/uploads/2025/01/Baby-Yoga.jpg
ORGANIZER;CN="CSPM":MAILTO:contact@centresocial-montbazens.fr
END:VEVENT
BEGIN:VEVENT
DTSTART;VALUE=DATE:20250224
DTEND;VALUE=DATE:20250225
DTSTAMP:20260422T100521
CREATED:20250117T144344Z
LAST-MODIFIED:20250117T144344Z
UID:10227-1740355200-1740441599@www.centresocial-montbazens.fr
SUMMARY:Atelier Sophrologie "Chut... je dors..."
DESCRIPTION:Une parenthèse avec Sixtine Raoul Sophrologue EFT en quête d’outils simples pour retrouver le sommeil\, ça vous tente ?Sixtine nous donne rendez-vous le Lundi 24 Février – de 19h30 à 21h30 pour un atelier Sophrologie sur thème « Chut… je dors…« .Venez profiter de ce temps suspendu pour acquérir les techniques qui vous aideront à préparer votre nuit et regagner facilement les bras de Morphée . Au Foyer Charles Maurel à Lanuejouls Tarif : 20€ l’atelier  Places Limitées – Inscription Indispensable Informations et Inscriptions au 05.65.80.45.47
URL:https://www.centresocial-montbazens.fr/actualite/atelier-sophrologie-chut-je-dors/
LOCATION:Foyer Charles Maurel – Lanuejouls\, Lanuejouls\, 12350\, France
CATEGORIES:Pôle Activités
ATTACH;FMTTYPE=image/png:https://www.centresocial-montbazens.fr/wp-content/uploads/2025/01/Sophrologie-Seance-a-Theme-Le-Sommeil.png
ORGANIZER;CN="CSPM":MAILTO:contact@centresocial-montbazens.fr
END:VEVENT
BEGIN:VEVENT
DTSTART;VALUE=DATE:20250225
DTEND;VALUE=DATE:20250226
DTSTAMP:20260422T100521
CREATED:20250129T105833Z
LAST-MODIFIED:20250129T105833Z
UID:10321-1740441600-1740527999@www.centresocial-montbazens.fr
SUMMARY:Atelier Couture Parents-Enfants "Fabrication d'un porte-monnaie"
DESCRIPTION:Rendez-vous le Mardi 25 Février – de 14h à 15h30 – avec Bérangère – pour un Atelier Couture Parents-Enfants à destination des 6 ans et + \nAu menu « Fabrication d’un porte-monnaie » \nL’idée : apprendre à coudre ensemble et repartir avec une petite création personnalisée 😊 \n📍 au Centre Social à Montbazens\n👛 Gratuit/enfant adhérents\, 5€/enfant non adhérent\n☎️ Infos au CSPM – 05 65 80 45 47
URL:https://www.centresocial-montbazens.fr/actualite/atelier-couture-parents-enfants-fabrication-dun-porte-monnaie/
LOCATION:Centre Social du Plateau de Montbazens\, 16 Chemin du Tournevic\, Montbazens\, 12220\, France
CATEGORIES:Pôle Famille
ATTACH;FMTTYPE=image/jpeg:https://www.centresocial-montbazens.fr/wp-content/uploads/2025/01/Atelier-P-E-Couture-Fevrier.jpg
ORGANIZER;CN="CSPM":MAILTO:contact@centresocial-montbazens.fr
END:VEVENT
BEGIN:VEVENT
DTSTART;VALUE=DATE:20250226
DTEND;VALUE=DATE:20250227
DTSTAMP:20260422T100521
CREATED:20250129T110544Z
LAST-MODIFIED:20250129T110544Z
UID:10324-1740528000-1740614399@www.centresocial-montbazens.fr
SUMMARY:Atelier Sophrologie Parents-Enfants
DESCRIPTION:Et si vous preniez une petite pause bien-être en famille … ? \nRendez-vous le Mercredi 26 Février – de 14h à 15h – avec Sixtine – pour un Atelier Sophrologie Parents-Enfants à destination des 6 ans et + \nL’idée : Partager un temps de complicité et de bien-être en famille… 😊 \n📍 au Centre Social à Montbazens\n👛 Gratuit/enfant adhérents\, 5€/enfant non adhérent\n☎️ Infos au CSPM – 05 65 80 45 47
URL:https://www.centresocial-montbazens.fr/actualite/atelier-sophrologie-parents-enfants/
LOCATION:Centre Social du Plateau de Montbazens\, 16 Chemin du Tournevic\, Montbazens\, 12220\, France
CATEGORIES:Pôle Famille
ATTACH;FMTTYPE=image/jpeg:https://www.centresocial-montbazens.fr/wp-content/uploads/2025/01/Affiche-P-E-Sophro-Fevrier.jpg
ORGANIZER;CN="CSPM":MAILTO:contact@centresocial-montbazens.fr
END:VEVENT
BEGIN:VEVENT
DTSTART;VALUE=DATE:20250227
DTEND;VALUE=DATE:20250228
DTSTAMP:20260422T100521
CREATED:20250214T091740Z
LAST-MODIFIED:20250214T091740Z
UID:10512-1740614400-1740700799@www.centresocial-montbazens.fr
SUMMARY:Réunion de d'Information et de Prévention "Démarchages\, Arnaques et Cambriolages"
DESCRIPTION:📔Prenez date ! \nLe Point Info Seniors du Plateau de Montbazens en partenariat avec la Brigade de Gendarmerie de Montbazens organise une réunion d’information et de prévention le Jeudi 27 Février prochain à 15h à la Salle des Fêtes de Lugan. \nA cette occasion\, l’adjudant Bernard Enrique présentera les réflexes à adopter pour prévenir arnaques et cambriolages. Il rappellera aussi les points de vigilance essentiels en cas de démarchages physiques\, téléphoniques ou numériques.\nCette rencontre est gratuite et ouverte à tous. \nInformations complémentaires auprès du Centre Social au 05.65.80.45.47.
URL:https://www.centresocial-montbazens.fr/actualite/reunion-de-dinformation-et-de-prevention-demarchages-arnaques-et-cambriolages/
LOCATION:Lugan\, 12220\, France
CATEGORIES:Pôle Seniors
ATTACH;FMTTYPE=image/png:https://www.centresocial-montbazens.fr/wp-content/uploads/2025/02/Reunion-Prevention-Securite-Seniors.png
ORGANIZER;CN="CSPM":MAILTO:contact@centresocial-montbazens.fr
END:VEVENT
END:VCALENDAR