BEGIN:VCALENDAR
VERSION:2.0
PRODID:-//Centre Social du Plateau de Montbazens - ECPv6.15.20//NONSGML v1.0//EN
CALSCALE:GREGORIAN
METHOD:PUBLISH
X-ORIGINAL-URL:https://www.centresocial-montbazens.fr
X-WR-CALDESC:Évènements pour Centre Social du Plateau de Montbazens
REFRESH-INTERVAL;VALUE=DURATION:PT1H
X-Robots-Tag:noindex
X-PUBLISHED-TTL:PT1H
BEGIN:VTIMEZONE
TZID:Europe/Paris
BEGIN:DAYLIGHT
TZOFFSETFROM:+0100
TZOFFSETTO:+0200
TZNAME:CEST
DTSTART:20230326T010000
END:DAYLIGHT
BEGIN:STANDARD
TZOFFSETFROM:+0200
TZOFFSETTO:+0100
TZNAME:CET
DTSTART:20231029T010000
END:STANDARD
BEGIN:DAYLIGHT
TZOFFSETFROM:+0100
TZOFFSETTO:+0200
TZNAME:CEST
DTSTART:20240331T010000
END:DAYLIGHT
BEGIN:STANDARD
TZOFFSETFROM:+0200
TZOFFSETTO:+0100
TZNAME:CET
DTSTART:20241027T010000
END:STANDARD
BEGIN:DAYLIGHT
TZOFFSETFROM:+0100
TZOFFSETTO:+0200
TZNAME:CEST
DTSTART:20250330T010000
END:DAYLIGHT
BEGIN:STANDARD
TZOFFSETFROM:+0200
TZOFFSETTO:+0100
TZNAME:CET
DTSTART:20251026T010000
END:STANDARD
BEGIN:DAYLIGHT
TZOFFSETFROM:+0100
TZOFFSETTO:+0200
TZNAME:CEST
DTSTART:20260329T010000
END:DAYLIGHT
BEGIN:STANDARD
TZOFFSETFROM:+0200
TZOFFSETTO:+0100
TZNAME:CET
DTSTART:20261025T010000
END:STANDARD
END:VTIMEZONE
BEGIN:VEVENT
DTSTART;VALUE=DATE:20241230
DTEND;VALUE=DATE:20250104
DTSTAMP:20260422T100521
CREATED:20241223T193721Z
LAST-MODIFIED:20250401T142937Z
UID:9954-1735516800-1735948799@www.centresocial-montbazens.fr
SUMMARY:Les Vacances de Noël à l'Accueil de Loisirs
DESCRIPTION:C’est parti  ! Le programme festif de l’𝐀𝐜𝐜𝐮𝐞𝐢𝐥 𝐝𝐞 𝐋𝐨𝐢𝐬𝐢𝐫𝐬 pour les Vacances de Noël est fin prêt :Les réservations sont ouvertes :* à partir d’aujourd’hui pour les familles du plateau de Montbazens (13 communes)* à partir du 9 décembre pour les familles résidents hors plateau de MontbazensA noter : La sortie cinéma sera maintenue sous réserve de film adapté à tous publics𝐋𝐞 𝐬𝐢𝐭𝐞 𝐝𝐞 𝐌𝐨𝐧𝐭𝐛𝐚𝐳𝐞𝐧𝐬 𝐬𝐞𝐫𝐚 𝐨𝐮𝐯𝐞𝐫𝐭 𝐝𝐮 𝟑𝟎 𝐝𝐞́𝐜𝐞𝐦𝐛𝐫𝐞 𝐚𝐮 𝟑 𝐣𝐚𝐧𝐯𝐢𝐞𝐫 (𝐟𝐞𝐫𝐦𝐞𝐭𝐮𝐫𝐞 𝐥𝐚 𝐩𝐫𝐞𝐦𝐢𝐞̀𝐫𝐞 𝐬𝐞𝐦𝐚𝐢𝐧𝐞 𝐞𝐭 𝐥𝐞 𝟏 𝐣𝐚𝐧𝐯𝐢𝐞𝐫) 𝐞𝐭 𝐥𝐞 𝐬𝐢𝐭𝐞 𝐝𝐞 𝐋𝐚𝐧𝐮𝐞́𝐣𝐨𝐮𝐥𝐬 𝐬𝐞𝐫𝐚 𝐟𝐞𝐫𝐦𝐞́ 𝐥𝐞𝐬 𝐝𝐞𝐮𝐱 𝐬𝐞𝐦𝐚𝐢𝐧𝐞𝐬 ;Les réservations se font par :* mail : alsh@centresocial-montbazens.fr* ou via l’espace famille (lien à demander par mail pour la première connexion)
URL:https://www.centresocial-montbazens.fr/actualite/les-vacances-de-noel-a-laccueil-de-loisirs/
LOCATION:Aveyron
CATEGORIES:Pôle Accueil de Loisirs
ATTACH;FMTTYPE=image/jpeg:https://www.centresocial-montbazens.fr/wp-content/uploads/2024/12/alsh2.jpg
ORGANIZER;CN="CSPM":MAILTO:contact@centresocial-montbazens.fr
END:VEVENT
BEGIN:VEVENT
DTSTART;VALUE=DATE:20250103
DTEND;VALUE=DATE:20250104
DTSTAMP:20260422T100521
CREATED:20250108T103019Z
LAST-MODIFIED:20250108T103019Z
UID:10108-1735862400-1735948799@www.centresocial-montbazens.fr
SUMMARY:Soirée Jeux
DESCRIPTION:Vendredi 3 Janvier – à partir de 19h (…. et tous les 1ers vendredis du mois)\n𝐒𝐨𝐢𝐫𝐞́𝐞 𝐉𝐞𝐮𝐱 – Tout public – proposée par l’association « Jeux Vadrouillent »\nVenez partager un bon moment autour de jeux de société variés ! Seul\, entre amis ou en famille… Bienvenus ! Les règles pourront vous être expliquées !\n au Centre Social à Montbazens\n Gratuit\n Auberge Espagnole
URL:https://www.centresocial-montbazens.fr/actualite/soiree-jeux-3/
LOCATION:Centre Social du Plateau de Montbazens\, 16 Chemin du Tournevic\, Montbazens\, 12220\, France
CATEGORIES:Animations pour Tous
ATTACH;FMTTYPE=image/jpeg:https://www.centresocial-montbazens.fr/wp-content/uploads/2024/12/soiree-jeux-1.jpg
ORGANIZER;CN="CSPM":MAILTO:contact@centresocial-montbazens.fr
END:VEVENT
BEGIN:VEVENT
DTSTART;VALUE=DATE:20250107
DTEND;VALUE=DATE:20250108
DTSTAMP:20260422T100521
CREATED:20250204T100648Z
LAST-MODIFIED:20250204T100648Z
UID:10389-1736208000-1736294399@www.centresocial-montbazens.fr
SUMMARY:Café Numérique
DESCRIPTION:𝐎𝐧 𝐬𝐞 𝐫𝐞𝐭𝐫𝐨𝐮𝐯𝐞 𝐌𝐚𝐫𝐝𝐢 au Centre Social 😀 ! \nTous les 15 jours\, selon calendrier pré-établi\, le Centre Social vous propose un nouveau rendez-vous d’échanges de savoirs : « 𝐋𝐞 𝐂𝐚𝐟𝐞́ 𝐍𝐮𝐦𝐞́𝐫𝐢𝐪𝐮𝐞 » ! \n𝐕𝐞𝐧𝐞𝐳 𝐚𝐯𝐞𝐜 𝐨𝐮 𝐬𝐚𝐧𝐬 𝐯𝐨𝐭𝐫𝐞 𝐏𝐂 𝐞𝐭 𝐨𝐮 𝐬𝐦𝐚𝐫𝐭𝐩𝐡𝐨𝐧𝐞 / 𝐭𝐚𝐛𝐥𝐞𝐭𝐭𝐞 𝐩𝐚𝐫𝐭𝐚𝐠𝐞𝐫\, 𝐪𝐮𝐞𝐬𝐭𝐢𝐨𝐧𝐧𝐞𝐫 𝐞𝐭 𝐚𝐩𝐩𝐫𝐞𝐧𝐝𝐫𝐞 𝐝𝐚𝐧𝐬 𝐮𝐧𝐞 𝐚𝐦𝐛𝐢𝐚𝐧𝐜𝐞 𝐜𝐨𝐧𝐯𝐢𝐯𝐢𝐚𝐥𝐞 ! \n* vous vous interrogez sur le fonctionnement d’une application particulière ou d’un logiciel\,\n* vous aimeriez être plus à l’aise avec l’outil informatique\, Internet …\n* vous cherchez des trucs et astuces pour être plus efficace face à votre écran …? \net / ou \nVous avez des connaissances – même basiques – dans les domaines de l’𝐢𝐧𝐟𝐨𝐫𝐦𝐚𝐭𝐢𝐪𝐮𝐞 𝐞𝐭 𝐝𝐞𝐬 𝐧𝐨𝐮𝐯𝐞𝐥𝐥𝐞𝐬 𝐭𝐞𝐜𝐡𝐧𝐨𝐥𝐨𝐠𝐢𝐞𝐬 ? \nVous savez :\n* envoyer un mail ou naviguer sur Internet ?\n* utiliser un outil de traitement de texte ou un tableur ?\n* partager des photos à partir de votre téléphone ?\n* remplir un formulaire en ligne ?\n* utiliser les applications permettant le lien avec l’établissement scolaire de votre enfant ?\n* …etc… \n𝐔𝐧 𝐦𝐚𝐢̂𝐭𝐫𝐞-𝐦𝐨𝐭 : 𝐏𝐀𝐑𝐓𝐀𝐆𝐄 ! \nNous avons toutes et tous des choses à apprendre les uns des autres et il n’y a pas de « petit savoir »\, toute connaissance et toute expérience sont bonnes à échanger ! \n\nN’hésitez pas à en parler autour de vous et à venir avec un ou plusieurs amis. Plus nous serons nombreux\, plus nos échanges seront fructueux !\n\n\n\nGrâce au soutien financier de la CARSAT Midi-Pyrénées\, de la MSA et de la région Occitanie\, ces rendez-vous sont gratuits pour les adhérents au Centre Social (adhésion familiale 24-25 : 16€ pour les habitants du Plateau de Montbazens ou 19€ si vous résidez hors Communauté de Communes).\n\n\nA très vite donc au Centre Social ! \nInformation complémentaire au 05.65.80.45.47
URL:https://www.centresocial-montbazens.fr/actualite/cafe-numerique-25/
LOCATION:Centre Social du Plateau de Montbazens\, 16 Chemin du Tournevic\, Montbazens\, 12220\, France
CATEGORIES:Animations pour Tous
ATTACH;FMTTYPE=image/png:https://www.centresocial-montbazens.fr/wp-content/uploads/2024/09/Cafes-Numeriques.png
ORGANIZER;CN="CSPM":MAILTO:contact@centresocial-montbazens.fr
END:VEVENT
BEGIN:VEVENT
DTSTART;VALUE=DATE:20250109
DTEND;VALUE=DATE:20250110
DTSTAMP:20260422T100521
CREATED:20250108T100738Z
LAST-MODIFIED:20250108T100739Z
UID:10101-1736380800-1736467199@www.centresocial-montbazens.fr
SUMMARY:Apéro-Rencontre "Des Livres et des Bébés"
DESCRIPTION:Apéro-Rencontre autour du dispositif 📔 »𝐃𝐞𝐬 𝐋𝐢𝐯𝐫𝐞𝐬 𝐞𝐭 𝐃𝐞𝐬 𝐁𝐞́𝐛𝐞́𝐬 »👶 \nSoyez les bienvenus ce 𝐉𝐞𝐮𝐝𝐢 𝟗 𝐉𝐚𝐧𝐯𝐢𝐞𝐫 𝐚̀ 𝐩𝐚𝐫𝐭𝐢𝐫 𝐝𝐞 𝟏𝟖𝐡 – 𝐒𝐚𝐥𝐥𝐞 𝐒𝐞́𝐠𝐚𝐥𝐚 𝐚𝐮 𝐂𝐞𝐧𝐭𝐫𝐞 𝐒𝐨𝐜𝐢𝐚𝐥. \nDans le cadre du dispositif départemental « Des livres et des bébés »\, le Réseau des Médiathèques du Plateau de Montbazens et le Centre Social 𝐫𝐞𝐜𝐡𝐞𝐫𝐜𝐡𝐞𝐧𝐭 𝐝𝐞𝐬 𝐛𝐞́𝐧𝐞́𝐯𝐨𝐥𝐞𝐬 𝐬𝐨𝐮𝐡𝐚𝐢𝐭𝐚𝐧𝐭 𝐫𝐚𝐥𝐥𝐢𝐞𝐫 𝐥’𝐚𝐯𝐞𝐧𝐭𝐮𝐫𝐞 𝐞𝐭 𝐥𝐢𝐫𝐞 𝐚𝐯𝐞𝐜 𝐥𝐞𝐬 𝐭𝐨𝐮𝐭-𝐩𝐞𝐭𝐢𝐭𝐬. \nLe territoire du Plateau de Montbazens entre cette année dans le dispositif « Des Livres et Des Bébés » proposé par le Département via sa médiathèque départementale\, en partenariat avec l’intercommunalité du Plateau de Montbazens. « Des Livres et Des Bébés » est un programme d’action culturelle qui vise à favoriser la présence d’albums de qualité auprès des tout-petits et des adultes qui les accompagnent\, dans une relation de plaisir et à travers la lecture à voix haute. \nPendant 3 ans\, nous serons accompagnés par la MDA (médiathèque départementale) à travers des rencontres\, des ateliers et des formations. Les bénévoles participant à cette aventure pourront venir lire avec les tout-petits dans les différentes médiathèques du Plateau\, au CSPM (à la crèche\, au Relais Petite Enfance et lors d’ateliers spécifiques proposés aux parents avec leurs tout-petits…). \nSi vous êtes intéressés pour participer ou si vous êtes simplement curieux\, 𝐯𝐨𝐮𝐬 𝐞̂𝐭𝐞𝐬 𝐥𝐞𝐬 𝐛𝐢𝐞𝐧𝐯𝐞𝐧𝐮𝐬 𝐚̀ 𝐥’𝐀𝐩𝐞́𝐫𝐨-𝐑𝐞𝐧𝐜𝐨𝐧𝐭𝐫𝐞 𝐩𝐫𝐨𝐩𝐨𝐬𝐞́ 𝐜𝐞 𝐉𝐞𝐮𝐝𝐢 𝟗 𝐉𝐚𝐧𝐯𝐢𝐞𝐫 𝐚̀ 𝐩𝐚𝐫𝐭𝐢𝐫 𝐝𝐞 𝟏𝟖𝐡 𝐚𝐮 𝐂𝐒𝐏𝐌 𝐚̀ 𝐌𝐨𝐧𝐭𝐛𝐚𝐳𝐞𝐧𝐬 ! Une rencontre pour échanger sur le dispositif\, les étapes proposées\, les missions de chacun et l’importance de lire avec les tout-petits.
URL:https://www.centresocial-montbazens.fr/actualite/apero-rencontre-des-livres-et-des-bebes/
LOCATION:Centre Social du Plateau de Montbazens\, 16 Chemin du Tournevic\, Montbazens\, 12220\, France
CATEGORIES:Animations pour Tous,Pôle Famille
ATTACH;FMTTYPE=image/jpeg:https://www.centresocial-montbazens.fr/wp-content/uploads/2025/01/Affiche-Appel-a-Benevoles-DLDB.jpg
ORGANIZER;CN="CSPM":MAILTO:contact@centresocial-montbazens.fr
END:VEVENT
BEGIN:VEVENT
DTSTART;VALUE=DATE:20250110
DTEND;VALUE=DATE:20250111
DTSTAMP:20260422T100521
CREATED:20250108T101218Z
LAST-MODIFIED:20250108T101218Z
UID:10104-1736467200-1736553599@www.centresocial-montbazens.fr
SUMMARY:Atelier "Bébés Lecteurs"
DESCRIPTION:C’est reparti 😀 ! \nNous vous donnons rendez-vous ce 𝐕𝐞𝐧𝐝𝐫𝐞𝐝𝐢 𝟏𝟎 𝐉𝐚𝐧𝐯𝐢𝐞𝐫 – 𝐝𝐞 𝟗𝐡𝟑𝟎 𝐚̀ 𝟏𝟏𝐡𝟑𝟎 𝐚𝐮 𝐌𝐨𝐮𝐥𝐢𝐧 𝐝𝐞 𝐥𝐚 𝐂𝐮𝐥𝐭𝐮𝐫𝐞 𝐚̀ 𝐌𝐨𝐧𝐭𝐛𝐚𝐳𝐞𝐧𝐬 pour un nouveau rendez-vous « 𝐁𝐞́𝐛𝐞́𝐬 𝐋𝐞𝐜𝐭𝐞𝐮𝐫𝐬 » \n« 𝐁𝐞́𝐛𝐞́𝐬 𝐋𝐞𝐜𝐭𝐞𝐮𝐫𝐬 » c’est un temps de lecture Parents-Enfants pour lire avec les bébés et découvrir des albums jeunesse adaptés ! \nOuvert aux Futurs parents\, Parents\, Grands-Parents avec ou sans enfants de 0 à 3 ans \nGratuit sans inscription – Infos au CSPM – 05 65 80 45 47 \nSoyez les bienvenus entre 9h30 et 11h30 !\nVous arrivez quand vous le pouvez et partez quand vous le voulez 😉!
URL:https://www.centresocial-montbazens.fr/actualite/atelier-bebes-lecteurs/
LOCATION:Moulin de la Culture – Montbazens\, 11 Quartier du Vieux Bourg\, Montbazens\, Aveyron\, 12220\, France
CATEGORIES:Pôle Famille
ATTACH;FMTTYPE=image/jpeg:https://www.centresocial-montbazens.fr/wp-content/uploads/2025/01/Bebes-Lecteurs-BlablaBebes-Janvier-2025.jpg
ORGANIZER;CN="CSPM":MAILTO:contact@centresocial-montbazens.fr
END:VEVENT
BEGIN:VEVENT
DTSTART;VALUE=DATE:20250110
DTEND;VALUE=DATE:20250111
DTSTAMP:20260422T100521
CREATED:20250108T105119Z
LAST-MODIFIED:20250108T105119Z
UID:10114-1736467200-1736553599@www.centresocial-montbazens.fr
SUMMARY:Pause Parentale : Éducation à la Relation
DESCRIPTION:Le pôle Actions Famille vous propose une nouvelle 𝐏𝐚𝐮𝐬𝐞 𝐏𝐚𝐫𝐞𝐧𝐭𝐚𝐥𝐞 avec 𝐁𝐫𝐢𝐠𝐢𝐭𝐭𝐞 𝐂𝐚𝐬𝐬𝐞𝐭𝐭𝐞 le 𝐕𝐞𝐧𝐝𝐫𝐞𝐝𝐢 𝟏𝟎 𝐉𝐚𝐧𝐯𝐢𝐞𝐫 𝐝𝐞 𝟐𝟎𝐡 𝐚̀ 𝟐𝟐𝐡𝟑𝟎 pour discuter et échanger sur le thème *** 𝐄́𝐝𝐮𝐜𝐚𝐭𝐢𝐨𝐧 𝐚̀ 𝐥𝐚 𝐑𝐞𝐥𝐚𝐭𝐢𝐨𝐧 *** \nSuite à l’atelier proposé en décembre sur le même thème\, les participant.e.s ont émis le souhait d’organiser une continuité et de proposer un deuxième atelier…\nLe groupe sera ouvert aussi à de nouvelles personnes souhaitant participer ! \n12 personnes maximum ! \nUn atelier pour présenter et tester des outils et des ressources à mettre en place dans la famille ! \n« 𝐼𝑙𝑠 𝑠𝑜𝑛𝑡 𝑡𝑜𝑢𝑗𝑜𝑢𝑟𝑠 𝑒𝑛 𝑡𝑟𝑎𝑖𝑛 𝑑𝑒 𝑠𝑒 𝑐ℎ𝑎𝑚𝑎𝑖𝑙𝑙𝑒𝑟… » \n« 𝑃𝑜𝑢𝑟𝑞𝑢𝑜𝑖 𝑐ℎ𝑒𝑟𝑐ℎ𝑒-𝑡-𝑖𝑙 𝑡𝑜𝑢𝑗𝑜𝑢𝑟𝑠 𝑎̀ ℎ𝑢𝑚𝑖𝑙𝑖𝑒𝑟 𝑠𝑎 𝑠œ𝑢𝑟 ? » \n« 𝑀𝑜𝑛 𝑒𝑛𝑓𝑎𝑛𝑡 𝑛𝑒 𝑠𝑎𝑖𝑡 𝑝𝑎𝑠 𝑒𝑥𝑝𝑟𝑖𝑚𝑒𝑟 𝑐𝑒 𝑞𝑢’𝑖𝑙 𝑣𝑖𝑡\, 𝑖𝑙 𝑒𝑥𝑝𝑙𝑜𝑠𝑒 𝑡𝑜𝑢𝑡 𝑑𝑒 𝑠𝑢𝑖𝑡𝑒… » \n𝑂𝑢𝑖\, 𝑙𝑎 𝑟𝑒𝑙𝑎𝑡𝑖𝑜𝑛 𝑐̧𝑎 𝑠’𝑎𝑝𝑝𝑟𝑒𝑛𝑑\, 𝑒𝑡 𝑙𝑎 𝑓𝑎𝑚𝑖𝑙𝑙𝑒 𝑐’𝑒𝑠𝑡 𝑙’𝑒𝑛𝑑𝑟𝑜𝑖𝑡 𝑜𝑢̀ 𝑜𝑛 𝑙’𝑎𝑝𝑝𝑟𝑒𝑛𝑑. 𝑆𝑜𝑖𝑡 𝑜𝑛 𝑙𝑎𝑖𝑠𝑠𝑒 𝑙𝑒𝑠 𝑎𝑝𝑝𝑟𝑒𝑛𝑡𝑖𝑠𝑠𝑎𝑔𝑒𝑠 𝑠𝑒 𝑓𝑎𝑖𝑟𝑒 𝑠𝑢𝑟 𝑙𝑒 𝑡𝑎𝑠… 𝐸𝑡 𝑐’𝑒𝑠𝑡 𝑙𝑎 𝑙𝑜𝑖 𝑑𝑢 𝑝𝑙𝑢𝑠 𝑓𝑜𝑟𝑡\, 𝑙𝑒𝑠 𝑐𝑜𝑙𝑒̀𝑟𝑒𝑠\, 𝑙𝑒𝑠 𝑐𝑜𝑛𝑓𝑙𝑖𝑡𝑠 𝑚𝑎𝑙 𝑔𝑒́𝑟𝑒́𝑠… \n𝑆𝑜𝑖𝑡 𝑜𝑛 𝑔𝑢𝑖𝑑𝑒\, 𝑜𝑛 𝑎𝑐𝑐𝑜𝑚𝑝𝑎𝑔𝑛𝑒\, 𝑜𝑛 𝑐𝑟𝑒́𝑒 𝑑𝑒𝑠 𝑜𝑢𝑡𝑖𝑙𝑠… 𝐸𝑡 𝑜𝑛 𝑠𝑒̀𝑚𝑒 𝑑𝑒𝑠 𝑔𝑟𝑎𝑖𝑛𝑒𝑠 𝑑’𝑒𝑚𝑝𝑎𝑡ℎ𝑖𝑒\, 𝑑𝑒 𝑠𝑜𝑙𝑖𝑑𝑎𝑟𝑖𝑡𝑒́\, 𝑑𝑒 𝑐𝑜𝑚𝑝𝑟𝑒́ℎ𝑒𝑛𝑠𝑖𝑜𝑛 𝑚𝑢𝑡𝑢𝑒𝑙𝑙𝑒. \n𝐶𝑒𝑡 𝑎𝑡𝑒𝑙𝑖𝑒𝑟 𝑝𝑟𝑒́𝑠𝑒𝑛𝑡𝑒 𝑞𝑢𝑒𝑙𝑞𝑢𝑒𝑠 𝑜𝑢𝑡𝑖𝑙𝑠\, 𝑎̀ 𝑚𝑒𝑡𝑡𝑟𝑒 𝑒𝑛 𝑝𝑙𝑎𝑐𝑒 𝑑𝑎𝑛𝑠 𝑙𝑎 𝑓𝑎𝑚𝑖𝑙𝑙𝑒 𝑞𝑢’𝑖𝑙 𝑦 𝑎𝑖𝑡 𝑢𝑛 𝑠𝑒𝑢𝑙 𝑒𝑛𝑓𝑎𝑛𝑡\, 𝑑𝑒𝑢𝑥\, 𝑡𝑟𝑜𝑖𝑠 𝑜𝑢 𝑝𝑙𝑢𝑠 ! \n📍 Dans les locaux de RPE à Montbazens (Zone du Colombier)\n☎️ Places limitées\, inscription obligatoire au CSPM : 05 65 80 45 47.\n👛 Participation libre et consciente\nℹ️ 𝐏𝐨𝐬𝐬𝐢𝐛𝐢𝐥𝐢𝐭𝐞́ 𝐝𝐞 𝐠𝐚𝐫𝐝𝐞 𝐝’𝐞𝐧𝐟𝐚𝐧𝐭𝐬 𝐬𝐢 𝐛𝐞𝐬𝐨𝐢𝐧 (𝐧𝐨𝐮𝐬 𝐜𝐨𝐧𝐭𝐚𝐜𝐭𝐞𝐫). \n#cspm12 #actionsfamilles #pôlefamille #CentreSocialduPlateaudeMontbazens #centresocial #Montbazens #PlateaudeMontbazens
URL:https://www.centresocial-montbazens.fr/actualite/pause-parentale-education-a-la-relation-2/
LOCATION:Relais Petite Enfance – Montbazens\, ZA du Colombiers\, Montbazens\, Aveyron\, 12220\, France
CATEGORIES:Pôle Famille
ATTACH;FMTTYPE=image/jpeg:https://www.centresocial-montbazens.fr/wp-content/uploads/2025/01/Pause-Parentale-Janvier-2025.jpg
ORGANIZER;CN="CSPM":MAILTO:contact@centresocial-montbazens.fr
END:VEVENT
BEGIN:VEVENT
DTSTART;VALUE=DATE:20250114
DTEND;VALUE=DATE:20250115
DTSTAMP:20260422T100521
CREATED:20250204T100959Z
LAST-MODIFIED:20250204T100959Z
UID:10391-1736812800-1736899199@www.centresocial-montbazens.fr
SUMMARY:Café Numérique
DESCRIPTION:𝐎𝐧 𝐬𝐞 𝐫𝐞𝐭𝐫𝐨𝐮𝐯𝐞 𝐌𝐚𝐫𝐝𝐢 au Centre Social 😀 ! \nTous les 15 jours\, selon calendrier pré-établi\, le Centre Social vous propose un nouveau rendez-vous d’échanges de savoirs : « 𝐋𝐞 𝐂𝐚𝐟𝐞́ 𝐍𝐮𝐦𝐞́𝐫𝐢𝐪𝐮𝐞 » ! \n𝐕𝐞𝐧𝐞𝐳 𝐚𝐯𝐞𝐜 𝐨𝐮 𝐬𝐚𝐧𝐬 𝐯𝐨𝐭𝐫𝐞 𝐏𝐂 𝐞𝐭 𝐨𝐮 𝐬𝐦𝐚𝐫𝐭𝐩𝐡𝐨𝐧𝐞 / 𝐭𝐚𝐛𝐥𝐞𝐭𝐭𝐞 𝐩𝐚𝐫𝐭𝐚𝐠𝐞𝐫\, 𝐪𝐮𝐞𝐬𝐭𝐢𝐨𝐧𝐧𝐞𝐫 𝐞𝐭 𝐚𝐩𝐩𝐫𝐞𝐧𝐝𝐫𝐞 𝐝𝐚𝐧𝐬 𝐮𝐧𝐞 𝐚𝐦𝐛𝐢𝐚𝐧𝐜𝐞 𝐜𝐨𝐧𝐯𝐢𝐯𝐢𝐚𝐥𝐞 ! \n* vous vous interrogez sur le fonctionnement d’une application particulière ou d’un logiciel\,\n* vous aimeriez être plus à l’aise avec l’outil informatique\, Internet …\n* vous cherchez des trucs et astuces pour être plus efficace face à votre écran …? \net / ou \nVous avez des connaissances – même basiques – dans les domaines de l’𝐢𝐧𝐟𝐨𝐫𝐦𝐚𝐭𝐢𝐪𝐮𝐞 𝐞𝐭 𝐝𝐞𝐬 𝐧𝐨𝐮𝐯𝐞𝐥𝐥𝐞𝐬 𝐭𝐞𝐜𝐡𝐧𝐨𝐥𝐨𝐠𝐢𝐞𝐬 ? \nVous savez :\n* envoyer un mail ou naviguer sur Internet ?\n* utiliser un outil de traitement de texte ou un tableur ?\n* partager des photos à partir de votre téléphone ?\n* remplir un formulaire en ligne ?\n* utiliser les applications permettant le lien avec l’établissement scolaire de votre enfant ?\n* …etc… \n𝐔𝐧 𝐦𝐚𝐢̂𝐭𝐫𝐞-𝐦𝐨𝐭 : 𝐏𝐀𝐑𝐓𝐀𝐆𝐄 ! \nNous avons toutes et tous des choses à apprendre les uns des autres et il n’y a pas de « petit savoir »\, toute connaissance et toute expérience sont bonnes à échanger ! \n\nN’hésitez pas à en parler autour de vous et à venir avec un ou plusieurs amis. Plus nous serons nombreux\, plus nos échanges seront fructueux !\n\n\n\nGrâce au soutien financier de la CARSAT Midi-Pyrénées\, de la MSA et de la région Occitanie\, ces rendez-vous sont gratuits pour les adhérents au Centre Social (adhésion familiale 24-25 : 16€ pour les habitants du Plateau de Montbazens ou 19€ si vous résidez hors Communauté de Communes).\n\n\nA très vite donc au Centre Social ! \nInformation complémentaire au 05.65.80.45.47
URL:https://www.centresocial-montbazens.fr/actualite/cafe-numerique-26/
LOCATION:Centre Social du Plateau de Montbazens\, 16 Chemin du Tournevic\, Montbazens\, 12220\, France
CATEGORIES:Animations pour Tous
ATTACH;FMTTYPE=image/png:https://www.centresocial-montbazens.fr/wp-content/uploads/2024/09/Cafes-Numeriques.png
ORGANIZER;CN="CSPM":MAILTO:contact@centresocial-montbazens.fr
END:VEVENT
BEGIN:VEVENT
DTSTART;VALUE=DATE:20250125
DTEND;VALUE=DATE:20250126
DTSTAMP:20260422T100521
CREATED:20250117T110507Z
LAST-MODIFIED:20250117T110507Z
UID:10217-1737763200-1737849599@www.centresocial-montbazens.fr
SUMMARY:Atelier Portage
DESCRIPTION:𝐒𝐚𝐦𝐞𝐝𝐢 𝟐𝟓 𝐉𝐚𝐧𝐯𝐢𝐞𝐫 – retrouvez 𝐉𝐮𝐥𝐢𝐞𝐭𝐭𝐞 𝐋𝐞 𝐆𝐚𝐥𝐥 (Psychomotricienne & monitrice de portage) pour un 𝐚𝐭𝐞𝐥𝐢𝐞𝐫 𝐏𝐨𝐫𝐭𝐚𝐠𝐞 ! \nJuliette vous donne rendez-vous de 9h30 à 11h30 au Centre Social pour découvrir les bases du portage\, les différentes écharpes et autres moyens de portage (porte-bébé\, meï-tai\, sling\, préformés…)\nUn atelier pour échanger sur les besoins de chacun…\nVenez avec votre matériel de portage et\, si vous n’en avez pas\, Juliette aura aussi différents moyens de portage à vous proposer et un poupon pour vous entraîner. \nCet atelier est à destination des futurs parents\, parents\, grands-parents accompagnés ou non de leur bébé ou bambin de 0 à 2 ans. \n📍 au Centre Social\n👛 Gratuit pour les adhérents au CSPM ou 3€ / famille non adhérente\n☎️ Sur inscription au CSPM – 05 65 80 45 47
URL:https://www.centresocial-montbazens.fr/actualite/atelier-portage/
LOCATION:Centre Social du Plateau de Montbazens\, 16 Chemin du Tournevic\, Montbazens\, 12220\, France
CATEGORIES:Pôle Famille
ATTACH;FMTTYPE=image/jpeg:https://www.centresocial-montbazens.fr/wp-content/uploads/2025/01/Ateliers-Portage-2025-Semestre-1.jpg
ORGANIZER;CN="CSPM":MAILTO:contact@centresocial-montbazens.fr
END:VEVENT
END:VCALENDAR