BEGIN:VCALENDAR
VERSION:2.0
PRODID:-//Centre Social du Plateau de Montbazens - ECPv6.15.20//NONSGML v1.0//EN
CALSCALE:GREGORIAN
METHOD:PUBLISH
X-ORIGINAL-URL:https://www.centresocial-montbazens.fr
X-WR-CALDESC:Évènements pour Centre Social du Plateau de Montbazens
REFRESH-INTERVAL;VALUE=DURATION:PT1H
X-Robots-Tag:noindex
X-PUBLISHED-TTL:PT1H
BEGIN:VTIMEZONE
TZID:Europe/Paris
BEGIN:DAYLIGHT
TZOFFSETFROM:+0100
TZOFFSETTO:+0200
TZNAME:CEST
DTSTART:20230326T010000
END:DAYLIGHT
BEGIN:STANDARD
TZOFFSETFROM:+0200
TZOFFSETTO:+0100
TZNAME:CET
DTSTART:20231029T010000
END:STANDARD
BEGIN:DAYLIGHT
TZOFFSETFROM:+0100
TZOFFSETTO:+0200
TZNAME:CEST
DTSTART:20240331T010000
END:DAYLIGHT
BEGIN:STANDARD
TZOFFSETFROM:+0200
TZOFFSETTO:+0100
TZNAME:CET
DTSTART:20241027T010000
END:STANDARD
BEGIN:DAYLIGHT
TZOFFSETFROM:+0100
TZOFFSETTO:+0200
TZNAME:CEST
DTSTART:20250330T010000
END:DAYLIGHT
BEGIN:STANDARD
TZOFFSETFROM:+0200
TZOFFSETTO:+0100
TZNAME:CET
DTSTART:20251026T010000
END:STANDARD
END:VTIMEZONE
BEGIN:VEVENT
DTSTART;VALUE=DATE:20241105
DTEND;VALUE=DATE:20241106
DTSTAMP:20260422T104206
CREATED:20240912T125239Z
LAST-MODIFIED:20241223T165757Z
UID:9214-1730764800-1730851199@www.centresocial-montbazens.fr
SUMMARY:Ateliers Seniors d’Initiation au Numérique
DESCRIPTION:💻 Vous avez 60 ans et + et vous débutez dans le numérique ?\nVous avez besoin d’un petit coup de pouce pour lever les freins et vous lancer ? \nA partir du Mardi 24 Septembre\, le Point Info Seniors du Plateau de Montbazens vous propose 8 rendez-vous d’initiation en petit groupe (10 participants maximum) dans un cadre convivial et bienveillant ! \nLes séances sont organisées au Centre Social\, le mardi matin de 9h à 10h30 pour le 1er groupe\, puis de 10h30 à 12h pour le 2nd groupe du 24 septembre au 26 novembre. \nVous serez accompagnés par Perrine Bestard du GRETA Midi-Pyrénées Nord qui vous proposera au cours de ces 8 séances de : \n\nDécouvrir et /ou être plus autonome dans l’utilisation de votre ordinateur ;\nApprendre ou vous perfectionner dans la saisie d’un texte\, apprendre à compléter un formulaire… ;\nDécouvrir et naviguer sur Internet de façon efficace et sécurisée ;\nCommuniquer par mail via votre ordinateur ou votre téléphone.\n\n10 places disponibles – Gratuit pour les Adhérents au CSPM \n☎️ Informations et inscriptions auprès du Centre Social au 05.65.80.45.47 \nCes séances d’initiation sont destinées – en priorité – aux habitants de la Communauté de Communes du Plateau de Montbazens et sont proposées grâce au soutien de la Conférence des Financeurs\, du Département de l’Aveyron et de la Communauté de Communes du Plateau de Montbazens.
URL:https://www.centresocial-montbazens.fr/actualite/ateliers-seniors-dinitiation-au-numerique-13/
LOCATION:Centre Social du Plateau de Montbazens\, 16 Chemin du Tournevic\, Montbazens\, 12220\, France
CATEGORIES:Pôle Seniors
ATTACH;FMTTYPE=image/png:https://www.centresocial-montbazens.fr/wp-content/uploads/2024/09/ANS-Automne-2024.png
ORGANIZER;CN="CSPM":MAILTO:contact@centresocial-montbazens.fr
END:VEVENT
BEGIN:VEVENT
DTSTART;VALUE=DATE:20241112
DTEND;VALUE=DATE:20241113
DTSTAMP:20260422T104206
CREATED:20240912T125303Z
LAST-MODIFIED:20241223T170539Z
UID:9212-1731369600-1731455999@www.centresocial-montbazens.fr
SUMMARY:Ateliers Seniors d’Initiation au Numérique
DESCRIPTION:💻 Vous avez 60 ans et + et vous débutez dans le numérique ?\nVous avez besoin d’un petit coup de pouce pour lever les freins et vous lancer ? \nA partir du Mardi 24 Septembre\, le Point Info Seniors du Plateau de Montbazens vous propose 8 rendez-vous d’initiation en petit groupe (10 participants maximum) dans un cadre convivial et bienveillant ! \nLes séances sont organisées au Centre Social\, le mardi matin de 9h à 10h30 pour le 1er groupe\, puis de 10h30 à 12h pour le 2nd groupe du 24 septembre au 26 novembre. \nVous serez accompagnés par Perrine Bestard du GRETA Midi-Pyrénées Nord qui vous proposera au cours de ces 8 séances de : \n\nDécouvrir et /ou être plus autonome dans l’utilisation de votre ordinateur ;\nApprendre ou vous perfectionner dans la saisie d’un texte\, apprendre à compléter un formulaire… ;\nDécouvrir et naviguer sur Internet de façon efficace et sécurisée ;\nCommuniquer par mail via votre ordinateur ou votre téléphone.\n\n10 places disponibles – Gratuit pour les Adhérents au CSPM \n☎️ Informations et inscriptions auprès du Centre Social au 05.65.80.45.47 \nCes séances d’initiation sont destinées – en priorité – aux habitants de la Communauté de Communes du Plateau de Montbazens et sont proposées grâce au soutien de la Conférence des Financeurs\, du Département de l’Aveyron et de la Communauté de Communes du Plateau de Montbazens.
URL:https://www.centresocial-montbazens.fr/actualite/ateliers-seniors-dinitiation-au-numerique-14/
LOCATION:Centre Social du Plateau de Montbazens\, 16 Chemin du Tournevic\, Montbazens\, 12220\, France
CATEGORIES:Pôle Seniors
ATTACH;FMTTYPE=image/png:https://www.centresocial-montbazens.fr/wp-content/uploads/2024/09/ANS-Automne-2024.png
ORGANIZER;CN="CSPM":MAILTO:contact@centresocial-montbazens.fr
END:VEVENT
BEGIN:VEVENT
DTSTART;VALUE=DATE:20241118
DTEND;VALUE=DATE:20241119
DTSTAMP:20260422T104206
CREATED:20241223T192246Z
LAST-MODIFIED:20241223T192246Z
UID:9942-1731888000-1731974399@www.centresocial-montbazens.fr
SUMMARY:Seniors Restez Mobiles !
DESCRIPTION:Le Point Info Seniors du Plateau de Montbazens en partenariat avec la Coordination Sécurité Routière de la Direction Départementale des Territoires de l’Aveyron\, vous donne rendez-vous pour une matinée dédiée à la 𝐏𝐫𝐞́𝐯𝐞𝐧𝐭𝐢𝐨𝐧 𝐑𝐨𝐮𝐭𝐢𝐞̀𝐫𝐞 𝐚̀ 𝐝𝐞𝐬𝐭𝐢𝐧𝐚𝐭𝐢𝐨𝐧 𝐝𝐞𝐬 𝐩𝐞𝐫𝐬𝐨𝐧𝐧𝐞𝐬 𝐝𝐞 𝟔𝟎 𝐚𝐧𝐬 𝐞𝐭 +.Retrouvez-nous le 𝐋𝐮𝐧𝐝𝐢 𝟏𝟖 𝐍𝐨𝐯𝐞𝐦𝐛𝐫𝐞 𝐝𝐞 𝟗𝐡 𝐚̀ 𝟏𝟐𝐡 𝐚̀ 𝐥𝐚 𝐒𝐚𝐥𝐥𝐞 𝐝𝐞 𝐒𝐩𝐞𝐜𝐭𝐚𝐜𝐥𝐞𝐬 𝐝𝐞 𝐌𝐨𝐧𝐭𝐛𝐚𝐳𝐞𝐧𝐬 pour prendre part à divers ateliers de remise à niveau du Code de la Route et de prévention.  La participation à ces ateliers est gratuite et nous proposons à celles et ceux qui le souhaitent de terminer cette matinée autour d’un bon repas  (tarif 15€). Les places étant limitées\, merci de vous inscrire auprès du Centre Social au 05.65.80.45.47 à partir du 04 novembre – 14h et jusqu’au 12 novembre inclus.
URL:https://www.centresocial-montbazens.fr/actualite/seniors-restez-mobiles/
LOCATION:Centre Social du Plateau de Montbazens\, 16 Chemin du Tournevic\, Montbazens\, 12220\, France
CATEGORIES:Pôle Seniors
ATTACH;FMTTYPE=image/jpeg:https://www.centresocial-montbazens.fr/wp-content/uploads/2024/12/seniors-restez-mobiles.jpg
ORGANIZER;CN="CSPM":MAILTO:contact@centresocial-montbazens.fr
END:VEVENT
BEGIN:VEVENT
DTSTART;VALUE=DATE:20241119
DTEND;VALUE=DATE:20241120
DTSTAMP:20260422T104206
CREATED:20240912T125334Z
LAST-MODIFIED:20241223T165633Z
UID:9213-1731974400-1732060799@www.centresocial-montbazens.fr
SUMMARY:Ateliers Seniors d’Initiation au Numérique
DESCRIPTION:💻 Vous avez 60 ans et + et vous débutez dans le numérique ?\nVous avez besoin d’un petit coup de pouce pour lever les freins et vous lancer ? \nA partir du Mardi 24 Septembre\, le Point Info Seniors du Plateau de Montbazens vous propose 8 rendez-vous d’initiation en petit groupe (10 participants maximum) dans un cadre convivial et bienveillant ! \nLes séances sont organisées au Centre Social\, le mardi matin de 9h à 10h30 pour le 1er groupe\, puis de 10h30 à 12h pour le 2nd groupe du 24 septembre au 26 novembre. \nVous serez accompagnés par Perrine Bestard du GRETA Midi-Pyrénées Nord qui vous proposera au cours de ces 8 séances de : \n\nDécouvrir et /ou être plus autonome dans l’utilisation de votre ordinateur ;\nApprendre ou vous perfectionner dans la saisie d’un texte\, apprendre à compléter un formulaire… ;\nDécouvrir et naviguer sur Internet de façon efficace et sécurisée ;\nCommuniquer par mail via votre ordinateur ou votre téléphone.\n\n10 places disponibles – Gratuit pour les Adhérents au CSPM \n☎️ Informations et inscriptions auprès du Centre Social au 05.65.80.45.47 \nCes séances d’initiation sont destinées – en priorité – aux habitants de la Communauté de Communes du Plateau de Montbazens et sont proposées grâce au soutien de la Conférence des Financeurs\, du Département de l’Aveyron et de la Communauté de Communes du Plateau de Montbazens.
URL:https://www.centresocial-montbazens.fr/actualite/ateliers-seniors-dinitiation-au-numerique-15/
LOCATION:Centre Social du Plateau de Montbazens\, 16 Chemin du Tournevic\, Montbazens\, 12220\, France
CATEGORIES:Pôle Seniors
ATTACH;FMTTYPE=image/png:https://www.centresocial-montbazens.fr/wp-content/uploads/2024/09/ANS-Automne-2024.png
ORGANIZER;CN="CSPM":MAILTO:contact@centresocial-montbazens.fr
END:VEVENT
BEGIN:VEVENT
DTSTART;VALUE=DATE:20241126
DTEND;VALUE=DATE:20241127
DTSTAMP:20260422T104206
CREATED:20240912T125439Z
LAST-MODIFIED:20241223T170331Z
UID:9211-1732579200-1732665599@www.centresocial-montbazens.fr
SUMMARY:Ateliers Seniors d’Initiation au Numérique
DESCRIPTION:💻 Vous avez 60 ans et + et vous débutez dans le numérique ?\nVous avez besoin d’un petit coup de pouce pour lever les freins et vous lancer ? \nA partir du Mardi 24 Septembre\, le Point Info Seniors du Plateau de Montbazens vous propose 8 rendez-vous d’initiation en petit groupe (10 participants maximum) dans un cadre convivial et bienveillant ! \nLes séances sont organisées au Centre Social\, le mardi matin de 9h à 10h30 pour le 1er groupe\, puis de 10h30 à 12h pour le 2nd groupe du 24 septembre au 26 novembre. \nVous serez accompagnés par Perrine Bestard du GRETA Midi-Pyrénées Nord qui vous proposera au cours de ces 8 séances de : \n\nDécouvrir et /ou être plus autonome dans l’utilisation de votre ordinateur ;\nApprendre ou vous perfectionner dans la saisie d’un texte\, apprendre à compléter un formulaire… ;\nDécouvrir et naviguer sur Internet de façon efficace et sécurisée ;\nCommuniquer par mail via votre ordinateur ou votre téléphone.\n\n10 places disponibles – Gratuit pour les Adhérents au CSPM \n☎️ Informations et inscriptions auprès du Centre Social au 05.65.80.45.47 \nCes séances d’initiation sont destinées – en priorité – aux habitants de la Communauté de Communes du Plateau de Montbazens et sont proposées grâce au soutien de la Conférence des Financeurs\, du Département de l’Aveyron et de la Communauté de Communes du Plateau de Montbazens.
URL:https://www.centresocial-montbazens.fr/actualite/ateliers-seniors-dinitiation-au-numerique-16/
LOCATION:Centre Social du Plateau de Montbazens\, 16 Chemin du Tournevic\, Montbazens\, 12220\, France
CATEGORIES:Pôle Seniors
ATTACH;FMTTYPE=image/png:https://www.centresocial-montbazens.fr/wp-content/uploads/2024/09/ANS-Automne-2024.png
ORGANIZER;CN="CSPM":MAILTO:contact@centresocial-montbazens.fr
END:VEVENT
END:VCALENDAR