BEGIN:VCALENDAR
VERSION:2.0
PRODID:-//Centre Social du Plateau de Montbazens - ECPv6.15.20//NONSGML v1.0//EN
CALSCALE:GREGORIAN
METHOD:PUBLISH
X-WR-CALNAME:Centre Social du Plateau de Montbazens
X-ORIGINAL-URL:https://www.centresocial-montbazens.fr
X-WR-CALDESC:Évènements pour Centre Social du Plateau de Montbazens
REFRESH-INTERVAL;VALUE=DURATION:PT1H
X-Robots-Tag:noindex
X-PUBLISHED-TTL:PT1H
BEGIN:VTIMEZONE
TZID:Europe/Paris
BEGIN:DAYLIGHT
TZOFFSETFROM:+0100
TZOFFSETTO:+0200
TZNAME:CEST
DTSTART:20240331T010000
END:DAYLIGHT
BEGIN:STANDARD
TZOFFSETFROM:+0200
TZOFFSETTO:+0100
TZNAME:CET
DTSTART:20241027T010000
END:STANDARD
BEGIN:DAYLIGHT
TZOFFSETFROM:+0100
TZOFFSETTO:+0200
TZNAME:CEST
DTSTART:20250330T010000
END:DAYLIGHT
BEGIN:STANDARD
TZOFFSETFROM:+0200
TZOFFSETTO:+0100
TZNAME:CET
DTSTART:20251026T010000
END:STANDARD
BEGIN:DAYLIGHT
TZOFFSETFROM:+0100
TZOFFSETTO:+0200
TZNAME:CEST
DTSTART:20260329T010000
END:DAYLIGHT
BEGIN:STANDARD
TZOFFSETFROM:+0200
TZOFFSETTO:+0100
TZNAME:CET
DTSTART:20261025T010000
END:STANDARD
END:VTIMEZONE
BEGIN:VEVENT
DTSTART;VALUE=DATE:20250424
DTEND;VALUE=DATE:20250425
DTSTAMP:20260422T194046
CREATED:20250401T140528Z
LAST-MODIFIED:20250401T140528Z
UID:10980-1745452800-1745539199@www.centresocial-montbazens.fr
SUMMARY:Atelier Nature Parents-Enfants
DESCRIPTION:Lola vous donne rendez-vous le Jeudi 24 Avril – de 10h à 11h30 pour un 𝐀𝐭𝐞𝐥𝐢𝐞𝐫 𝐃𝐈𝐘 𝐏𝐚𝐫𝐞𝐧𝐭𝐬-𝐄𝐧𝐟𝐚𝐧𝐭𝐬 à destination des 3 ans et +. \nAu menu : « Jardinage : Semons des fleurs et fabriquons une tête à gazon« L’idée : Vivre un temps de partage en famille les mains dans la terre et repartir avec des semis dont il faudra ensuite prendre soin ensemble à la maison !  au Centre Social à Montbazens Gratuit/enfant adhérents\, 5€/enfant non adhérent Infos au CSPM – 05 65 80 45 47
URL:https://www.centresocial-montbazens.fr/actualite/atelier-nature-parents-enfants/
LOCATION:Centre Social du Plateau de Montbazens\, 16 Chemin du Tournevic\, Montbazens\, 12220\, France
CATEGORIES:Pôle Famille
ATTACH;FMTTYPE=image/jpeg:https://www.centresocial-montbazens.fr/wp-content/uploads/2025/04/Atelier-P-E-Jardinage-3.jpg
ORGANIZER;CN="CSPM":MAILTO:contact@centresocial-montbazens.fr
END:VEVENT
BEGIN:VEVENT
DTSTART;VALUE=DATE:20250424
DTEND;VALUE=DATE:20250425
DTSTAMP:20260422T194046
CREATED:20250401T141137Z
LAST-MODIFIED:20250401T141137Z
UID:10983-1745452800-1745539199@www.centresocial-montbazens.fr
SUMMARY:Atelier DIY Parents-Enfants Zéro déchet "Papier recyclé"
DESCRIPTION:Et hop ! Un atelier pour les plus grands ! \nRendez-vous le Jeudi 24 Avril – de 14h à 15h30 – avec Lola – pour un Atelier DIY Parents-Enfants pour les 6 ans et + « Fabrication d’une Carte Postale » \nL’idée : Vivre un temps de partage en famille en apprenant une technique simple à refaire chez soi ! \n📍 au Centre Social à Montbazens\n👛 Gratuit/enfant adhérents\, 5€/enfant non adhérent\n☎️ Infos au CSPM – 05 65 80 45 47
URL:https://www.centresocial-montbazens.fr/actualite/atelier-diy-parents-enfants-zero-dechet-papier-recycle/
LOCATION:Centre Social du Plateau de Montbazens\, 16 Chemin du Tournevic\, Montbazens\, 12220\, France
CATEGORIES:Pôle Famille
ATTACH;FMTTYPE=image/jpeg:https://www.centresocial-montbazens.fr/wp-content/uploads/2025/04/Affiche-P-E-Zero-dechet-Papier-recycle.jpg
ORGANIZER;CN="CSPM":MAILTO:contact@centresocial-montbazens.fr
END:VEVENT
END:VCALENDAR