BEGIN:VCALENDAR
VERSION:2.0
PRODID:-//Centre Social du Plateau de Montbazens - ECPv6.15.20//NONSGML v1.0//EN
CALSCALE:GREGORIAN
METHOD:PUBLISH
X-WR-CALNAME:Centre Social du Plateau de Montbazens
X-ORIGINAL-URL:https://www.centresocial-montbazens.fr
X-WR-CALDESC:Évènements pour Centre Social du Plateau de Montbazens
REFRESH-INTERVAL;VALUE=DURATION:PT1H
X-Robots-Tag:noindex
X-PUBLISHED-TTL:PT1H
BEGIN:VTIMEZONE
TZID:Europe/Paris
BEGIN:DAYLIGHT
TZOFFSETFROM:+0100
TZOFFSETTO:+0200
TZNAME:CEST
DTSTART:20230326T010000
END:DAYLIGHT
BEGIN:STANDARD
TZOFFSETFROM:+0200
TZOFFSETTO:+0100
TZNAME:CET
DTSTART:20231029T010000
END:STANDARD
BEGIN:DAYLIGHT
TZOFFSETFROM:+0100
TZOFFSETTO:+0200
TZNAME:CEST
DTSTART:20240331T010000
END:DAYLIGHT
BEGIN:STANDARD
TZOFFSETFROM:+0200
TZOFFSETTO:+0100
TZNAME:CET
DTSTART:20241027T010000
END:STANDARD
BEGIN:DAYLIGHT
TZOFFSETFROM:+0100
TZOFFSETTO:+0200
TZNAME:CEST
DTSTART:20250330T010000
END:DAYLIGHT
BEGIN:STANDARD
TZOFFSETFROM:+0200
TZOFFSETTO:+0100
TZNAME:CET
DTSTART:20251026T010000
END:STANDARD
END:VTIMEZONE
BEGIN:VEVENT
DTSTART;VALUE=DATE:20241106
DTEND;VALUE=DATE:20241107
DTSTAMP:20260423T032612
CREATED:20241223T174641Z
LAST-MODIFIED:20241223T174641Z
UID:9916-1730851200-1730937599@www.centresocial-montbazens.fr
SUMMARY:Pause Parentale : Néophobie Alimentaire
DESCRIPTION:Mercredi 6 Novembre – de 9h30 à 11h30\n𝐏𝐚𝐮𝐬𝐞 𝐏𝐚𝐫𝐞𝐧𝐭𝐚𝐥𝐞 : 𝐍𝐞́𝐨𝐩𝐡𝐨𝐛𝐢𝐞 𝐀𝐥𝐢𝐦𝐞𝐧𝐭𝐚𝐢𝐫𝐞 – possibilité de venir avec vos enfants – avec Karine VEQUE – Diététicienne\, nutritionniste\, membre du réseau REPPOP\nNéophobie Alimentaire : Comment la prévenir ? Comment ne pas s’en inquiéter ? Une soirée pour apporter des clés et de l’information sur les phases de développement du jeune enfant autour de l’alimentation et les moyens à utiliser afin de favoriser la découverte alimentaire.\n au Foyer Charles Maurel à Lanuéjouls\n Participation Libre – Groupe Limité – Inscription Obligatoire\n Infos et inscriptions au CSPM : 05 65 80 45 47
URL:https://www.centresocial-montbazens.fr/actualite/pause-parentale-neophobie-alimentaire-2/
LOCATION:Foyer Charles Maurel – Lanuejouls\, Lanuejouls\, 12350\, France
CATEGORIES:Pôle Famille
ATTACH;FMTTYPE=image/jpeg:https://www.centresocial-montbazens.fr/wp-content/uploads/2024/12/pause-parentale-neophobie-alimentaire.jpg
ORGANIZER;CN="CSPM":MAILTO:contact@centresocial-montbazens.fr
END:VEVENT
BEGIN:VEVENT
DTSTART;VALUE=DATE:20241106
DTEND;VALUE=DATE:20241107
DTSTAMP:20260423T032612
CREATED:20241223T175604Z
LAST-MODIFIED:20241223T175604Z
UID:9925-1730851200-1730937599@www.centresocial-montbazens.fr
SUMMARY:Spectacle "Café de Fleur"
DESCRIPTION:Le Mercredi 06 Novembre à 11h\, le Centre Social vous donne rendez-vous pour un 𝐒𝐩𝐞𝐜𝐭𝐚𝐜𝐥𝐞 𝐏𝐞𝐭𝐢𝐭𝐞 𝐄𝐧𝐟𝐚𝐧𝐜𝐞 (0-6 ans) « 𝐂𝐚𝐟𝐞́ 𝐝𝐞 𝐅𝐥𝐞𝐮𝐫 » proposé par la Compagnie Pause Musicale.\n\n\n Au Centre Social du Plateau de Montbazens\n Sur Inscription\n Participation Libre\n Infos et inscriptions auprès du Centre Social : 05 65 80 45 47
URL:https://www.centresocial-montbazens.fr/actualite/spectacle-cafe-de-fleur/
LOCATION:Centre Social du Plateau de Montbazens\, 16 Chemin du Tournevic\, Montbazens\, 12220\, France
CATEGORIES:Pôle Famille
ATTACH;FMTTYPE=image/jpeg:https://www.centresocial-montbazens.fr/wp-content/uploads/2024/12/cafe-de-fleurs.jpg
ORGANIZER;CN="CSPM":MAILTO:contact@centresocial-montbazens.fr
END:VEVENT
END:VCALENDAR