BEGIN:VCALENDAR
VERSION:2.0
PRODID:-//Centre Social du Plateau de Montbazens - ECPv6.15.20//NONSGML v1.0//EN
CALSCALE:GREGORIAN
METHOD:PUBLISH
X-WR-CALNAME:Centre Social du Plateau de Montbazens
X-ORIGINAL-URL:https://www.centresocial-montbazens.fr
X-WR-CALDESC:Évènements pour Centre Social du Plateau de Montbazens
REFRESH-INTERVAL;VALUE=DURATION:PT1H
X-Robots-Tag:noindex
X-PUBLISHED-TTL:PT1H
BEGIN:VTIMEZONE
TZID:Europe/Paris
BEGIN:DAYLIGHT
TZOFFSETFROM:+0100
TZOFFSETTO:+0200
TZNAME:CEST
DTSTART:20240331T010000
END:DAYLIGHT
BEGIN:STANDARD
TZOFFSETFROM:+0200
TZOFFSETTO:+0100
TZNAME:CET
DTSTART:20241027T010000
END:STANDARD
BEGIN:DAYLIGHT
TZOFFSETFROM:+0100
TZOFFSETTO:+0200
TZNAME:CEST
DTSTART:20250330T010000
END:DAYLIGHT
BEGIN:STANDARD
TZOFFSETFROM:+0200
TZOFFSETTO:+0100
TZNAME:CET
DTSTART:20251026T010000
END:STANDARD
BEGIN:DAYLIGHT
TZOFFSETFROM:+0100
TZOFFSETTO:+0200
TZNAME:CEST
DTSTART:20260329T010000
END:DAYLIGHT
BEGIN:STANDARD
TZOFFSETFROM:+0200
TZOFFSETTO:+0100
TZNAME:CET
DTSTART:20261025T010000
END:STANDARD
END:VTIMEZONE
BEGIN:VEVENT
DTSTART;VALUE=DATE:20250710
DTEND;VALUE=DATE:20250711
DTSTAMP:20260422T133800
CREATED:20250707T185144Z
LAST-MODIFIED:20250707T185144Z
UID:11862-1752105600-1752191999@www.centresocial-montbazens.fr
SUMMARY:Atelier Artistique Parent/Enfant(s)
DESCRIPTION:🖌️Jeudi 10 juillet🖌️\nVenez partager un moment Parent/Enfant autour d’un 𝐀𝐭𝐞𝐥𝐢𝐞𝐫 𝐀𝐫𝐭𝐢𝐬𝐭𝐢𝐪𝐮𝐞 !\nActivité proposée en partenariat avec Elodie Scudier (Au Loup d’Or)\n📍 Salle du Ségala – Centre Social de Montbazens\n🕖 De 16h30 à 18h pour 0-3 ans : « Bulle d’éveil »\n🕖 De 17h30 à 18h30 pour les + de 3 ans : « Graines d’artiste »\n👛 Tarifs : Gratuit pour les enfants adhérents – 5€ par enfant non-adhérent\n☎️ Infos et inscriptions au Centre Social – 05 65 80 45 47
URL:https://www.centresocial-montbazens.fr/actualite/atelier-artistique-parent-enfants/
LOCATION:Centre Social du Plateau de Montbazens\, 16 Chemin du Tournevic\, Montbazens\, 12220\, France
CATEGORIES:Pôle Famille
ATTACH;FMTTYPE=image/jpeg:https://www.centresocial-montbazens.fr/wp-content/uploads/2025/07/Atelier-artisitque-du-10-Juillet.jpg
ORGANIZER;CN="CSPM":MAILTO:contact@centresocial-montbazens.fr
END:VEVENT
BEGIN:VEVENT
DTSTART;VALUE=DATE:20250722
DTEND;VALUE=DATE:20250723
DTSTAMP:20260422T133800
CREATED:20250707T184840Z
LAST-MODIFIED:20250707T184840Z
UID:11864-1753142400-1753228799@www.centresocial-montbazens.fr
SUMMARY:Atelier Duo Parent/Enfant(s) : Création de sa Presse à Fleurs
DESCRIPTION:🌷Mardi 22 juillet🌷\nVenez participer à un nouvel atelier Parent/Enfant et réaliser de votre propre 𝐩𝐫𝐞𝐬𝐬𝐞 𝐚̀ 𝐟𝐥𝐞𝐮𝐫𝐬 pour constituer un 𝐡𝐞𝐫𝐛𝐢𝐞𝐫 unique et mémorable en famille !\nActivité dès 6 ans\n📍 Salle du Ségala – Centre Social de Montbazens\n🕖 De 14h à 16h\n👛 Tarifs : Gratuit pour les enfants adhérents – 5€ par enfant non-adhérent\n☎️ Infos et inscriptions au Centre Social – 05 65 80 45 47
URL:https://www.centresocial-montbazens.fr/actualite/atelier-duo-parent-enfants-creation-de-sa-presse-a-fleurs/
LOCATION:Centre Social du Plateau de Montbazens\, 16 Chemin du Tournevic\, Montbazens\, 12220\, France
CATEGORIES:Pôle Famille
ATTACH;FMTTYPE=image/jpeg:https://www.centresocial-montbazens.fr/wp-content/uploads/2025/07/Fabrication-presse-a-fleurs-22-Juillet.jpg
ORGANIZER;CN="CSPM":MAILTO:contact@centresocial-montbazens.fr
END:VEVENT
BEGIN:VEVENT
DTSTART;VALUE=DATE:20250728
DTEND;VALUE=DATE:20250729
DTSTAMP:20260422T133800
CREATED:20250707T184537Z
LAST-MODIFIED:20250707T184537Z
UID:11866-1753660800-1753747199@www.centresocial-montbazens.fr
SUMMARY:Atelier Duo Parent/Enfant(s) : Grimpe d'Arbre
DESCRIPTION:🌳Lundi 28 juillet🌳\nOsez l’aventure ! Le Pôle Familles et l’association « Au fil des cimes » vous proposent un atelier Parent-Enfant « Grimpe d’Arbre »\nDécouvrez autrement les arbres du Parc de Jaunac avec au programme : sensibilisation aux arbres\, petits jeux et grimpe ! Une balade verticale à partager en famille !\nLa pratique de la Grimpe d’Arbres se caractérise par ses installations éphémères\, adaptables aux lieux\, respectueuses de l’Arbre et de son environnement.\n📍 Parc de Jaunac à Montbazens\n🕖 De 14h à 16h\n👛 Tarifs : Gratuit pour les enfants adhérents – 5€ par enfant non-adhérent\n☎️ Infos et inscriptions au Centre Social – 05 65 80 45 47
URL:https://www.centresocial-montbazens.fr/actualite/atelier-duo-parent-enfants-grimpe-darbre/
LOCATION:Parc de Jaunac\, Montbazens\, 12220\, France
CATEGORIES:Pôle Famille
ATTACH;FMTTYPE=image/jpeg:https://www.centresocial-montbazens.fr/wp-content/uploads/2025/07/Atelier-grimpe-darbres-28-Juillet.jpg
ORGANIZER;CN="CSPM":MAILTO:contact@centresocial-montbazens.fr
END:VEVENT
END:VCALENDAR