BEGIN:VCALENDAR
VERSION:2.0
PRODID:-//Centre Social du Plateau de Montbazens - ECPv6.15.20//NONSGML v1.0//EN
CALSCALE:GREGORIAN
METHOD:PUBLISH
X-ORIGINAL-URL:https://www.centresocial-montbazens.fr
X-WR-CALDESC:Évènements pour Centre Social du Plateau de Montbazens
REFRESH-INTERVAL;VALUE=DURATION:PT1H
X-Robots-Tag:noindex
X-PUBLISHED-TTL:PT1H
BEGIN:VTIMEZONE
TZID:Europe/Paris
BEGIN:DAYLIGHT
TZOFFSETFROM:+0100
TZOFFSETTO:+0200
TZNAME:CEST
DTSTART:20230326T010000
END:DAYLIGHT
BEGIN:STANDARD
TZOFFSETFROM:+0200
TZOFFSETTO:+0100
TZNAME:CET
DTSTART:20231029T010000
END:STANDARD
BEGIN:DAYLIGHT
TZOFFSETFROM:+0100
TZOFFSETTO:+0200
TZNAME:CEST
DTSTART:20240331T010000
END:DAYLIGHT
BEGIN:STANDARD
TZOFFSETFROM:+0200
TZOFFSETTO:+0100
TZNAME:CET
DTSTART:20241027T010000
END:STANDARD
BEGIN:DAYLIGHT
TZOFFSETFROM:+0100
TZOFFSETTO:+0200
TZNAME:CEST
DTSTART:20250330T010000
END:DAYLIGHT
BEGIN:STANDARD
TZOFFSETFROM:+0200
TZOFFSETTO:+0100
TZNAME:CET
DTSTART:20251026T010000
END:STANDARD
END:VTIMEZONE
BEGIN:VEVENT
DTSTART;VALUE=DATE:20241005
DTEND;VALUE=DATE:20241006
DTSTAMP:20260423T031140
CREATED:20241223T160121Z
LAST-MODIFIED:20241223T163740Z
UID:9872-1728086400-1728172799@www.centresocial-montbazens.fr
SUMMARY:Atelier Portage
DESCRIPTION:𝑨𝒕𝒆𝒍𝒊𝒆𝒓𝒔 𝑷𝒐𝒓𝒕𝒂𝒈𝒆 𝒂𝒖 𝑪𝑺𝑷𝑴 𝒂̀ 𝑴𝒐𝒏𝒕𝒃𝒂𝒛𝒆𝒏𝒔  \n𝑺𝒂𝒎𝒆𝒅𝒊 5 𝑶𝒄𝒕𝒐𝒃𝒓𝒆 𝒅𝒆 9𝒉30 𝒂̀ 11𝒉30𝒆𝒕 𝒑𝒍𝒖𝒔𝒊𝒆𝒖𝒓𝒔 𝒅𝒂𝒕𝒆𝒔 𝒂̀ 𝒗𝒆𝒏𝒊𝒓 (16/11 𝒆𝒕 14/12)𝒂𝒗𝒆𝒄 𝑱𝒖𝒍𝒊𝒆𝒕𝒕𝒆 𝑳𝒆 𝑮𝒂𝒍𝒍 (𝑷𝒔𝒚𝒄𝒉𝒐𝒎𝒐𝒕𝒓𝒊𝒄𝒊𝒆𝒏𝒏𝒆 & 𝒎𝒐𝒏𝒊𝒕𝒓𝒊𝒄𝒆 𝒅𝒆 𝒑𝒐𝒓𝒕𝒂𝒈𝒆)Venez découvrir les bases du portage\, les différentes écharpes et autres moyens de portage (porte-bébé\, meï-tai\, sling\, préformés…)Un atelier pour échanger sur les besoins de chacun…Venez avec votre matériel de portage et\, si vous n’en avez pas\, Juliette vient avec différents moyens de portage et avec un poupon pour vous entraîner.Pour les futurs parents et parents accompagnés ou non de leur bébé ou bambin𝑮𝒓𝒂𝒕𝒖𝒊𝒕 𝒑𝒐𝒖𝒓 𝒍𝒆𝒔 𝒂𝒅𝒉𝒆́𝒓𝒆𝒏𝒕𝒔 𝒂𝒖 𝑪𝑺𝑷𝑴. 3€/𝒇𝒂𝒎𝒊𝒍𝒍𝒆 𝒏𝒐𝒏 𝒂𝒅𝒉𝒆́𝒓𝒆𝒏𝒕𝒆𝑺𝒖𝒓 𝒊𝒏𝒔𝒄𝒓𝒊𝒑𝒕𝒊𝒐𝒏 𝒂𝒖 𝑪𝑺𝑷𝑴 – 05 65 80 45 47𝑶𝒖𝒗𝒆𝒓𝒕 𝒂𝒖𝒙 𝑭𝒖𝒕𝒖𝒓𝒔 𝒑𝒂𝒓𝒆𝒏𝒕𝒔\, 𝑷𝒂𝒓𝒆𝒏𝒕𝒔\, 𝑮𝒓𝒂𝒏𝒅𝒔-𝑷𝒂𝒓𝒆𝒏𝒕𝒔 𝒂𝒗𝒆𝒄 𝒐𝒖 𝒔𝒂𝒏𝒔 𝒆𝒏𝒇𝒂𝒏𝒕𝒔 𝒅𝒆 0 𝒂̀ 2 𝒂𝒏𝒔
URL:https://www.centresocial-montbazens.fr/actualite/atelier-portage-4/
LOCATION:Centre Social du Plateau de Montbazens\, 16 Chemin du Tournevic\, Montbazens\, 12220\, France
CATEGORIES:Pôle Famille
ATTACH;FMTTYPE=image/jpeg:https://www.centresocial-montbazens.fr/wp-content/uploads/2024/12/atelier-portage.jpg
ORGANIZER;CN="CSPM":MAILTO:contact@centresocial-montbazens.fr
END:VEVENT
BEGIN:VEVENT
DTSTART;VALUE=DATE:20241005
DTEND;VALUE=DATE:20241006
DTSTAMP:20260423T031140
CREATED:20241223T160343Z
LAST-MODIFIED:20241223T163814Z
UID:9875-1728086400-1728172799@www.centresocial-montbazens.fr
SUMMARY:Journée du Livre
DESCRIPTION:Samedi 5 Octobre de 10h à 18h\nOrganisée en partenariat avec le Réseau des Médiathèques\nNous recevrons cette année…\nDelphine Bournay (autrice-illustratrice Jeunesse) pour un atelier Parents-Enfants et une rencontre. 𝑰𝒍 𝒓𝒆𝒔𝒕𝒆 𝒅𝒆𝒔 𝒑𝒍𝒂𝒄𝒆𝒔\, 𝒊𝒏𝒔𝒄𝒓𝒊𝒗𝒆𝒛-𝒗𝒐𝒖𝒔 𝒑𝒐𝒖𝒓 𝒍’𝑨𝒕𝒆𝒍𝒊𝒆𝒓 𝑷𝒂𝒓𝒆𝒏𝒕𝒔-𝑬𝒏𝒇𝒂𝒏𝒕𝒔 𝒑𝒓𝒐𝒑𝒐𝒔𝒆́ 𝒅𝒆 10𝒉 𝒂̀ 11𝒉30 \nDany ROCQ (auteur littérature adultes) & Sandra REZNAK (musicienne\, conteuse) pour un Goûter-Concert (Kora et lecture)\n« Fêtes vos Jeux » sera présent avec ses valises Escape Game de 14h à 17h !\nLe Bar itinérant « Au Trait d’Union » assurera le ravitaillement en boissons et grignotages de produits locaux de 11h à 18h !!\nAnimations sur participation libre au profit de l’association « Les Amis du Livre ».
URL:https://www.centresocial-montbazens.fr/actualite/journee-du-livre/
LOCATION:Moulin de la Culture – Montbazens\, 11 Quartier du Vieux Bourg\, Montbazens\, Aveyron\, 12220\, France
CATEGORIES:Pôle Famille
ATTACH;FMTTYPE=image/jpeg:https://www.centresocial-montbazens.fr/wp-content/uploads/2024/12/JL-1.jpg
ORGANIZER;CN="CSPM":MAILTO:contact@centresocial-montbazens.fr
END:VEVENT
BEGIN:VEVENT
DTSTART;VALUE=DATE:20241013
DTEND;VALUE=DATE:20241014
DTSTAMP:20260423T031140
CREATED:20241223T155406Z
LAST-MODIFIED:20241223T164020Z
UID:9868-1728777600-1728863999@www.centresocial-montbazens.fr
SUMMARY:Bourse à la Puériculture
DESCRIPTION:Grâce à la mobilisation de bénévoles\, le Centre Social du Plateau de Montbazens organise une nouvelle édition de sa 𝐁𝐨𝐮𝐫𝐬𝐞 𝐚̀ 𝐥𝐚 𝐏𝐮𝐞́𝐫𝐢𝐜𝐮𝐥𝐭𝐮𝐫𝐞 – le 𝐃𝐢𝐦𝐚𝐧𝐜𝐡𝐞 𝟏𝟑 𝐎𝐜𝐭𝐨𝐛𝐫𝐞 𝐝𝐞 𝟖𝐡𝟑𝟎 𝐚̀ 𝟏𝟑𝐡 – 𝐒𝐚𝐥𝐥𝐞 𝐝𝐞𝐬 𝐒𝐩𝐞𝐜𝐭𝐚𝐜𝐥𝐞𝐬 𝐝𝐞 𝐌𝐨𝐧𝐭𝐛𝐚𝐳𝐞𝐧𝐬.Articles acceptés :* articles de puériculture\,* jouets d’éveil (uniquement)* et vêtements de 0 à 14 ans𝐈𝐧𝐬𝐜𝐫𝐢𝐩𝐭𝐢𝐨𝐧 𝐚𝐮𝐱 𝐬𝐭𝐚𝐧𝐝𝐬 𝐨𝐛𝐥𝐢𝐠𝐚𝐭𝐨𝐢𝐫𝐞 𝐓𝐚𝐫𝐢𝐟𝐬 𝐒𝐭𝐚𝐧𝐝 (1 table + 1m) :* adhérent 6€* non adhérent 10€ Informations et réservation au Centre Social : 05 65 80 45 47
URL:https://www.centresocial-montbazens.fr/actualite/bourse-a-la-puericulture-2/
LOCATION:Salle de Spectacles – Montbazens\, Montbazens\, 12220\, France
CATEGORIES:Pôle Famille
ATTACH;FMTTYPE=image/jpeg:https://www.centresocial-montbazens.fr/wp-content/uploads/2024/12/bourse-puericulture.jpg
ORGANIZER;CN="CSPM":MAILTO:contact@centresocial-montbazens.fr
END:VEVENT
BEGIN:VEVENT
DTSTART;VALUE=DATE:20241016
DTEND;VALUE=DATE:20241017
DTSTAMP:20260423T031140
CREATED:20241223T161914Z
LAST-MODIFIED:20241223T164308Z
UID:9888-1729036800-1729123199@www.centresocial-montbazens.fr
SUMMARY:Atelier Éveil Corporel
DESCRIPTION:Avis à tous les petits loups de 0 à 3 ans et leurs parents !Prenez date ! Le 𝐌𝐞𝐫𝐜𝐫𝐞𝐝𝐢 𝟏𝟔 𝐎𝐜𝐭𝐨𝐛𝐫𝐞 𝐝𝐞 𝟏𝟎𝐡 𝐚̀ 𝟏𝟏𝐡 𝐚𝐮 𝐑𝐞𝐥𝐚𝐢𝐬 𝐏𝐞𝐭𝐢𝐭𝐞 𝐄𝐧𝐟𝐚𝐧𝐜𝐞 de Montbazens\, 𝐒𝐚𝐧𝐝𝐫𝐢𝐧𝐞 𝐋𝐔𝐂𝐀𝐒 vous accueillera pour un 𝐀𝐭𝐞𝐥𝐢𝐞𝐫 𝐝’𝐄́𝐯𝐞𝐢𝐥-𝐂𝐨𝐫𝐩𝐨𝐫𝐞𝐥 .Venez partager un temps d’éveil et de motricité comme un moment en points de suspension…Tarifs : * Gratuit par enfant adhérent\, * 5€ par enfant non adhérent Renseignements et Inscription au CSPM : 05 65 80 45 47
URL:https://www.centresocial-montbazens.fr/actualite/atelier-eveil-corporel/
LOCATION:Relais Petite Enfance – Montbazens\, ZA du Colombiers\, Montbazens\, Aveyron\, 12220\, France
CATEGORIES:Pôle Famille
ATTACH;FMTTYPE=image/jpeg:https://www.centresocial-montbazens.fr/wp-content/uploads/2024/12/EC.jpg
ORGANIZER;CN="CSPM":MAILTO:contact@centresocial-montbazens.fr
END:VEVENT
BEGIN:VEVENT
DTSTART;VALUE=DATE:20241018
DTEND;VALUE=DATE:20241102
DTSTAMP:20260423T031140
CREATED:20241223T180203Z
LAST-MODIFIED:20241223T180203Z
UID:9928-1729209600-1730505599@www.centresocial-montbazens.fr
SUMMARY:Les Vacances d'Automne se préparent
DESCRIPTION:Un programme bien rempli pour les vacances d’automne sur le plateau de Montbazens ! En partenariat avec le Cspm Plateau Montbazens et la Médiathèque « Moulin de la Culture » de Montbazens !\nInscrivez-vous
URL:https://www.centresocial-montbazens.fr/actualite/les-vacances-dautomne-se-preparent/
LOCATION:Aveyron
CATEGORIES:Animations pour Tous,Pôle Famille
ATTACH;FMTTYPE=image/jpeg:https://www.centresocial-montbazens.fr/wp-content/uploads/2024/12/prog-acf-toussaint-1.jpg
ORGANIZER;CN="CSPM":MAILTO:contact@centresocial-montbazens.fr
END:VEVENT
BEGIN:VEVENT
DTSTART;VALUE=DATE:20241023
DTEND;VALUE=DATE:20241024
DTSTAMP:20260423T031140
CREATED:20241223T173154Z
LAST-MODIFIED:20241223T173155Z
UID:9901-1729641600-1729727999@www.centresocial-montbazens.fr
SUMMARY:Atelier Parents-Enfants Lecture Échanges
DESCRIPTION:Mercredi 23 Octobre – de 10h à 11h\n𝐀𝐭𝐞𝐥𝐢𝐞𝐫 𝐏𝐚𝐫𝐞𝐧𝐭𝐬-𝐄𝐧𝐟𝐚𝐧𝐭𝐬 𝐋𝐞𝐜𝐭𝐮𝐫𝐞-𝐄́𝐜𝐡𝐚𝐧𝐠𝐞𝐬 : « 𝐁𝐚𝐬𝐭𝐢𝐞𝐧 𝐞𝐭 𝐥𝐞𝐬 𝐁𝐥𝐢𝐩𝐨𝐮𝐱 𝐯𝐨𝐧𝐭 𝐚̀ 𝐥’𝐞́𝐜𝐨𝐥𝐞 » – pour les 4-8 ans – animé par Estelle RICHIR et basé sur l’approche bienveillante Faber & Mazlish !\nA partir d’albums jeunesse seront abordés des scènes de la vie quotidienne au travers desquelles tout enfant peut s’identifier et\, grâce aux héros\, apprendre à mieux gérer ses émotions et à parler pour être entendu. Mais surtout découvrir que mieux communiquer aide à s’épanouir !\nUn temps à partager en famille !\n au Moulin de la Culture à Montbazens\n Gratuit pour les enfants adhérents au CSPM\, 3€ pour les enfants non adhérents\, sur inscription\n Infos et inscriptions au CSPM : 05 65 80 45 47
URL:https://www.centresocial-montbazens.fr/actualite/atelier-parents-enfants-lecture-echanges/
LOCATION:Moulin de la Culture – Montbazens\, 11 Quartier du Vieux Bourg\, Montbazens\, Aveyron\, 12220\, France
CATEGORIES:Pôle Famille
ATTACH;FMTTYPE=image/jpeg:https://www.centresocial-montbazens.fr/wp-content/uploads/2024/12/lectures-echanges.jpg
ORGANIZER;CN="CSPM":MAILTO:contact@centresocial-montbazens.fr
END:VEVENT
BEGIN:VEVENT
DTSTART;VALUE=DATE:20241030
DTEND;VALUE=DATE:20241031
DTSTAMP:20260423T031140
CREATED:20241223T173859Z
LAST-MODIFIED:20241223T173859Z
UID:9909-1730246400-1730332799@www.centresocial-montbazens.fr
SUMMARY:Les Recettes à Lire
DESCRIPTION:Mercredi 30 Octobre – de 9h30 à 14h avec le repas compris\n𝐋𝐄𝐒 𝐑𝐄𝐂𝐄𝐓𝐓𝐄𝐒 𝐀̀ 𝐋𝐈𝐑𝐄 – Tout public – avec LÆTITIA CADOR – organisé en partenariat avec le Réseau des Médiathèques et la MDA (Médiathèque Départementale de l’Aveyron)\nDonnons-nous rendez-vous pour préparer un repas dans une cuisine. On épluche\, on lave\, on coupe\, on rissole\, on cuit\, on fait mijoter… et tout au long de ce temps de préparation\, une lectrice\, Laetitia Cador\, ponctue les gestes des uns et des autres par des lectures collectives et individuelles d’extraits de romans ou d’essais sur la cuisine. A la fin\, on se retrouve autour de la table pour un repas partagé\, festif et convivial. Les menus littéraires des recettes à lire sont composés pour les grandes comme pour les petites oreilles !\n au Centre Social à Montbazens\n Gratuit – Places limitées\n Infos et inscriptions au 05 65 63 77 94 ou mediatheques.montbazens@gmail.com
URL:https://www.centresocial-montbazens.fr/actualite/les-recettes-a-lire/
LOCATION:Centre Social du Plateau de Montbazens\, 16 Chemin du Tournevic\, Montbazens\, 12220\, France
CATEGORIES:Pôle Famille
ATTACH;FMTTYPE=image/jpeg:https://www.centresocial-montbazens.fr/wp-content/uploads/2024/12/les-recettes-a-lire.jpg
ORGANIZER;CN="CSPM":MAILTO:contact@centresocial-montbazens.fr
END:VEVENT
END:VCALENDAR