BEGIN:VCALENDAR
VERSION:2.0
PRODID:-//Centre Social du Plateau de Montbazens - ECPv6.15.20//NONSGML v1.0//EN
CALSCALE:GREGORIAN
METHOD:PUBLISH
X-WR-CALNAME:Centre Social du Plateau de Montbazens
X-ORIGINAL-URL:https://www.centresocial-montbazens.fr
X-WR-CALDESC:Évènements pour Centre Social du Plateau de Montbazens
REFRESH-INTERVAL;VALUE=DURATION:PT1H
X-Robots-Tag:noindex
X-PUBLISHED-TTL:PT1H
BEGIN:VTIMEZONE
TZID:Europe/Paris
BEGIN:DAYLIGHT
TZOFFSETFROM:+0100
TZOFFSETTO:+0200
TZNAME:CEST
DTSTART:20250330T010000
END:DAYLIGHT
BEGIN:STANDARD
TZOFFSETFROM:+0200
TZOFFSETTO:+0100
TZNAME:CET
DTSTART:20251026T010000
END:STANDARD
BEGIN:DAYLIGHT
TZOFFSETFROM:+0100
TZOFFSETTO:+0200
TZNAME:CEST
DTSTART:20260329T010000
END:DAYLIGHT
BEGIN:STANDARD
TZOFFSETFROM:+0200
TZOFFSETTO:+0100
TZNAME:CET
DTSTART:20261025T010000
END:STANDARD
BEGIN:DAYLIGHT
TZOFFSETFROM:+0100
TZOFFSETTO:+0200
TZNAME:CEST
DTSTART:20270328T010000
END:DAYLIGHT
BEGIN:STANDARD
TZOFFSETFROM:+0200
TZOFFSETTO:+0100
TZNAME:CET
DTSTART:20271031T010000
END:STANDARD
END:VTIMEZONE
BEGIN:VEVENT
DTSTART;VALUE=DATE:20260501
DTEND;VALUE=DATE:20260502
DTSTAMP:20260421T110125
CREATED:20260311T081934Z
LAST-MODIFIED:20260311T081934Z
UID:13878-1777593600-1777679999@www.centresocial-montbazens.fr
SUMMARY:Soirée Jeux
DESCRIPTION:Réservez votre soirée pour une 𝐒𝐨𝐢𝐫𝐞́𝐞 𝐉𝐞𝐮𝐱 𝐚𝐮 𝐂𝐒𝐏𝐌 !!!\n\n\nRendez-vous à partir de 19h avec l’association « 𝐉𝐞𝐮𝐱 𝐕𝐚𝐝𝐫𝐨𝐮𝐢𝐥𝐥𝐞𝐧𝐭 » !\n\n\nVenez partager un bon moment autour de jeux de société variés ! 𝐒𝐞𝐮𝐥\, 𝐞𝐧𝐭𝐫𝐞 𝐚𝐦𝐢𝐬 𝐨𝐮 𝐞𝐧 𝐟𝐚𝐦𝐢𝐥𝐥𝐞… 𝐕𝐨𝐮𝐬 𝐞̂𝐭𝐞𝐬 𝐥𝐞𝐬 𝐁𝐢𝐞𝐧𝐯𝐞𝐧𝐮𝐬  !\nLes règles pourront vous être expliquées !\n\n\nTous les 1ers vendredis du mois au Centre Social à Montbazens…\n\n\n Gratuit.\n Auberge espagnole
URL:https://www.centresocial-montbazens.fr/actualite/soiree-jeux-12/
LOCATION:Centre Social du Plateau de Montbazens\, 16 Chemin du Tournevic\, Montbazens\, 12220\, France
CATEGORIES:Animations pour Tous
ATTACH;FMTTYPE=image/jpeg:https://www.centresocial-montbazens.fr/wp-content/uploads/2026/03/Soiree-JV-Mai-26.jpg
ORGANIZER;CN="CSPM":MAILTO:contact@centresocial-montbazens.fr
END:VEVENT
END:VCALENDAR