BEGIN:VCALENDAR
VERSION:2.0
PRODID:-//Centre Social du Plateau de Montbazens - ECPv6.15.20//NONSGML v1.0//EN
CALSCALE:GREGORIAN
METHOD:PUBLISH
X-WR-CALNAME:Centre Social du Plateau de Montbazens
X-ORIGINAL-URL:https://www.centresocial-montbazens.fr
X-WR-CALDESC:Évènements pour Centre Social du Plateau de Montbazens
REFRESH-INTERVAL;VALUE=DURATION:PT1H
X-Robots-Tag:noindex
X-PUBLISHED-TTL:PT1H
BEGIN:VTIMEZONE
TZID:Europe/Paris
BEGIN:DAYLIGHT
TZOFFSETFROM:+0100
TZOFFSETTO:+0200
TZNAME:CEST
DTSTART:20250330T010000
END:DAYLIGHT
BEGIN:STANDARD
TZOFFSETFROM:+0200
TZOFFSETTO:+0100
TZNAME:CET
DTSTART:20251026T010000
END:STANDARD
BEGIN:DAYLIGHT
TZOFFSETFROM:+0100
TZOFFSETTO:+0200
TZNAME:CEST
DTSTART:20260329T010000
END:DAYLIGHT
BEGIN:STANDARD
TZOFFSETFROM:+0200
TZOFFSETTO:+0100
TZNAME:CET
DTSTART:20261025T010000
END:STANDARD
BEGIN:DAYLIGHT
TZOFFSETFROM:+0100
TZOFFSETTO:+0200
TZNAME:CEST
DTSTART:20270328T010000
END:DAYLIGHT
BEGIN:STANDARD
TZOFFSETFROM:+0200
TZOFFSETTO:+0100
TZNAME:CET
DTSTART:20271031T010000
END:STANDARD
END:VTIMEZONE
BEGIN:VEVENT
DTSTART;VALUE=DATE:20260430
DTEND;VALUE=DATE:20260501
DTSTAMP:20260421T121743
CREATED:20260320T162842Z
LAST-MODIFIED:20260320T162842Z
UID:13967-1777507200-1777593599@www.centresocial-montbazens.fr
SUMMARY:QuesI.A.co ?
DESCRIPTION:📔 A vos Agendas : le 30 Avril – Et si on parlait I.A 🕵️? \nQu’elle nous intrigue\, nous fascine\, nous inquiète\, une chose est sûre : elle ne laisse personne indifférent !\nPour beaucoup d’entre nous l’Intelligence Artificielle reste un concept très abstrait. Si on en parlait ? \nDans le cadre des Cafés Numériques\, nous vous proposons une soirée spéciale – ouverte à tou.te.s – pour découvrir ou approfondir nos connaissances sur l’I.A et questionner\, échanger\, avancer…. \nRendez-vous le Jeudi 30 Avril – à 19h30 – Salle de Spectacles à MONTBAZENS – pour une conférence interactive animée par Kévin Rapaport – Conseiller Numérique à Ouest Aveyron Communauté. \n#cspm12 #cafesnumeriques #cafésnumériques #cafenumerique #cafénumérique #intelligenceartificielle #CentreSocialduPlateaudeMontbazens #centresocial #Montbazens #PlateaudeMontbazens
URL:https://www.centresocial-montbazens.fr/actualite/quesi-a-co/
LOCATION:Salle de Spectacles – Montbazens\, Montbazens\, 12220\, France
CATEGORIES:Animations pour Tous
ATTACH;FMTTYPE=image/png:https://www.centresocial-montbazens.fr/wp-content/uploads/2026/03/Ques.I.A.co_.png
ORGANIZER;CN="CSPM":MAILTO:contact@centresocial-montbazens.fr
END:VEVENT
END:VCALENDAR