BEGIN:VCALENDAR
VERSION:2.0
PRODID:-//Centre Social du Plateau de Montbazens - ECPv6.15.20//NONSGML v1.0//EN
CALSCALE:GREGORIAN
METHOD:PUBLISH
X-ORIGINAL-URL:https://www.centresocial-montbazens.fr
X-WR-CALDESC:Évènements pour Centre Social du Plateau de Montbazens
REFRESH-INTERVAL;VALUE=DURATION:PT1H
X-Robots-Tag:noindex
X-PUBLISHED-TTL:PT1H
BEGIN:VTIMEZONE
TZID:Europe/Paris
BEGIN:DAYLIGHT
TZOFFSETFROM:+0100
TZOFFSETTO:+0200
TZNAME:CEST
DTSTART:20240331T010000
END:DAYLIGHT
BEGIN:STANDARD
TZOFFSETFROM:+0200
TZOFFSETTO:+0100
TZNAME:CET
DTSTART:20241027T010000
END:STANDARD
BEGIN:DAYLIGHT
TZOFFSETFROM:+0100
TZOFFSETTO:+0200
TZNAME:CEST
DTSTART:20250330T010000
END:DAYLIGHT
BEGIN:STANDARD
TZOFFSETFROM:+0200
TZOFFSETTO:+0100
TZNAME:CET
DTSTART:20251026T010000
END:STANDARD
BEGIN:DAYLIGHT
TZOFFSETFROM:+0100
TZOFFSETTO:+0200
TZNAME:CEST
DTSTART:20260329T010000
END:DAYLIGHT
BEGIN:STANDARD
TZOFFSETFROM:+0200
TZOFFSETTO:+0100
TZNAME:CET
DTSTART:20261025T010000
END:STANDARD
END:VTIMEZONE
BEGIN:VEVENT
DTSTART;VALUE=DATE:20251123
DTEND;VALUE=DATE:20251124
DTSTAMP:20260421T192205
CREATED:20251031T061510Z
LAST-MODIFIED:20251031T061510Z
UID:12925-1763856000-1763942399@www.centresocial-montbazens.fr
SUMMARY:Bourse aux Jouets et aux Livres
DESCRIPTION:C’est reparti  !\n\n\nGrâce à la mobilisation de bénévoles\, le Centre Social du Plateau de Montbazens organise une 𝐁𝐨𝐮𝐫𝐬𝐞 𝐚𝐮𝐱 𝐉𝐨𝐮𝐞𝐭𝐬 𝐞𝐭 𝐚𝐮𝐱 𝐋𝐢𝐯𝐫𝐞𝐬 \n\n\nle 𝐃𝐢𝐦𝐚𝐧𝐜𝐡𝐞 𝟐𝟑 𝐍𝐨𝐯𝐞𝐦𝐛𝐫𝐞 𝐝𝐞 𝟗𝐡 𝐚̀ 𝟏𝟑𝐡 à la Salle des Spectacles de 𝐌𝐨𝐧𝐭𝐛𝐚𝐳𝐞𝐧𝐬.\n\n\nInscription aux stands obligatoire.\n\n\nLes adhérents du Centre Social et habitants de la Communauté de Communes du Plateau de Montbazens seront prioritaires pour s’inscrire 𝐚̀ 𝐩𝐚𝐫𝐭𝐢𝐫 𝐝𝐮 𝐌𝐚𝐫𝐝𝐢 𝟐𝟏 𝐎𝐜𝐭𝐨𝐛𝐫𝐞.\n\n\nLes habitants résidant hors Communauté de Communes du Plateau de Montbazens pourront s’inscrire à partir du 𝐌𝐚𝐫𝐝𝐢 𝟎𝟒 𝐍𝐨𝐯𝐞𝐦𝐛𝐫𝐞 𝐚̀ 𝟏𝟒𝐡𝟎𝟎.\n\n\nTarifs :\n* adhérent : 6€\n* non adhérent : 10€\n\n\n Infos et réservation stand au CSPM au 05 65 80 45 47
URL:https://www.centresocial-montbazens.fr/actualite/bourse-aux-jouets-et-aux-livres-3/
LOCATION:Salle de Spectacles – Montbazens\, Montbazens\, 12220\, France
CATEGORIES:Animations pour Tous
ATTACH;FMTTYPE=image/jpeg:https://www.centresocial-montbazens.fr/wp-content/uploads/2025/10/bourse2.jpg
ORGANIZER;CN="CSPM":MAILTO:contact@centresocial-montbazens.fr
END:VEVENT
END:VCALENDAR