BEGIN:VCALENDAR
VERSION:2.0
PRODID:-//Centre Social du Plateau de Montbazens - ECPv6.15.20//NONSGML v1.0//EN
CALSCALE:GREGORIAN
METHOD:PUBLISH
X-WR-CALNAME:Centre Social du Plateau de Montbazens
X-ORIGINAL-URL:https://www.centresocial-montbazens.fr
X-WR-CALDESC:Évènements pour Centre Social du Plateau de Montbazens
REFRESH-INTERVAL;VALUE=DURATION:PT1H
X-Robots-Tag:noindex
X-PUBLISHED-TTL:PT1H
BEGIN:VTIMEZONE
TZID:Europe/Paris
BEGIN:DAYLIGHT
TZOFFSETFROM:+0100
TZOFFSETTO:+0200
TZNAME:CEST
DTSTART:20240331T010000
END:DAYLIGHT
BEGIN:STANDARD
TZOFFSETFROM:+0200
TZOFFSETTO:+0100
TZNAME:CET
DTSTART:20241027T010000
END:STANDARD
BEGIN:DAYLIGHT
TZOFFSETFROM:+0100
TZOFFSETTO:+0200
TZNAME:CEST
DTSTART:20250330T010000
END:DAYLIGHT
BEGIN:STANDARD
TZOFFSETFROM:+0200
TZOFFSETTO:+0100
TZNAME:CET
DTSTART:20251026T010000
END:STANDARD
BEGIN:DAYLIGHT
TZOFFSETFROM:+0100
TZOFFSETTO:+0200
TZNAME:CEST
DTSTART:20260329T010000
END:DAYLIGHT
BEGIN:STANDARD
TZOFFSETFROM:+0200
TZOFFSETTO:+0100
TZNAME:CET
DTSTART:20261025T010000
END:STANDARD
END:VTIMEZONE
BEGIN:VEVENT
DTSTART;VALUE=DATE:20251117
DTEND;VALUE=DATE:20251118
DTSTAMP:20260421T191716
CREATED:20251031T063824Z
LAST-MODIFIED:20251031T063824Z
UID:12968-1763337600-1763423999@www.centresocial-montbazens.fr
SUMMARY:Café Tricot-Crochet
DESCRIPTION:Nouvelle activité au Centre Social 😃\nVenez avec votre ouvrage en cours pour partager un moment au ☕ Café Tricot-Crochet 🧶 !\n\nA vos agendas\, les prochains rendez-vous sont prévus de 14h à 16h les lundis \n\n20 octobre\, \n17 novembre\, \n15 décembre\, \n12 janvier\, \n09 février\, \n09 mars\,\net 13 avril\n\n\n\n👛 Gratuit pour les adhérents au CSPM\nAdhésion annuelle et familiale : 16€ pour les habitants du Plateau de Montbazens ou 19€ si vous résidez hors Communauté de Communes du Plateau de Montbazens .
URL:https://www.centresocial-montbazens.fr/actualite/cafe-tricot-crochet-4/
LOCATION:Centre Social du Plateau de Montbazens\, 16 Chemin du Tournevic\, Montbazens\, 12220\, France
CATEGORIES:Animations pour Tous
ATTACH;FMTTYPE=image/png:https://www.centresocial-montbazens.fr/wp-content/uploads/2025/10/Tricot-Crochet.png
END:VEVENT
END:VCALENDAR