BEGIN:VCALENDAR
VERSION:2.0
PRODID:-//Centre Social du Plateau de Montbazens - ECPv6.15.20//NONSGML v1.0//EN
CALSCALE:GREGORIAN
METHOD:PUBLISH
X-ORIGINAL-URL:https://www.centresocial-montbazens.fr
X-WR-CALDESC:Évènements pour Centre Social du Plateau de Montbazens
REFRESH-INTERVAL;VALUE=DURATION:PT1H
X-Robots-Tag:noindex
X-PUBLISHED-TTL:PT1H
BEGIN:VTIMEZONE
TZID:Europe/Paris
BEGIN:DAYLIGHT
TZOFFSETFROM:+0100
TZOFFSETTO:+0200
TZNAME:CEST
DTSTART:20240331T010000
END:DAYLIGHT
BEGIN:STANDARD
TZOFFSETFROM:+0200
TZOFFSETTO:+0100
TZNAME:CET
DTSTART:20241027T010000
END:STANDARD
BEGIN:DAYLIGHT
TZOFFSETFROM:+0100
TZOFFSETTO:+0200
TZNAME:CEST
DTSTART:20250330T010000
END:DAYLIGHT
BEGIN:STANDARD
TZOFFSETFROM:+0200
TZOFFSETTO:+0100
TZNAME:CET
DTSTART:20251026T010000
END:STANDARD
BEGIN:DAYLIGHT
TZOFFSETFROM:+0100
TZOFFSETTO:+0200
TZNAME:CEST
DTSTART:20260329T010000
END:DAYLIGHT
BEGIN:STANDARD
TZOFFSETFROM:+0200
TZOFFSETTO:+0100
TZNAME:CET
DTSTART:20261025T010000
END:STANDARD
END:VTIMEZONE
BEGIN:VEVENT
DTSTART;TZID=Europe/Paris:20251012T080000
DTEND;TZID=Europe/Paris:20251012T170000
DTSTAMP:20260421T205507
CREATED:20251031T055635Z
LAST-MODIFIED:20251031T055635Z
UID:12900-1760256000-1760288400@www.centresocial-montbazens.fr
SUMMARY:Bourse à la Puériculture et aux Vêtements
DESCRIPTION:Grâce à la mobilisation des bénévoles du CSPM\, le Centre Social du Plateau de Montbazens organise une nouvelle édition de sa 𝐁𝐨𝐮𝐫𝐬𝐞 𝐚̀ 𝐥𝐚 𝐏𝐮𝐞́𝐫𝐢𝐜𝐮𝐥𝐭𝐮𝐫𝐞 – 𝐥𝐞 𝐃𝐢𝐦𝐚𝐧𝐜𝐡𝐞 𝟏𝟐 𝐎𝐜𝐭𝐨𝐛𝐫𝐞 𝐝𝐞 𝟖𝐡𝟑𝟎 𝐚̀ 𝟏𝟑𝐡 – 𝐒𝐚𝐥𝐥𝐞 𝐝𝐞𝐬 𝐒𝐩𝐞𝐜𝐭𝐚𝐜𝐥𝐞𝐬 𝐝𝐞 𝐌𝐨𝐧𝐭𝐛𝐚𝐳𝐞𝐧𝐬.\n\n\nArticles acceptés :\n* articles de puériculture\,\n* jouets d’éveil (uniquement)\n* et vêtements de 0 à 14 ans\n\n\n𝐈𝐧𝐬𝐜𝐫𝐢𝐩𝐭𝐢𝐨𝐧 𝐚𝐮𝐱 𝐬𝐭𝐚𝐧𝐝𝐬 𝐨𝐛𝐥𝐢𝐠𝐚𝐭𝐨𝐢𝐫𝐞\n* à partir du 16 septembre pour les Adhérents du CSPM et les habitants du Plateau de Montbazens\n* à partir du 30 septembre pour tous\n\n\n 𝐓𝐚𝐫𝐢𝐟𝐬 𝐒𝐭𝐚𝐧𝐝 (1 table + 1m) :\n* adhérent 6€\n* non adhérent 10€\n\n\n Informations et réservation au Centre Social : 05 65 80 45 47
URL:https://www.centresocial-montbazens.fr/actualite/bourse-a-la-puericulture-et-aux-vetements/
LOCATION:Salle de Spectacles – Montbazens\, Montbazens\, 12220\, France
CATEGORIES:Animations pour Tous
ATTACH;FMTTYPE=image/jpeg:https://www.centresocial-montbazens.fr/wp-content/uploads/2025/10/bourse.jpg
ORGANIZER;CN="CSPM":MAILTO:contact@centresocial-montbazens.fr
END:VEVENT
END:VCALENDAR