BEGIN:VCALENDAR
VERSION:2.0
PRODID:-//Centre Social du Plateau de Montbazens - ECPv6.15.20//NONSGML v1.0//EN
CALSCALE:GREGORIAN
METHOD:PUBLISH
X-ORIGINAL-URL:https://www.centresocial-montbazens.fr
X-WR-CALDESC:Évènements pour Centre Social du Plateau de Montbazens
REFRESH-INTERVAL;VALUE=DURATION:PT1H
X-Robots-Tag:noindex
X-PUBLISHED-TTL:PT1H
BEGIN:VTIMEZONE
TZID:Europe/Paris
BEGIN:DAYLIGHT
TZOFFSETFROM:+0100
TZOFFSETTO:+0200
TZNAME:CEST
DTSTART:20240331T010000
END:DAYLIGHT
BEGIN:STANDARD
TZOFFSETFROM:+0200
TZOFFSETTO:+0100
TZNAME:CET
DTSTART:20241027T010000
END:STANDARD
BEGIN:DAYLIGHT
TZOFFSETFROM:+0100
TZOFFSETTO:+0200
TZNAME:CEST
DTSTART:20250330T010000
END:DAYLIGHT
BEGIN:STANDARD
TZOFFSETFROM:+0200
TZOFFSETTO:+0100
TZNAME:CET
DTSTART:20251026T010000
END:STANDARD
BEGIN:DAYLIGHT
TZOFFSETFROM:+0100
TZOFFSETTO:+0200
TZNAME:CEST
DTSTART:20260329T010000
END:DAYLIGHT
BEGIN:STANDARD
TZOFFSETFROM:+0200
TZOFFSETTO:+0100
TZNAME:CET
DTSTART:20261025T010000
END:STANDARD
END:VTIMEZONE
BEGIN:VEVENT
DTSTART;VALUE=DATE:20251004
DTEND;VALUE=DATE:20251005
DTSTAMP:20260421T222533
CREATED:20251031T053632Z
LAST-MODIFIED:20251031T053632Z
UID:12881-1759536000-1759622399@www.centresocial-montbazens.fr
SUMMARY:Atelier Portage
DESCRIPTION:Petit message à l’attention des futurs parents\, parents\, grands-parents 😊 \nRetrouvez 𝐉𝐮𝐥𝐢𝐞𝐭𝐭𝐞 𝐋𝐞 𝐆𝐚𝐥𝐥 (Psychomotricienne & monitrice de portage) pour un nouvel 𝐚𝐭𝐞𝐥𝐢𝐞𝐫 𝐏𝐨𝐫𝐭𝐚𝐠𝐞 ! \nRDV de 𝟗𝐡𝟑𝟎 𝐚̀ 𝟏𝟏𝐡𝟑𝟎 𝐚𝐮 𝐂𝐞𝐧𝐭𝐫𝐞 𝐒𝐨𝐜𝐢𝐚𝐥 pour découvrir les bases du portage\, les différentes écharpes et autres moyens de portage (porte-bébé\, meï-tai\, sling\, préformés…) \nUn atelier pour échanger sur les besoins de chacun… \nVenez avec votre matériel de portage et\, si vous n’en avez pas\, Juliette aura aussi différents moyens de portage à vous proposer et un poupon pour vous entraîner. \nCet atelier est à destination des futurs parents\, parents\, grands-parents accompagnés ou non de leur bébé ou bambin de 0 à 2 ans. \n📍 au Centre Social\n👛 Gratuit pour les adhérents au CSPM ou 3€ / famille non adhérente\n☎️ Sur inscription au CSPM – 05 65 80 45 47
URL:https://www.centresocial-montbazens.fr/actualite/atelier-portage-3/
LOCATION:Centre Social du Plateau de Montbazens\, 16 Chemin du Tournevic\, Montbazens\, 12220\, France
CATEGORIES:Pôle Famille
ATTACH;FMTTYPE=image/png:https://www.centresocial-montbazens.fr/wp-content/uploads/2025/08/Portage-Insta.png
ORGANIZER;CN="CSPM":MAILTO:contact@centresocial-montbazens.fr
END:VEVENT
BEGIN:VEVENT
DTSTART;VALUE=DATE:20251004
DTEND;VALUE=DATE:20251005
DTSTAMP:20260421T222534
CREATED:20251031T055852Z
LAST-MODIFIED:20251031T055852Z
UID:12903-1759536000-1759622399@www.centresocial-montbazens.fr
SUMMARY:Atelier découverte "Bien chez Soi et en Soi"
DESCRIPTION:Prenez date ! L’atelier « 𝐁𝐢𝐞𝐧 𝐜𝐡𝐞𝐳 𝐒𝐨𝐢 𝐞𝐭 𝐞𝐧 𝐒𝐨𝐢 » arrive au Centre Social  !\n Rendez-vous le Samedi 04 Octobre pour un 𝐚𝐭𝐞𝐥𝐢𝐞𝐫-𝐜𝐨𝐧𝐟𝐞́𝐫𝐞𝐧𝐜𝐞 𝐝𝐞́𝐜𝐨𝐮𝐯𝐞𝐫𝐭𝐞 𝐨𝐮𝐯𝐞𝐫𝐭 𝐚̀ 𝐭𝐨𝐮𝐭.𝐞.𝐬 (sans inscription pour ce jour-là).\n de 10h à 12h\n au Foyer Charles Maurel à Lanuejouls\n\n\nCe rendez-vous a pour but de présenter le cycle à venir.\n\n\nLes ateliers seront ensuite lancés à partir du 06 Décembre sous réserve d’un nombre suffisant d’inscrits.\n\n\n Informations complémentaires auprès du CSPM au 05.65.80.45.47.
URL:https://www.centresocial-montbazens.fr/actualite/atelier-decouverte-bien-chez-soi-et-en-soi/
LOCATION:Foyer Charles Maurel – Lanuejouls\, Lanuejouls\, 12350\, France
CATEGORIES:Animations pour Tous,Pôle Activités
ATTACH;FMTTYPE=image/jpeg:https://www.centresocial-montbazens.fr/wp-content/uploads/2025/10/BcSeeS.jpg
ORGANIZER;CN="CSPM":MAILTO:contact@centresocial-montbazens.fr
END:VEVENT
END:VCALENDAR