BEGIN:VCALENDAR
VERSION:2.0
PRODID:-//Centre Social du Plateau de Montbazens - ECPv6.15.20//NONSGML v1.0//EN
CALSCALE:GREGORIAN
METHOD:PUBLISH
X-WR-CALNAME:Centre Social du Plateau de Montbazens
X-ORIGINAL-URL:https://www.centresocial-montbazens.fr
X-WR-CALDESC:Évènements pour Centre Social du Plateau de Montbazens
REFRESH-INTERVAL;VALUE=DURATION:PT1H
X-Robots-Tag:noindex
X-PUBLISHED-TTL:PT1H
BEGIN:VTIMEZONE
TZID:Europe/Paris
BEGIN:DAYLIGHT
TZOFFSETFROM:+0100
TZOFFSETTO:+0200
TZNAME:CEST
DTSTART:20240331T010000
END:DAYLIGHT
BEGIN:STANDARD
TZOFFSETFROM:+0200
TZOFFSETTO:+0100
TZNAME:CET
DTSTART:20241027T010000
END:STANDARD
BEGIN:DAYLIGHT
TZOFFSETFROM:+0100
TZOFFSETTO:+0200
TZNAME:CEST
DTSTART:20250330T010000
END:DAYLIGHT
BEGIN:STANDARD
TZOFFSETFROM:+0200
TZOFFSETTO:+0100
TZNAME:CET
DTSTART:20251026T010000
END:STANDARD
BEGIN:DAYLIGHT
TZOFFSETFROM:+0100
TZOFFSETTO:+0200
TZNAME:CEST
DTSTART:20260329T010000
END:DAYLIGHT
BEGIN:STANDARD
TZOFFSETFROM:+0200
TZOFFSETTO:+0100
TZNAME:CET
DTSTART:20261025T010000
END:STANDARD
END:VTIMEZONE
BEGIN:VEVENT
DTSTART;VALUE=DATE:20250707
DTEND;VALUE=DATE:20250809
DTSTAMP:20260422T013701
CREATED:20250707T185344Z
LAST-MODIFIED:20250707T185443Z
UID:11877-1751846400-1754697599@www.centresocial-montbazens.fr
SUMMARY:L'été du Club Ados
DESCRIPTION:Petit message à l’attention des Ados et de leurs parents  !\n\n\nLes vacances approchent et le programme vient de sortir !\n\n\nRetrouvez le en ligne ainsi que les documents d’inscription pour les nouveaux venus sur notre site à l’adresse : www.centresocial-montbazens.fr/club-ados/ !\n\n\nVous pouvez vous inscrire via le lien framadate suivant : https://framadate.org/dulnbmcmC6JuoElj\n\n\n 𝗘𝘁 𝗻’𝗵𝗲́𝘀𝗶𝘁𝗲𝘇 𝗽𝗮𝘀 𝗮̀ 𝗲𝗻 𝗽𝗮𝗿𝗹𝗲𝗿 𝗮𝘂𝘁𝗼𝘂𝗿 𝗱𝗲 𝘃𝗼𝘂𝘀\, 𝗹𝗲𝘀 𝗽𝗼𝗿𝘁𝗲𝘀 𝘀𝗼𝗻𝘁 𝗼𝘂𝘃𝗲𝗿𝘁𝗲𝘀 𝗮̀ 𝘁𝗼𝘂𝘀  !\n\n\n* 𝐏𝐨𝐮𝐫 𝐥𝐞𝐬 𝐧𝐨𝐮𝐯𝐞𝐚𝐮𝐱\, inscrivez votre nom et prénom\, puis prenez contact avec 𝐑𝐨𝐦𝐚𝐢𝐧 ou le centre social pour effectuer les démarches nécessaires pour l’inscription : 𝟎𝟔-𝟕𝟒-𝟕𝟐-𝟑𝟎-𝟗𝟕 ou 05-65-80-45-47\n\n\n* Pour les autres\, inscrivez votre nom et prénom\, veillez à ce que votre adhésion soit toujours à jour.\n\n\nImportant ! Dans le cadre des activités payantes\, les règlements se feront de préférence par chèque et seront demandés au départ du minibus.\n   
URL:https://www.centresocial-montbazens.fr/actualite/lete-du-club-ados-2/
LOCATION:Aveyron
CATEGORIES:Pôle Jeunesse
ORGANIZER;CN="CSPM":MAILTO:contact@centresocial-montbazens.fr
END:VEVENT
BEGIN:VEVENT
DTSTART;VALUE=DATE:20250707
DTEND;VALUE=DATE:20250809
DTSTAMP:20260422T013701
CREATED:20250707T185534Z
LAST-MODIFIED:20250707T185534Z
UID:11871-1751846400-1754697599@www.centresocial-montbazens.fr
SUMMARY:Un été à l'Accueil de Loisirs
DESCRIPTION:Les grandes vacances approchent et l’équipe de l’Accueil de Loisirs se prépare à accueillir les enfants  !\n\n\nLes semaines seront rythmées par :\n\n\n*  des matinées piscine pour les plus de 6 ans le lundi matin\,\n*  des matinées piscine pour tous les enfants accueillis le mercredi matin\,\n*  des journées sorties le jeudi* (voir supplément et pique nique)*\n*  des « apéros familles » seront organisés sur chaque site : les familles\, dont les enfants sont accueillis à Lanuéjouls\, sont conviées le 18 juillet à 17h30 à l’accueil de loisirs.\nPour les enfants accueillis sur Montbazens\, les familles sont conviées le 1 aout à 17h sur le site de Montbazens. Il s’agira d’un moment d’échange et de partage entre les familles et l’équipe d’animation ;\n\n\nA NOTER :\nPrévoir un change tous les jours pour chaque enfant (serviette de toilette\, chaussure adapté\, gourde\, casquette…).\nPour la piscine \, prévoir : maillot\, serviette\, crème solaire\, brassard ou ceinture ; Tout doit être marqué au nom de l’enfant ;\n\n\n INFO DATES :\nLe site de Lanuéjouls sera ouvert du 7 juillet au 1 août 2025.\nLe site de Montbazens sera ouvert du 7 juillet au 8 août et du 25 août au 29 août.\nA noter les 2 sites de l’Accueil de Loisirs seront fermés pour congés annuels du 11 aout au 24 aout.\n\n\n Pour une inscription ou tout renseignement\, contactez l’équipe de l’accueil de loisirs au 06.08.18.58.85 ou alsh@centresocial-montbazens.fr ;\nLes réservations sont ouvertes dès aujourd’hui (par mail ou par l’espace famille) pour les familles résidents sur le plateau de Montbazens (Les Albres\, Peyrusse Le Roc\, Galgan\, Valzergues\, Montbazens\, Lugan\, Drulhe\, Vaureilles\, Roussennac\, Lanuéjouls\, Privezac\, Brandonnet\, Compolibat).\nL’ouverture des réservations pour les familles hors plateau de Montbazens se fera à partir du 28 juin 2025 ( par mail ou par l’espace famille)\n\n\nConcernant la validation des réservations\, elle sera effective si les familles sont à jour de leur dossier d’inscription et des règlements.
URL:https://www.centresocial-montbazens.fr/actualite/un-ete-a-laccueil-de-loisirs-2/
LOCATION:Aveyron
CATEGORIES:Pôle Accueil de Loisirs
ORGANIZER;CN="CSPM":MAILTO:contact@centresocial-montbazens.fr
END:VEVENT
END:VCALENDAR