BEGIN:VCALENDAR
VERSION:2.0
PRODID:-//Centre Social du Plateau de Montbazens - ECPv6.15.20//NONSGML v1.0//EN
CALSCALE:GREGORIAN
METHOD:PUBLISH
X-WR-CALNAME:Centre Social du Plateau de Montbazens
X-ORIGINAL-URL:https://www.centresocial-montbazens.fr
X-WR-CALDESC:Évènements pour Centre Social du Plateau de Montbazens
REFRESH-INTERVAL;VALUE=DURATION:PT1H
X-Robots-Tag:noindex
X-PUBLISHED-TTL:PT1H
BEGIN:VTIMEZONE
TZID:Europe/Paris
BEGIN:DAYLIGHT
TZOFFSETFROM:+0100
TZOFFSETTO:+0200
TZNAME:CEST
DTSTART:20240331T010000
END:DAYLIGHT
BEGIN:STANDARD
TZOFFSETFROM:+0200
TZOFFSETTO:+0100
TZNAME:CET
DTSTART:20241027T010000
END:STANDARD
BEGIN:DAYLIGHT
TZOFFSETFROM:+0100
TZOFFSETTO:+0200
TZNAME:CEST
DTSTART:20250330T010000
END:DAYLIGHT
BEGIN:STANDARD
TZOFFSETFROM:+0200
TZOFFSETTO:+0100
TZNAME:CET
DTSTART:20251026T010000
END:STANDARD
BEGIN:DAYLIGHT
TZOFFSETFROM:+0100
TZOFFSETTO:+0200
TZNAME:CEST
DTSTART:20260329T010000
END:DAYLIGHT
BEGIN:STANDARD
TZOFFSETFROM:+0200
TZOFFSETTO:+0100
TZNAME:CET
DTSTART:20261025T010000
END:STANDARD
END:VTIMEZONE
BEGIN:VEVENT
DTSTART;VALUE=DATE:20250618
DTEND;VALUE=DATE:20250619
DTSTAMP:20260422T030001
CREATED:20250528T085707Z
LAST-MODIFIED:20250528T085707Z
UID:11495-1750204800-1750291199@www.centresocial-montbazens.fr
SUMMARY:Recettes en Partage
DESCRIPTION:Nous vous donnons rendez-vous le Mercredi 18 Juin – de 9h à 14h (repas compris) pour une nouvelle animation « RECETTES EN PARTAGE » organisée par Anaïs – stagiaire au CSPM \nCe rendez-vous organisé en partenariat avec le Réseau des Médiathèques et la Médiathèque de Galgan aura lieu à la Salle des Associations de Galgan. \nL’idée : se retrouver autour de la préparation d’un repas – 🍲 On épluche\, on lave\, on coupe\, on rissole\, on cuit\, on fait mijoter… et On PARTAGE ! \nTout au long de ce temps de préparation des jeux seront à la disposition de chacun pour partager des temps ludiques tous ensemble ! \nPuis … on se retrouve autour de la table pour un repas partagé\, festif et convivial 😊. \nAnimation tout Public – Places Limitées \n👛 Tarifs : 5€/famille adhérente – 8€/famille non adhérente\n☎️ Inscriptions et renseignements auprès du CSPM au 05 65 80 45 47
URL:https://www.centresocial-montbazens.fr/actualite/recettes-en-partage/
LOCATION:Médiathèque de Galgan\, Galgan\, 12220\, France
CATEGORIES:Animations pour Tous,Pôle Famille
ATTACH;FMTTYPE=image/jpeg:https://www.centresocial-montbazens.fr/wp-content/uploads/2025/05/Atelier-du-18-juin.jpg
ORGANIZER;CN="CSPM":MAILTO:contact@centresocial-montbazens.fr
END:VEVENT
END:VCALENDAR