BEGIN:VCALENDAR
VERSION:2.0
PRODID:-//Centre Social du Plateau de Montbazens - ECPv6.15.20//NONSGML v1.0//EN
CALSCALE:GREGORIAN
METHOD:PUBLISH
X-WR-CALNAME:Centre Social du Plateau de Montbazens
X-ORIGINAL-URL:https://www.centresocial-montbazens.fr
X-WR-CALDESC:Évènements pour Centre Social du Plateau de Montbazens
REFRESH-INTERVAL;VALUE=DURATION:PT1H
X-Robots-Tag:noindex
X-PUBLISHED-TTL:PT1H
BEGIN:VTIMEZONE
TZID:Europe/Paris
BEGIN:DAYLIGHT
TZOFFSETFROM:+0100
TZOFFSETTO:+0200
TZNAME:CEST
DTSTART:20240331T010000
END:DAYLIGHT
BEGIN:STANDARD
TZOFFSETFROM:+0200
TZOFFSETTO:+0100
TZNAME:CET
DTSTART:20241027T010000
END:STANDARD
BEGIN:DAYLIGHT
TZOFFSETFROM:+0100
TZOFFSETTO:+0200
TZNAME:CEST
DTSTART:20250330T010000
END:DAYLIGHT
BEGIN:STANDARD
TZOFFSETFROM:+0200
TZOFFSETTO:+0100
TZNAME:CET
DTSTART:20251026T010000
END:STANDARD
BEGIN:DAYLIGHT
TZOFFSETFROM:+0100
TZOFFSETTO:+0200
TZNAME:CEST
DTSTART:20260329T010000
END:DAYLIGHT
BEGIN:STANDARD
TZOFFSETFROM:+0200
TZOFFSETTO:+0100
TZNAME:CET
DTSTART:20261025T010000
END:STANDARD
END:VTIMEZONE
BEGIN:VEVENT
DTSTART;VALUE=DATE:20250613
DTEND;VALUE=DATE:20250615
DTSTAMP:20260422T031814
CREATED:20250603T125820Z
LAST-MODIFIED:20250603T125821Z
UID:11538-1749772800-1749945599@www.centresocial-montbazens.fr
SUMMARY:Spectacle de Danse "Biodiversité"
DESCRIPTION:📒 Le Spectacle arrive 🤩 !!!! \nLes élèves de l’école de danse du Centre Social vous attendent nombreuses et nombreux pour découvrir leur nouveau spectacle intitulé « Biodiversité » chorégraphié et mis en scène par Sophie Rivière & Régis Bouchet. \n🗓 Pour l’occasion\, 2 rendez-vous vous sont proposés à la Salle de Spectacles de Montbazens :\n* le Vendredi 13 Juin à 20h30\net/ou\n* le Samedi 14 Juin à 17h30 \n🎟️ Billetterie ouverte au Centre Social à partir du Mardi 10 Juin. \n👛 Tarifs :\nEntrée Adulte : 10€\nEntrée 8 – 17 ans : 5€\nEntrée gratuite pour les enfants de moins de 8 ans \n☎️ Informations et réservations au Centre Social au 05.65.80.45.47 \n#cspm12 #CentreSocialduPlateaudeMontbazens #centresocial #Montbazens #PlateaudeMontbazens #spectaclededanse
URL:https://www.centresocial-montbazens.fr/actualite/spectacle-de-danse-biodiversite/
LOCATION:Salle de Spectacles – Montbazens\, Montbazens\, 12220\, France
CATEGORIES:Animations pour Tous,Pôle Activités
ATTACH;FMTTYPE=image/png:https://www.centresocial-montbazens.fr/wp-content/uploads/2025/06/Spectacle-Danse-25-Valide.png
ORGANIZER;CN="CSPM":MAILTO:contact@centresocial-montbazens.fr
END:VEVENT
END:VCALENDAR