BEGIN:VCALENDAR
VERSION:2.0
PRODID:-//Centre Social du Plateau de Montbazens - ECPv6.15.20//NONSGML v1.0//EN
CALSCALE:GREGORIAN
METHOD:PUBLISH
X-WR-CALNAME:Centre Social du Plateau de Montbazens
X-ORIGINAL-URL:https://www.centresocial-montbazens.fr
X-WR-CALDESC:Évènements pour Centre Social du Plateau de Montbazens
REFRESH-INTERVAL;VALUE=DURATION:PT1H
X-Robots-Tag:noindex
X-PUBLISHED-TTL:PT1H
BEGIN:VTIMEZONE
TZID:Europe/Paris
BEGIN:DAYLIGHT
TZOFFSETFROM:+0100
TZOFFSETTO:+0200
TZNAME:CEST
DTSTART:20240331T010000
END:DAYLIGHT
BEGIN:STANDARD
TZOFFSETFROM:+0200
TZOFFSETTO:+0100
TZNAME:CET
DTSTART:20241027T010000
END:STANDARD
BEGIN:DAYLIGHT
TZOFFSETFROM:+0100
TZOFFSETTO:+0200
TZNAME:CEST
DTSTART:20250330T010000
END:DAYLIGHT
BEGIN:STANDARD
TZOFFSETFROM:+0200
TZOFFSETTO:+0100
TZNAME:CET
DTSTART:20251026T010000
END:STANDARD
BEGIN:DAYLIGHT
TZOFFSETFROM:+0100
TZOFFSETTO:+0200
TZNAME:CEST
DTSTART:20260329T010000
END:DAYLIGHT
BEGIN:STANDARD
TZOFFSETFROM:+0200
TZOFFSETTO:+0100
TZNAME:CET
DTSTART:20261025T010000
END:STANDARD
END:VTIMEZONE
BEGIN:VEVENT
DTSTART;VALUE=DATE:20250524
DTEND;VALUE=DATE:20250525
DTSTAMP:20260422T051031
CREATED:20250519T133850Z
LAST-MODIFIED:20250519T133850Z
UID:11397-1748044800-1748131199@www.centresocial-montbazens.fr
SUMMARY:Fête du Centre Social
DESCRIPTION:La Fête du Centre Social arrive et s’annonce pleine de surprises ! \nA 11h : ASSEMBLEE GENERALE du Centre Social \nA partir de 12h30 : Repas Partagé : Chacun apporte salades\, plats cuisinés\, spécialités culinaires\, ou boissons à partager…sans oublier\, son sourire et sa bonne humeur ! \nDès 15h\, ateliers et activités pour petits et grands : \nPour les tout-petits (0-6 ans) \n* Parcours sensoriel\n* Création d’une fresque\n* Dessin Pshit\n* Découverte des tableaux Busy Board\n* Temps lecture « Des livres et des Bébés » \nDès 6 ans \n* Balade sensorielle\n* Création de porte-clés\, de balles anti-stress\, jeu de quilles\, chamboule-tout\, origami…\n* Stand Maquillage \nPour tous \n* Grand Jeu des Familles orchestré par le Club Ados\n* Ateliers créatifs et ados et adultes\n* Pause Lecture\n* Echanges et Dédicaces avec Nadia Creyssels autrice de “Il était une fouace …. en Aveyron”\n* Espace jeux de société et jeux d’extérieur\n* Représentation du groupe de Danseuses adultes du Centre Social \nEspace de Gratuité : \n* Donatèque de fringues\,\n* Donatèque de plantes\, graines\, boutures\, trucs et astuces autour du jardinage\n* Repair Café\n* Stand d’information sur le réseau de Partageurs « tootOtoor » et sur la création d’un service d’aide à la mobilité \nTout au long de l’après-midi\, Buvette et restauration sur place : Stand de Crêpes\, Pop Corn…\, Thé\, Café et Boissons Fraîches Locales ! \nOn vous attend nombreuses et nombreux ….Sens de l’accueil et convivialité assurés ! \n#cspm12 #CentreSocialduPlateaudeMontbazens #centresocial #Montbazens #PlateaudeMontbazens #FeteduCentreSocial
URL:https://www.centresocial-montbazens.fr/actualite/fete-du-centre-social-2/
LOCATION:Aire de Loisirs – Compolibat\, Compolibat\, 12350
CATEGORIES:Animations pour Tous
ATTACH;FMTTYPE=image/png:https://www.centresocial-montbazens.fr/wp-content/uploads/2025/05/Fete-du-CSPM-25-2-sur-1-1.png
ORGANIZER;CN="CSPM":MAILTO:contact@centresocial-montbazens.fr
END:VEVENT
BEGIN:VEVENT
DTSTART;VALUE=DATE:20250524
DTEND;VALUE=DATE:20250525
DTSTAMP:20260422T051031
CREATED:20250519T140223Z
LAST-MODIFIED:20250519T140223Z
UID:11400-1748044800-1748131199@www.centresocial-montbazens.fr
SUMMARY:Assemblée Générale du Centre Social
DESCRIPTION:L’Assemblée Générale du Centre Social : c’est Samedi 24 Mai à 11h\, à Compolibat ! On vous attend nombreux.ses 😃. \nD’ici là\, retrouvez la rétrospective 2024 des actions menées par les différents pôles du Centre Social ! \nBonne Lecture 😉! \n\nCentre Social du Plateau de Montbazens – Rapport d’activités 2024\n \nPublish at Calameo
URL:https://www.centresocial-montbazens.fr/actualite/assemblee-generale-du-centre-social-2/
LOCATION:Aire de Loisirs – Compolibat\, Compolibat\, 12350
CATEGORIES:Animations pour Tous
ATTACH;FMTTYPE=image/png:https://www.centresocial-montbazens.fr/wp-content/uploads/2025/05/Invitation-AG-2025.png
ORGANIZER;CN="CSPM":MAILTO:contact@centresocial-montbazens.fr
END:VEVENT
END:VCALENDAR