BEGIN:VCALENDAR
VERSION:2.0
PRODID:-//Centre Social du Plateau de Montbazens - ECPv6.15.20//NONSGML v1.0//EN
CALSCALE:GREGORIAN
METHOD:PUBLISH
X-ORIGINAL-URL:https://www.centresocial-montbazens.fr
X-WR-CALDESC:Évènements pour Centre Social du Plateau de Montbazens
REFRESH-INTERVAL;VALUE=DURATION:PT1H
X-Robots-Tag:noindex
X-PUBLISHED-TTL:PT1H
BEGIN:VTIMEZONE
TZID:Europe/Paris
BEGIN:DAYLIGHT
TZOFFSETFROM:+0100
TZOFFSETTO:+0200
TZNAME:CEST
DTSTART:20240331T010000
END:DAYLIGHT
BEGIN:STANDARD
TZOFFSETFROM:+0200
TZOFFSETTO:+0100
TZNAME:CET
DTSTART:20241027T010000
END:STANDARD
BEGIN:DAYLIGHT
TZOFFSETFROM:+0100
TZOFFSETTO:+0200
TZNAME:CEST
DTSTART:20250330T010000
END:DAYLIGHT
BEGIN:STANDARD
TZOFFSETFROM:+0200
TZOFFSETTO:+0100
TZNAME:CET
DTSTART:20251026T010000
END:STANDARD
BEGIN:DAYLIGHT
TZOFFSETFROM:+0100
TZOFFSETTO:+0200
TZNAME:CEST
DTSTART:20260329T010000
END:DAYLIGHT
BEGIN:STANDARD
TZOFFSETFROM:+0200
TZOFFSETTO:+0100
TZNAME:CET
DTSTART:20261025T010000
END:STANDARD
END:VTIMEZONE
BEGIN:VEVENT
DTSTART;VALUE=DATE:20250522
DTEND;VALUE=DATE:20250523
DTSTAMP:20260422T045149
CREATED:20250502T141112Z
LAST-MODIFIED:20250502T141112Z
UID:11262-1747872000-1747958399@www.centresocial-montbazens.fr
SUMMARY:Séance "Des Livres et des Bébés"
DESCRIPTION:Nous vous donnons rendez-vous ce Mardi 22 Mai – de 16h30 à 17h45 au Centre Social pour nouveau rendez-vous « Des Livres et des Bébés » \nUn temps de lecture Parents-Enfants pour lire avec les bébés et découvrir des albums jeunesse adaptés ! \nOuvert aux Futurs parents\, Parents\, Grands-Parents avec ou sans enfants de 0 à 3 ans \nGratuit sans inscription – Infos au CSPM – 05 65 80 45 47 \nSoyez les Bienvenus ! Vous arrivez quand vous le pouvez et partez quand vous le voulez 😉!
URL:https://www.centresocial-montbazens.fr/actualite/seance-des-livres-et-des-bebes-2/
LOCATION:Médiathèque de Galgan\, Galgan\, 12220\, France
CATEGORIES:Pôle Famille
ATTACH;FMTTYPE=image/png:https://www.centresocial-montbazens.fr/wp-content/uploads/2025/05/22-Mai-Salle-Segala-DLDB.png
ORGANIZER;CN="CSPM":MAILTO:contact@centresocial-montbazens.fr
END:VEVENT
END:VCALENDAR