BEGIN:VCALENDAR
VERSION:2.0
PRODID:-//Centre Social du Plateau de Montbazens - ECPv6.15.20//NONSGML v1.0//EN
CALSCALE:GREGORIAN
METHOD:PUBLISH
X-WR-CALNAME:Centre Social du Plateau de Montbazens
X-ORIGINAL-URL:https://www.centresocial-montbazens.fr
X-WR-CALDESC:Évènements pour Centre Social du Plateau de Montbazens
REFRESH-INTERVAL;VALUE=DURATION:PT1H
X-Robots-Tag:noindex
X-PUBLISHED-TTL:PT1H
BEGIN:VTIMEZONE
TZID:Europe/Paris
BEGIN:DAYLIGHT
TZOFFSETFROM:+0100
TZOFFSETTO:+0200
TZNAME:CEST
DTSTART:20240331T010000
END:DAYLIGHT
BEGIN:STANDARD
TZOFFSETFROM:+0200
TZOFFSETTO:+0100
TZNAME:CET
DTSTART:20241027T010000
END:STANDARD
BEGIN:DAYLIGHT
TZOFFSETFROM:+0100
TZOFFSETTO:+0200
TZNAME:CEST
DTSTART:20250330T010000
END:DAYLIGHT
BEGIN:STANDARD
TZOFFSETFROM:+0200
TZOFFSETTO:+0100
TZNAME:CET
DTSTART:20251026T010000
END:STANDARD
BEGIN:DAYLIGHT
TZOFFSETFROM:+0100
TZOFFSETTO:+0200
TZNAME:CEST
DTSTART:20260329T010000
END:DAYLIGHT
BEGIN:STANDARD
TZOFFSETFROM:+0200
TZOFFSETTO:+0100
TZNAME:CET
DTSTART:20261025T010000
END:STANDARD
END:VTIMEZONE
BEGIN:VEVENT
DTSTART;VALUE=DATE:20250414
DTEND;VALUE=DATE:20250426
DTSTAMP:20260422T065734
CREATED:20250401T143502Z
LAST-MODIFIED:20250401T143502Z
UID:10997-1744588800-1745625599@www.centresocial-montbazens.fr
SUMMARY:Les Vacances de Printemps à l'Accueil de Loisirs
DESCRIPTION:Le printemps s’installe à l’Accueil de Loisirs  et l’équipe d’animation a concocté un joli programme dédié à la Nature pour les vacances qui seront très vite là  !Les réservations sont donc ouvertes :* dès à présent pour les familles du Plateau de Montbazens (13 communes)* à partir du 1 avril pour les familles résidant hors Plateau de MontbazensLe site de Montbazens sera ouvert du 14 au 25 avril 2025 et le site de Lanuéjouls : du 14 au 18 avril 2025.Les réservations se font par : * mail à l’adresse : alsh@centresocial-montbazens.fr* l’espace famille ( lien à demander par mail pour la première connexion)
URL:https://www.centresocial-montbazens.fr/actualite/les-vacances-de-printemps-a-laccueil-de-loisirs/
LOCATION:Aveyron
CATEGORIES:Pôle Accueil de Loisirs
ATTACH;FMTTYPE=image/png:https://www.centresocial-montbazens.fr/wp-content/uploads/2025/04/Printemps-2025.png
ORGANIZER;CN="CSPM":MAILTO:contact@centresocial-montbazens.fr
END:VEVENT
BEGIN:VEVENT
DTSTART;VALUE=DATE:20250414
DTEND;VALUE=DATE:20250426
DTSTAMP:20260422T065734
CREATED:20250404T145020Z
LAST-MODIFIED:20250404T145020Z
UID:11025-1744588800-1745625599@www.centresocial-montbazens.fr
SUMMARY:Vacances de Printemps au Club Ados
DESCRIPTION:Petit message à l’attention des Ados  !\n\n\nLe programme des vacances au 𝐂𝐥𝐮𝐛 𝐀𝐝𝐨𝐬 est fin prêt !\n\n\nRetrouvez-le en ligne ainsi que les documents d’inscription pour les nouveaux venus sur notre site à l’adresse : www.centresocial-montbazens.fr/club-ados/ !\n\n\nLa 1ère semaine (14 au 18 avril): Un gros projet démarre pour la première semaine des vacances : Un projet réalisé par le Club Ados pour la fête du Centre Social.\n\n\nL’idée de cette semaine va être de créer de A à Z\, un escape game grandeur nature ! Nous serons accompagnés par un intervenant extérieur spécialisé dans la création d’escape game. Il nous apportera son savoir faire\, des conseils et un tas de matériel pour nous permettre d’inventer un jeu fun et ludique.\n\n\nLa semaine suivante (22 au 25 avril)\, Romain vous propose différentes activités : Bowling du lot – Chantier bénévole avec l’association « Le Bastidou » à Peyrusse le Roc – Après-midi jeux à l’EHPAD de Lugan – Paintball.\n\n\nVous pouvez vous inscrire via le lien framadate suivant : https://framadate.org/RoJb8WuMfA4GQL4s\n\n\n 𝗘𝘁 𝗻’𝗵𝗲́𝘀𝗶𝘁𝗲𝘇 𝗽𝗮𝘀 𝗮̀ 𝗲𝗻 𝗽𝗮𝗿𝗹𝗲𝗿 𝗮𝘂𝘁𝗼𝘂𝗿 𝗱𝗲 𝘃𝗼𝘂𝘀\, 𝗹𝗲𝘀 𝗽𝗼𝗿𝘁𝗲𝘀 𝘀𝗼𝗻𝘁 𝗼𝘂𝘃𝗲𝗿𝘁𝗲𝘀 𝗮̀ 𝘁𝗼𝘂𝘀  !\n\n\n* 𝐏𝐨𝐮𝐫 𝐥𝐞𝐬 𝐧𝐨𝐮𝐯𝐞𝐚𝐮𝐱\, inscrivez votre nom et prénom\, puis prenez contact avec 𝐑𝐨𝐦𝐚𝐢𝐧 ou le centre social pour effectuer les démarches nécessaires pour l’inscription : 𝟎𝟔-𝟕𝟒-𝟕𝟐-𝟑𝟎-𝟗𝟕 ou 05-65-80-45-47\n* Pour les autres\, inscrivez votre nom et prénom\, veillez à ce que votre adhésion soit toujours à jour.\n\n\nImportant ! Pour les sorties\, les règlements se feront de préférence par chèque et seront demandés au départ du minibus.
URL:https://www.centresocial-montbazens.fr/actualite/vacances-de-printemps-au-club-ados/
LOCATION:Centre Social du Plateau de Montbazens\, 16 Chemin du Tournevic\, Montbazens\, 12220\, France
CATEGORIES:Pôle Jeunesse
ATTACH;FMTTYPE=image/jpeg:https://www.centresocial-montbazens.fr/wp-content/uploads/2025/04/Programme-Printemps-25.jpg
ORGANIZER;CN="CSPM":MAILTO:contact@centresocial-montbazens.fr
END:VEVENT
BEGIN:VEVENT
DTSTART;VALUE=DATE:20250415
DTEND;VALUE=DATE:20250416
DTSTAMP:20260422T065734
CREATED:20250204T101519Z
LAST-MODIFIED:20250204T101519Z
UID:10401-1744675200-1744761599@www.centresocial-montbazens.fr
SUMMARY:Café Numérique
DESCRIPTION:𝐎𝐧 𝐬𝐞 𝐫𝐞𝐭𝐫𝐨𝐮𝐯𝐞 𝐌𝐚𝐫𝐝𝐢 au Centre Social 😀 ! \nTous les 15 jours\, selon calendrier pré-établi\, le Centre Social vous propose un nouveau rendez-vous d’échanges de savoirs : « 𝐋𝐞 𝐂𝐚𝐟𝐞́ 𝐍𝐮𝐦𝐞́𝐫𝐢𝐪𝐮𝐞 » ! \n𝐕𝐞𝐧𝐞𝐳 𝐚𝐯𝐞𝐜 𝐨𝐮 𝐬𝐚𝐧𝐬 𝐯𝐨𝐭𝐫𝐞 𝐏𝐂 𝐞𝐭 𝐨𝐮 𝐬𝐦𝐚𝐫𝐭𝐩𝐡𝐨𝐧𝐞 / 𝐭𝐚𝐛𝐥𝐞𝐭𝐭𝐞 𝐩𝐚𝐫𝐭𝐚𝐠𝐞𝐫\, 𝐪𝐮𝐞𝐬𝐭𝐢𝐨𝐧𝐧𝐞𝐫 𝐞𝐭 𝐚𝐩𝐩𝐫𝐞𝐧𝐝𝐫𝐞 𝐝𝐚𝐧𝐬 𝐮𝐧𝐞 𝐚𝐦𝐛𝐢𝐚𝐧𝐜𝐞 𝐜𝐨𝐧𝐯𝐢𝐯𝐢𝐚𝐥𝐞 ! \n* vous vous interrogez sur le fonctionnement d’une application particulière ou d’un logiciel\,\n* vous aimeriez être plus à l’aise avec l’outil informatique\, Internet …\n* vous cherchez des trucs et astuces pour être plus efficace face à votre écran …? \net / ou \nVous avez des connaissances – même basiques – dans les domaines de l’𝐢𝐧𝐟𝐨𝐫𝐦𝐚𝐭𝐢𝐪𝐮𝐞 𝐞𝐭 𝐝𝐞𝐬 𝐧𝐨𝐮𝐯𝐞𝐥𝐥𝐞𝐬 𝐭𝐞𝐜𝐡𝐧𝐨𝐥𝐨𝐠𝐢𝐞𝐬 ? \nVous savez :\n* envoyer un mail ou naviguer sur Internet ?\n* utiliser un outil de traitement de texte ou un tableur ?\n* partager des photos à partir de votre téléphone ?\n* remplir un formulaire en ligne ?\n* utiliser les applications permettant le lien avec l’établissement scolaire de votre enfant ?\n* …etc… \n𝐔𝐧 𝐦𝐚𝐢̂𝐭𝐫𝐞-𝐦𝐨𝐭 : 𝐏𝐀𝐑𝐓𝐀𝐆𝐄 ! \nNous avons toutes et tous des choses à apprendre les uns des autres et il n’y a pas de « petit savoir »\, toute connaissance et toute expérience sont bonnes à échanger ! \n\nN’hésitez pas à en parler autour de vous et à venir avec un ou plusieurs amis. Plus nous serons nombreux\, plus nos échanges seront fructueux !\n\n\n\nGrâce au soutien financier de la CARSAT Midi-Pyrénées\, de la MSA et de la région Occitanie\, ces rendez-vous sont gratuits pour les adhérents au Centre Social (adhésion familiale 24-25 : 16€ pour les habitants du Plateau de Montbazens ou 19€ si vous résidez hors Communauté de Communes).\n\n\nA très vite donc au Centre Social ! \nInformation complémentaire au 05.65.80.45.47
URL:https://www.centresocial-montbazens.fr/actualite/cafe-numerique-32/
LOCATION:Centre Social du Plateau de Montbazens\, 16 Chemin du Tournevic\, Montbazens\, 12220\, France
CATEGORIES:Animations pour Tous
ATTACH;FMTTYPE=image/png:https://www.centresocial-montbazens.fr/wp-content/uploads/2024/09/Cafes-Numeriques.png
ORGANIZER;CN="CSPM":MAILTO:contact@centresocial-montbazens.fr
END:VEVENT
END:VCALENDAR