BEGIN:VCALENDAR
VERSION:2.0
PRODID:-//Centre Social du Plateau de Montbazens - ECPv6.15.20//NONSGML v1.0//EN
CALSCALE:GREGORIAN
METHOD:PUBLISH
X-WR-CALNAME:Centre Social du Plateau de Montbazens
X-ORIGINAL-URL:https://www.centresocial-montbazens.fr
X-WR-CALDESC:Évènements pour Centre Social du Plateau de Montbazens
REFRESH-INTERVAL;VALUE=DURATION:PT1H
X-Robots-Tag:noindex
X-PUBLISHED-TTL:PT1H
BEGIN:VTIMEZONE
TZID:Europe/Paris
BEGIN:DAYLIGHT
TZOFFSETFROM:+0100
TZOFFSETTO:+0200
TZNAME:CEST
DTSTART:20240331T010000
END:DAYLIGHT
BEGIN:STANDARD
TZOFFSETFROM:+0200
TZOFFSETTO:+0100
TZNAME:CET
DTSTART:20241027T010000
END:STANDARD
BEGIN:DAYLIGHT
TZOFFSETFROM:+0100
TZOFFSETTO:+0200
TZNAME:CEST
DTSTART:20250330T010000
END:DAYLIGHT
BEGIN:STANDARD
TZOFFSETFROM:+0200
TZOFFSETTO:+0100
TZNAME:CET
DTSTART:20251026T010000
END:STANDARD
BEGIN:DAYLIGHT
TZOFFSETFROM:+0100
TZOFFSETTO:+0200
TZNAME:CEST
DTSTART:20260329T010000
END:DAYLIGHT
BEGIN:STANDARD
TZOFFSETFROM:+0200
TZOFFSETTO:+0100
TZNAME:CET
DTSTART:20261025T010000
END:STANDARD
END:VTIMEZONE
BEGIN:VEVENT
DTSTART;VALUE=DATE:20250219
DTEND;VALUE=DATE:20250220
DTSTAMP:20260422T102142
CREATED:20250129T093213Z
LAST-MODIFIED:20250129T093423Z
UID:10312-1739923200-1740009599@www.centresocial-montbazens.fr
SUMMARY:Atelier DIY Parents-Enfants Fabrication de Pâte à Modeler Comestible
DESCRIPTION:Lola vous donne rendez-vous le Mercredi 19 Février – de 10h à 11h30 – pour un Atelier DIY Parents-Enfants à destination des 3-6 ans. \nAu menu : « Fabrication de Pâte à Modeler Comestible » \nL’idée : Vivre un temps de partage en famille en apprenant une recette simple et facile à refaire chez soi ! \n📍 au Centre Social à Montbazens\n👛 Gratuit/enfant adhérents\, 5€/enfant non adhérent\n☎️ Infos au CSPM – 05 65 80 45 47
URL:https://www.centresocial-montbazens.fr/actualite/atelier-diy-parents-enfants-fabrication-de-pate-a-modeler-comestible/
LOCATION:Centre Social du Plateau de Montbazens\, 16 Chemin du Tournevic\, Montbazens\, 12220\, France
CATEGORIES:Pôle Famille
ATTACH;FMTTYPE=image/jpeg:https://www.centresocial-montbazens.fr/wp-content/uploads/2025/01/Affiche-P-E-DIY-Pate-a-modeler-Fevrier.jpg
ORGANIZER;CN="CSPM":MAILTO:contact@centresocial-montbazens.fr
END:VEVENT
BEGIN:VEVENT
DTSTART;VALUE=DATE:20250219
DTEND;VALUE=DATE:20250220
DTSTAMP:20260422T102142
CREATED:20250129T104051Z
LAST-MODIFIED:20250129T104051Z
UID:10317-1739923200-1740009599@www.centresocial-montbazens.fr
SUMMARY:Atelier DIY Parents-Enfants "Fabrication de Boules de Bain ou de Douche"
DESCRIPTION:Et hop ! Un atelier pour les plus grands ! \nRendez-vous le Mercredi 19 Février – de 14h à 15h30 – avec Lola – pour un Atelier DIY Parents-Enfants pour les 5 ans et + « Fabrication de Boules de Bain ou de Douche » \nL’idée : Vivre un temps de partage en famille en apprenant une recette simple et facile à refaire chez soi ! \n📍 au Centre Social à Montbazens\n👛 Gratuit/enfant adhérents\, 5€/enfant non adhérent\n☎️ Infos au CSPM – 05 65 80 45 47
URL:https://www.centresocial-montbazens.fr/actualite/atelier-diy-parents-enfants-fabrication-de-boules-de-bain-ou-de-douche/
LOCATION:Centre Social du Plateau de Montbazens\, 16 Chemin du Tournevic\, Montbazens\, 12220\, France
CATEGORIES:Pôle Famille
ATTACH;FMTTYPE=image/jpeg:https://www.centresocial-montbazens.fr/wp-content/uploads/2025/01/Affiche-P-E-DIY-Bombes-de-bain-Fevrier.jpg
ORGANIZER;CN="CSPM":MAILTO:contact@centresocial-montbazens.fr
END:VEVENT
END:VCALENDAR