BEGIN:VCALENDAR
VERSION:2.0
PRODID:-//Centre Social du Plateau de Montbazens - ECPv6.15.20//NONSGML v1.0//EN
CALSCALE:GREGORIAN
METHOD:PUBLISH
X-WR-CALNAME:Centre Social du Plateau de Montbazens
X-ORIGINAL-URL:https://www.centresocial-montbazens.fr
X-WR-CALDESC:Évènements pour Centre Social du Plateau de Montbazens
REFRESH-INTERVAL;VALUE=DURATION:PT1H
X-Robots-Tag:noindex
X-PUBLISHED-TTL:PT1H
BEGIN:VTIMEZONE
TZID:Europe/Paris
BEGIN:DAYLIGHT
TZOFFSETFROM:+0100
TZOFFSETTO:+0200
TZNAME:CEST
DTSTART:20230326T010000
END:DAYLIGHT
BEGIN:STANDARD
TZOFFSETFROM:+0200
TZOFFSETTO:+0100
TZNAME:CET
DTSTART:20231029T010000
END:STANDARD
BEGIN:DAYLIGHT
TZOFFSETFROM:+0100
TZOFFSETTO:+0200
TZNAME:CEST
DTSTART:20240331T010000
END:DAYLIGHT
BEGIN:STANDARD
TZOFFSETFROM:+0200
TZOFFSETTO:+0100
TZNAME:CET
DTSTART:20241027T010000
END:STANDARD
BEGIN:DAYLIGHT
TZOFFSETFROM:+0100
TZOFFSETTO:+0200
TZNAME:CEST
DTSTART:20250330T010000
END:DAYLIGHT
BEGIN:STANDARD
TZOFFSETFROM:+0200
TZOFFSETTO:+0100
TZNAME:CET
DTSTART:20251026T010000
END:STANDARD
BEGIN:DAYLIGHT
TZOFFSETFROM:+0100
TZOFFSETTO:+0200
TZNAME:CEST
DTSTART:20260329T010000
END:DAYLIGHT
BEGIN:STANDARD
TZOFFSETFROM:+0200
TZOFFSETTO:+0100
TZNAME:CET
DTSTART:20261025T010000
END:STANDARD
END:VTIMEZONE
BEGIN:VEVENT
DTSTART;VALUE=DATE:20241230
DTEND;VALUE=DATE:20250104
DTSTAMP:20260422T114443
CREATED:20241223T193721Z
LAST-MODIFIED:20250401T142937Z
UID:9954-1735516800-1735948799@www.centresocial-montbazens.fr
SUMMARY:Les Vacances de Noël à l'Accueil de Loisirs
DESCRIPTION:C’est parti  ! Le programme festif de l’𝐀𝐜𝐜𝐮𝐞𝐢𝐥 𝐝𝐞 𝐋𝐨𝐢𝐬𝐢𝐫𝐬 pour les Vacances de Noël est fin prêt :Les réservations sont ouvertes :* à partir d’aujourd’hui pour les familles du plateau de Montbazens (13 communes)* à partir du 9 décembre pour les familles résidents hors plateau de MontbazensA noter : La sortie cinéma sera maintenue sous réserve de film adapté à tous publics𝐋𝐞 𝐬𝐢𝐭𝐞 𝐝𝐞 𝐌𝐨𝐧𝐭𝐛𝐚𝐳𝐞𝐧𝐬 𝐬𝐞𝐫𝐚 𝐨𝐮𝐯𝐞𝐫𝐭 𝐝𝐮 𝟑𝟎 𝐝𝐞́𝐜𝐞𝐦𝐛𝐫𝐞 𝐚𝐮 𝟑 𝐣𝐚𝐧𝐯𝐢𝐞𝐫 (𝐟𝐞𝐫𝐦𝐞𝐭𝐮𝐫𝐞 𝐥𝐚 𝐩𝐫𝐞𝐦𝐢𝐞̀𝐫𝐞 𝐬𝐞𝐦𝐚𝐢𝐧𝐞 𝐞𝐭 𝐥𝐞 𝟏 𝐣𝐚𝐧𝐯𝐢𝐞𝐫) 𝐞𝐭 𝐥𝐞 𝐬𝐢𝐭𝐞 𝐝𝐞 𝐋𝐚𝐧𝐮𝐞́𝐣𝐨𝐮𝐥𝐬 𝐬𝐞𝐫𝐚 𝐟𝐞𝐫𝐦𝐞́ 𝐥𝐞𝐬 𝐝𝐞𝐮𝐱 𝐬𝐞𝐦𝐚𝐢𝐧𝐞𝐬 ;Les réservations se font par :* mail : alsh@centresocial-montbazens.fr* ou via l’espace famille (lien à demander par mail pour la première connexion)
URL:https://www.centresocial-montbazens.fr/actualite/les-vacances-de-noel-a-laccueil-de-loisirs/
LOCATION:Aveyron
CATEGORIES:Pôle Accueil de Loisirs
ATTACH;FMTTYPE=image/jpeg:https://www.centresocial-montbazens.fr/wp-content/uploads/2024/12/alsh2.jpg
ORGANIZER;CN="CSPM":MAILTO:contact@centresocial-montbazens.fr
END:VEVENT
END:VCALENDAR